Workbook

Sheet Kangatang

Sheet Biểu Ctrinh  MTQG về ma túy, VH
A1: PHỤ BIỂU PHÂN BỔ KINH PHÍ THƯỜNG XUYÊN NĂM 2026 THỰC HIỆN CHƯƠNG TRÌNH MỤC TIÊU QUỐC GIA VỀ PHÒNG CHỐNG MA TÚY ĐẾN NĂM 2030; CHƯƠNG TRÌNH MỤC TIÊU QUỐC GIA VỀ PHÁT TRIỂN VĂN HÓA GIAI ĐOẠN 2025-2035, GIAI ĐOẠN I TỪ NĂM 2025-2030
A2: (Kèm theo Nghị quyết số 34/NQ-HĐND, ngày 27/8/2026 của HĐND xã Phú Xuyên)
F3: ĐVT: Đồng
A4: SỐ TT | B4: NỘI DUNG | C4: TỔNG SỐ | D4: TRONG ĐÓ | F4: Đơn vị thực hiện | G4: Ghi chú (Trích dẫn VB chi)
D5: NGÂN SÁCH TRUNG ƯƠNG | E5: NGÂN SÁCH TỈNH
B6: TỔNG SỐ | C6: =C7+C16 -> 1047000000 | D6: =D7+D16 -> 909000000 | E6: =E7+E16 -> 138000000
A7: I | B7: Kinh phí sự nghiệp thực hiện Chương trình mục tiêu quốc gia phòng, chống ma túy đến năm 2030 | C7: =SUM(C8:C15) -> 450000000 | D7: =SUM(D8:D15) -> 450000000
A8: 1 | B8: Dự án 4: Nâng cao hiệu quả công tác phòng, chống ma túy ở cơ sở | C8: =D8+E8 -> 270000000 | D8: 270000000 | F8: Công an xã Phú Xuyên | G8: Điều 11, Thông tư 147/TT-BTC ngày 31/12/2025
A9: 2 | B9: Dự án 5: Nâng cao hiệu quả cai nghiện ma túy và quản lý sau cai | C9: =D9 -> 50000000 | D9: 50000000 | F9: Công an xã Phú Xuyên | G9: Điều 12, Thông tư 147/TT-BTC ngày 31/12/2025
A10: 3 | B10: Dự án 6 - Tăng cường đáp ứng y tế trong phòng chống ma túy | C10: =D10+E10 -> 20000000 | D10: 20000000 | F10: Trạm y tế xã Phú Xuyên | G10: Điều 13, Thông tư 147/TT-BTC ngày 31/12/2025
A11: 4 | B11: Dự án 7 - Truyền thông, giáo dục về phòng chống ma túy | C11: =D11+E11 -> 20000000 | D11: 20000000 | F11: Trung tâm dịch vụ tổng hợp xã xã Phú Xuyên | G11: Điều 14, Thông tư 147/TT-BTC ngày 31/12/2025
C12: 20000000 | D12: 20000000 | F12: Ủy ban Mặt trận tổ quốc xã Phú Xuyên
A13: 5 | B13: Dự án 8 - Nâng cao khả năng tiếp cận, thụ hưởng về dịch vụ trợ giúp pháp lý chất lượng và giáo dục pháp luật trong phòng chống ma túy | C13: =D13 -> 20000000 | D13: 20000000 | F13: Các trường THCS trên địa bàn xã | G13: Điều 15, Thông tư 147/TT-BTC ngày 31/12/2025
C14: =D14 -> 30000000 | D14: 30000000 | F14: Văn phòng HĐND và UBND xã
C15: =D15 -> 20000000 | D15: 20000000 | F15: Phòng Kinh tế xã Phú Xuyên
A16: II | B16: Chương trình mục tiêu quốc gia về phát triển văn hoá giai đoạn 2025-2030, giai đoạn I từ năm 2025 đến năm 2030 | C16: =C17+C21+C23+C25 -> 597000000 | D16: =D17+D21+D23+D25 -> 459000000 | E16: =E17+E21+E23+E25 -> 138000000
A17: 1 | B17: Nội dung thành phần số 1. Phát triển con người Việt Nam có nhân cách và lối sống tốt đẹp | C17: =SUM(C18:C20) -> 160000000 | D17: =SUM(D18:D20) -> 123000000 | E17: =SUM(E18:E20) -> 37000000
A18: 1.1 | B18: Tập huấn kỹ năng tổ chức, quản lý và vận hành đội, nhóm, CLB thể dục, thể thao quần chúng tại trường học (Thực hiện nội dung 1.3.2 của Chương trình ban hành theo QĐ số 3399/QĐ-BVHTTDL; mục 3.4 điểm b1,b2 phụ lục 01 thông tư 07/2026/TT-BVHTTDL) | C18: 60000000 | D18: =C18-E18 -> 46120000 | E18: 13880000 | F18: Phòng Văn hóa - Xã hội xã Phú Xuyên | G18: Điều 5 và điều 18, thông tư 75/2026/TT-BTC ngày 25/6/2026
A19: 1.2 | B19: Hội nghị triển khai hệ giá trị gia đình Việt Nam, bộ tiêu chí ứng xử trong gia đình (Thực hiện nội dung 1.4.1 của Chương trình ban hành theo QĐ số 3399/QĐ-BVHTTDL; mục 3.6 điểm b phụ lục 01 thông tư 07/2026/TT-BVHTTDL) | C19: 60000000 | D19: =C19-E19 -> 46120000 | E19: 13880000 | F19: Phòng Văn hóa - Xã hội xã Phú Xuyên | G19: Điều 5 và điều 18, thông tư 75/2026/TT-BTC ngày 25/6/2027
A20: 1.3 | B20: Tổ chức triển khai các mô hình can thiệp, phòng ngừa và ứng phó bạo lực gia đình (Thực hiện nội dung 1.4.2 của Chương trình ban hành theo QĐ số 3399/QĐ-BVHTTDL; mục 3.7 điểm b1 phụ lục 01 thông tư 07/2026/TT-BVHTTDL) | C20: 40000000 | D20: =C20-E20 -> 30760000 | E20: =C20*23.1% -> 9240000 | F20: Ủy ban Mặt trận tổ quốc xã Phú Xuyên | G20: Điều 16 và điều 18, thông tư 75/2026/TT-BTC ngày 25/6/2028
A21: 2 | B21: Nội dung thành phần số 2: Xây dựng môi trường văn hóa lành mạnh, văn minh; phát triển hệ thống hạ tầng, cảnh quan, thiết chế văn hóa đồng bộ, hiệu quả | C21: =D21+E21 -> 216000000 | D21: =D22 -> 166000000 | E21: =E22 -> 50000000
A22: 2.1 | B22: Hỗ trợ phát triển văn hóa đọc gắn với các thiết chế thư viện (Thực hiện nội dung 2.5.1 của Chương trình ban hành theo QĐ số 3399/QĐ-BVHTTDL; mục 3.4 điểm b3, c3 phụ lục 02 thông tư 07/2026/TT-BVHTTDL) | C22: 216000000 | D22: =C22-E22 -> 166000000 | E22: 50000000 | F22: Phòng Văn hóa - Xã hội xã Phú Xuyên | G22: Mục 4 Điều 19 thông tư 75/2026/TT-BTC ngày 25/6/2028
A23: 3 | B23: Nội dung thành phần số 3: Nâng cao hiệu quả thông tin tuyên truyền và giáo dục văn hóa | C23: =D23+E23 -> 20000000 | D23: 15400000 | E23: 4600000
A24: 3.1 | B24: Tiếp tục triển khai các phương thức tuyên truyền cổ động trực quan (Thực hiện nội dung 3.1.6 của Chương trình ban hành theo QĐ số 3399/QĐ-BVHTTDL; mục 3.1.5.1 điểm d phụ lục 03 thông tư 07/2026/TT-BVHTTDL) | C24: 20000000 | D24: 15400000 | E24: 4600000 | F24: Trung tâm dịch vụ tổng hợp xã xã Phú Xuyên | G24: Điều 20 thông tư 75/2026/TT-BTC ngày 25/6/2028
A25: 4 | B25: Nội dung thành phần số 7: Đẩy mạnh chuyển đổi số và ứng dụng các thành tựu khoa học và công nghệ trong lĩnh vực văn hóa | C25: 201000000 | D25: 154600000 | E25: 46400000
A26: 4.1 | B26: Triển khai số hóa dữ liệu về di tích (Thực hiện nội dung 7.2.3 của Chương trình ban hành theo QĐ số 3399/QĐ-BVHTTDL; mục 3.2.3 điểm a phụ lục 07 thông tư 07/2026/TT-BVHTTDL) | C26: 201000000 | D26: 154600000 | E26: 46400000 | F26: Phòng Văn hóa - Xã hội xã Phú Xuyên | G26: Điều 8 thông tư 75/2026/TT-BTC ngày 25/6/2028

Sheet DT
A2: PHỤ BIỂU PHÂN BỔ KINH PHÍ THƯỜNG XUYÊN NĂM 2026 THỰC HIỆN CHƯƠNG TRÌNH MỤC TIÊU QUỐC GIA VỀ PHÒNG CHỐNG MA TÚY ĐẾN NĂM 2030; CHƯƠNG TRÌNH MỤC TIÊU QUỐC GIA VỀ PHÁT TRIỂN VĂN HÓA GIAI ĐOẠN 2025-2030, GIAI ĐOẠN I TỪ NĂM 2025-2030
A3: (Kèm theo Tờ trình số /TTr-UBND, ngày /7/2026 của UBND xã Hợp Thành)
H4: ĐVT: Đồng
A5: Số TT | B5: Đơn vị/Nội dung | C5: Mã DV QHNS | D5: Mã Chương | E5: Loại, khoản | F5: Mã nguồn | G5: Số tiền | H5: Ghi chú
B7: TỔNG SỐ
A8: 1 | B8: Công an xã | C8: 9128163 | D8: 860 | E8: 340-041 | F8: 12 | G8: =SUM(G9:G12) -> -389040000 | H8: =SUM(H9:H9) -> 0 | I8: 517040000 | J8: =SUM(J9:J11) -> 128000000
A9: - | B9: Chi hoạt động đảm bảo ANTT theo phân cấp | G9: =-(180000000-108000000) -> -72000000 | I9: 389040000 | J9: 20000000
A10: - | B10: Người được phân công trực tiếp giúp đỡ người được giáo dục tại xã theo Nghị quyết số 35/2022/NQ-HĐND | G10: -5000000 | H10: =SUM(H11:H11) -> 0 | I10: 128000000 | J10: 60000000
A11: - | B11: Đảm bảo an ninh trật tự trên địa bàn … | G11: -298000000 | J11: =I10-J9-J10 -> 48000000
A12: - | B12: Thù lao đối với người được giao nhiệm vụ tư vấn tâm lý, xã hội các đối tượng cai nghiện ma tuý tự nguyện theo Điều 3 Nghị quyết 06/2023 của HĐND tỉnh Thái Nguyên | G12: -14040000
A13: 3 | B13: Công an xã | C13: 1053629 | D13: 809 | E13: 040-041 | F13: 12 | G13: =SUM(G14:G17) -> 389040000 | H13: =SUM(H14) -> 0
A14: - | B14: Chi hoạt động đảm bảo ANTT theo phân cấp | G14: =180000000-108000000 -> 72000000
A15: - | B15: Người được phân công trực tiếp giúp đỡ người được giáo dục tại xã theo Nghị quyết số 35/2022/NQ-HĐND | G15: 5000000 | H15: =SUM(H16:H16) -> 0
A16: - | B16: Đảm bảo an ninh trật tự trên địa bàn … | G16: 298000000
A17: - | B17: Thù lao đối với người được giao nhiệm vụ tư vấn tâm lý, xã hội các đối tượng cai nghiện ma tuý tự nguyện theo Điều 3 Nghị quyết 06/2023 của HĐND tỉnh Thái Nguyên | G17: 14040000

Sheet BS
G1: Phụ biểu số 02
A2: PHỤ BIỂU BỔ SUNG DỰ TOÁN CHO CÁC ĐƠN VỊ THỰC HIỆN NHIỆM VỤ NĂM 2026
A3: =DT!A3 -> (Kèm theo Tờ trình số /TTr-UBND, ngày /7/2026 của UBND xã Hợp Thành)
H4: ĐVT: Đồng
A5: Số TT | B5: Đơn vị/Nội dung | C5: Mã DV QHNS | D5: Mã Chương | E5: Loại, khoản | F5: Mã nguồn | G5: Số tiền | H5: Ghi chú
B7: TỔNG SỐ | G7: =G8+G10+G12 -> 426070000
A8: I | B8: Văn phòng HĐND và UBND | C8: 1153731 | D8: 830 | E8: 340-341 | F8: 12 | G8: =SUM(G9:G10) -> 197000000
A9: 1 | B9: Sửa chữa mái nhà Hội trường đa năng bị hỏng do giông, lốc (Ngày 02/5/2026) | G9: =3000000*12 -> 36000000
A10: 2 | B10: Nâng cấp đường truyền mạng, bổ sung thiết bị phục vụ họp trực tuyến và tăng cường hệ thống bảo đảm an toàn, an ninh mạng; Các hội nghị sơ kết 6 tháng năm 2026, tuyên truyền phổ biến GDPL, kiểm tra tiến độ thực hiện nhiệm phát triển KT-XH trên địa bàn. | G10: 161000000 | I10: =G10+5000000 -> 166000000
A11: II | B11: Phòng Văn hoá - Xã hội | C11: 1151577 | D11: 832 | E11: 340-341 | F11: 12 | G11: =SUM(G12:G13) -> 213692040 | H11: =SUM(H12:H13) -> 0
A12: 1 | B12: Kinh phí thực hiện Chiến dịch 100 ngày số hóa, làm sạch, chuẩn hóa dữ liệu trên địa bàn xã Hợp Thành | G12: 68070000
A13: 2 | B13: Kinh phí thực hiện mô hình Chăm sóc sức khỏe cộng đồng và chăm sóc sức khỏe người cao tuổi; Điểm Thư viện và Trung tâm sinh hoạt văn hóa cộng đồng xã Hợp Thành | G13: 145622040
A14: III | B14: Văn phòng Đảng ủy | C14: 1149635 | D14: 819 | E14: 340-351 | F14: 12 | G14: =SUM(G15:G24) -> 468805740 | H14: =SUM(H15) -> 0
A15: 1 | B15: Truy lĩnh Phụ cấp chức vụ năm 2025 | G15: 27504360
A16: 2 | B16: Chênh lệch phụ cấp chức vụ năm 2026 | G16: 44261100
A17: 3 | B17: Chênh lệch phụ cấp phục vụ cấp uỷ và văn thư lưu trữ 2026 | G17: 70551000
A18: 4 | B18: Phụ cấp trách nhiệm đối với báo cáo viên cấp xã năm 2026 | G18: 33696000
A19: 5 | B19: Phụ cấp trách nhiệm đối với Uỷ viên BCH Đảng uỷ cấp xã, NK 2025-2030 | G19: 42120000
A20: 6 | B20: Truy lĩnh phụ cấp kiêm nhiệm 2025 | G20: 11400480
A21: 7 | B21: Phụ cấp kiêm nhiệm 2026 | G21: 11512800
A22: 8 | B22: Chế độ công tác viên dư luận xã hội | G22: 32760000
A23: 9 | B23: Kinh phí chi trả tiền công thuê khoán hợp đồng bảo vệ năm 2026 | G23: =3000000*12 -> 36000000
A24: 10 | B24: Kinh phí các Hội nghị: Tổng kết đánh giá kết quả 15 năm thực hiện Kết luận số 14-KL/TW; Nghị quyết số 26-NQ/TW; Kết luận số 62-KL/TW; Thông báo kết luận số 160-TB/TW; Sơ kết 05 năm thực hiện Chỉ thị số 04-CT/TW; QĐ 23-QĐ/TW | G24: =16602220+142397780 -> 159000000
A25: VI | B25: Uỷ ban MTTQ xã | C25: 1151295 | D25: 820 | E25: 340-361 | F25: 12 | G25: =SUM(G26:G27) -> 37000000 | H25: =SUM(H26:H26) -> 0
A26: 1 | B26: Phụ cấp công vụ, chức vụ, phụ cấp công tác Đảng, Đoàn thể năm 2026 | G26: 27000000
A27: 2 | B27: Chi hội nghị cung cấp thông tin; tiếp xúc, lắng nghe, nắm bắt tình hình tâm tư, nguyện vọng của đồng bào DTTS và miền núi xã Hợp Thành | G27: 10000000
A28: V | B28: Trung tâm Dịch vụ tổng hợp | C28: 1152383 | D28: 989 | E28: 280-338 | F28: 12 | G28: =SUM(G29:G31) -> 40000000 | H28: =SUM(H29:H29) -> 0
A29: 1 | B29: Kinh phí thực hiện các nhiệm vụ khuyến nông | G29: 20000000
A30: 2 | B30: Thanh toán Hồng kì phục vụ tết tết trồng cây | G30: 6000000
A31: 3 | B31: Kinh phí phục vụ công tác tuyên truyền năm 2026 | G31: 14000000 | I31: {=BS} -> #NAME?

Sheet ĐC giảm
G1: Phụ biểu số 03
A2: PHỤ BIỂU ĐIỀU CHỈNH DỰ TOÁN NĂM 2026
A3: =DT!A3 -> (Kèm theo Tờ trình số /TTr-UBND, ngày /7/2026 của UBND xã Hợp Thành)
G4: ĐVT: Đồng
A5: Số TT | B5: Đơn vị/Nội dung | C5: Mã ĐV QHNS | D5: Mã Chương | E5: Loại, khoản | F5: Mã nguồn | G5: Số tiền | H5: Ghi chú
A7: A | B7: TỔNG SỐ | G7: =G8 -> -737100000
A8: I | B8: Văn phòng Đảng ủy | C8: 1149635 | D8: 819 | E8: 340-351 | F8: 12 | G8: =SUM(G9:G9) -> -737100000
A9: 1 | B9: Giảm chế độ chính sách 30% phụ cấp công tác đảng đã cấp tại Quyết định số 733/QĐ-UBND, ngày 26/12/2025 | G9: -737100000

Sheet Chi xã
A1: Phụ lục II
A2: SỐ BỔ SUNG TỪ NGÂN SÁCH CẤP TỈNH CHO NGÂN SÁCH XÃ, PHƯỜNG NĂM 2025
A4: STT | B4: Địa phương | C4: TỔNG THU NSNN TRÊN ĐỊA BÀN | D4: Thu ngân sách địa phương | J4: Tổng chi ngân sách cấp xã | K4: Trong đó
D5: Tổng số | E5: Trong đó | K5: Chi từ nguồn thu tiền sử dụng đất | L5: Chi sự nghiệp giáo dục | M5: Dự phòng ngân sách | N5: Chi chuyển nguồn CCTL
E6: Thu NSĐP hưởng theo phân cấp | F6: Bổ sung từ ngân sách cấp tỉnh | I6: Thu chuyển nguồn CCTL
F7: Tổng | G7: Bổ sung cân đối | H7: Bổ sung mục tiêu | L7: Chi sự nghiệp giáo dục | N7: Dự phòng ngân sách
B8: Tổng số | C8: =SUM(C9:C63) -> #REF! | D8: =SUM(D9:D63) -> 5829057.2 | E8: =SUM(E9:E63) -> 137306.36 | F8: =SUM(F9:F63) -> 5633547.8 | G8: =SUM(G9:G63) -> 1126383.9 | H8: =SUM(H9:H63) -> 4507163.9 | I8: =SUM(I9:I63) -> 58203.096 | J8: =SUM(J9:J63) -> 5829057 | ... N8: =SUM(N9:N63) -> 25231.064
A9: 1 | B9: Phường Phan Đình Phùng | C9: =#REF! -> #REF! | D9: =E9+F9+I9 -> 362109.5 | E9: ='[1]Tổng '!D8 -> 16799.656 | F9: =SUM(G9:H9) -> 332634.94 | G9: ='[1]Tổng '!F8 -> 48168.925 | H9: ='[1]Tổng '!G8 -> 284466.02 | I9: ='[1]Tổng '!J8 -> 12674.906 | J9: ='[1]Tổng '!K8 -> 362109.5 | K9: ='[1]Tổng '!R8 -> 0 | L9: ='[1]Tổng '!N8 -> 284466.02 | M9: ='[1]Tổng '!S8 -> 1476.585 | N9: ='[1]Tổng '!T8 -> 3164.223
A10: 2 | B10: Phường Linh Sơn | C10: =#REF! -> #REF! | D10: =E10+F10+I10 -> 173243.08 | E10: ='[1]Tổng '!D9 -> 15823.05 | F10: =SUM(G10:H10) -> 155807.68 | G10: ='[1]Tổng '!F9 -> 30555.393 | H10: ='[1]Tổng '!G9 -> 125252.29 | I10: ='[1]Tổng '!J9 -> 1612.353 | J10: ='[1]Tổng '!K9 -> 173241.87 | K10: ='[1]Tổng '!R9 -> 0 | L10: ='[1]Tổng '!N9 -> 125252.29 | M10: ='[1]Tổng '!S9 -> 950.408 | N10: ='[1]Tổng '!T9 -> 0
A11: 3 | B11: Phường Tích Lương | C11: =#REF! -> #REF! | D11: =E11+F11+I11 -> 196644.31 | E11: ='[1]Tổng '!D10 -> 8485.552 | F11: =SUM(G11:H11) -> 184345.84 | G11: ='[1]Tổng '!F10 -> 35843.045 | H11: ='[1]Tổng '!G10 -> 148502.79 | I11: ='[1]Tổng '!J10 -> 3812.919 | J11: ='[1]Tổng '!K10 -> 196644.31 | K11: ='[1]Tổng '!R10 -> 0 | L11: ='[1]Tổng '!N10 -> 148502.79 | M11: ='[1]Tổng '!S10 -> 954.236 | N11: ='[1]Tổng '!T10 -> 0
A12: 4 | B12: Phường Gia Sàng | C12: =#REF! -> #REF! | D12: =E12+F12+I12 -> 134097.31 | E12: ='[1]Tổng '!D11 -> 6262.504 | F12: =SUM(G12:H12) -> 127746.35 | G12: ='[1]Tổng '!F11 -> 33361.671 | H12: ='[1]Tổng '!G11 -> 94384.681 | I12: ='[1]Tổng '!J11 -> 88.454 | J12: ='[1]Tổng '!K11 -> 134096.93 | K12: ='[1]Tổng '!R11 -> 0 | L12: ='[1]Tổng '!N11 -> 94384.681 | M12: ='[1]Tổng '!S11 -> 786.665 | N12: ='[1]Tổng '!T11 -> 0
A13: 5 | B13: Phường Quyết Thắng | C13: =#REF! -> #REF! | D13: =E13+F13+I13 -> 96246.388 | E13: ='[1]Tổng '!D12 -> 4524.46 | F13: =SUM(G13:H13) -> 73149.225 | G13: ='[1]Tổng '!F12 -> 14899.018 | H13: ='[1]Tổng '!G12 -> 58250.207 | I13: ='[1]Tổng '!J12 -> 18572.703 | J13: ='[1]Tổng '!K12 -> 96246.388 | K13: ='[1]Tổng '!R12 -> 0 | L13: ='[1]Tổng '!N12 -> 58250.207 | M13: ='[1]Tổng '!S12 -> 517.239 | N13: ='[1]Tổng '!T12 -> 11923.982
A14: 6 | B14: Phường Quan Triều | C14: =#REF! -> #REF! | D14: =E14+F14+I14 -> 140699.11 | E14: ='[1]Tổng '!D13 -> 8533.996 | F14: =SUM(G14:H14) -> 128841.65 | G14: ='[1]Tổng '!F13 -> 25823.682 | H14: ='[1]Tổng '!G13 -> 103017.97 | I14: ='[1]Tổng '!J13 -> 3323.46 | J14: ='[1]Tổng '!K13 -> 140699.11 | K14: ='[1]Tổng '!R13 -> 0 | L14: ='[1]Tổng '!N13 -> 103017.97 | M14: ='[1]Tổng '!S13 -> 746.747 | N14: ='[1]Tổng '!T13 -> 0
A15: 7 | B15: Xã Tân Cương | C15: =#REF! -> #REF! | D15: =E15+F15+I15 -> 88286.514 | E15: ='[1]Tổng '!D14 -> 5091.552 | F15: =SUM(G15:H15) -> 79767.741 | G15: ='[1]Tổng '!F14 -> 20457 | H15: ='[1]Tổng '!G14 -> 59310.741 | I15: ='[1]Tổng '!J14 -> 3427.221 | J15: ='[1]Tổng '!K14 -> 88287.514 | K15: ='[1]Tổng '!R14 -> 0 | L15: ='[1]Tổng '!N14 -> 59310.741 | M15: ='[1]Tổng '!S14 -> 574.137 | N15: ='[1]Tổng '!T14 -> 0
A16: 8 | B16: Xã Đại Phúc | C16: =#REF! -> #REF! | D16: =E16+F16+I16 -> 182952.77 | E16: ='[1]Tổng '!D15 -> 10764.008 | F16: =SUM(G16:H16) -> 167619.37 | G16: ='[1]Tổng '!F15 -> 23095.536 | H16: ='[1]Tổng '!G15 -> 144523.84 | I16: ='[1]Tổng '!J15 -> 4569.386 | J16: ='[1]Tổng '!K15 -> 182952.77 | K16: ='[1]Tổng '!R15 -> 0 | L16: ='[1]Tổng '!N15 -> 138869.84 | M16: ='[1]Tổng '!S15 -> 755.515 | N16: ='[1]Tổng '!T15 -> 20.609
A17: 9 | B17: Xã Đại Từ | C17: =#REF! -> #REF! | D17: =E17+F17+I17 -> 107914.5 | E17: ='[1]Tổng '!D16 -> 891 | F17: =SUM(G17:H17) -> 107023.5 | G17: ='[1]Tổng '!F16 -> 22609 | H17: ='[1]Tổng '!G16 -> 84414.5 | I17: ='[1]Tổng '!J16 -> 0 | J17: ='[1]Tổng '!K16 -> 107914.5 | K17: ='[1]Tổng '!R16 -> 0 | L17: ='[1]Tổng '!N16 -> 70493.5 | M17: ='[1]Tổng '!S16 -> 507 | N17: ='[1]Tổng '!T16 -> 0
A18: 10 | B18: Xã Đức Lương | C18: =#REF! -> #REF! | D18: =E18+F18+I18 -> 59716.3 | E18: ='[1]Tổng '!D17 -> 272 | F18: =SUM(G18:H18) -> 59444.3 | G18: ='[1]Tổng '!F17 -> 14332 | H18: ='[1]Tổng '!G17 -> 45112.3 | I18: ='[1]Tổng '!J17 -> 0 | J18: ='[1]Tổng '!K17 -> 59716.3 | K18: ='[1]Tổng '!R17 -> 0 | L18: ='[1]Tổng '!N17 -> 36303.3 | M18: ='[1]Tổng '!S17 -> 320 | N18: ='[1]Tổng '!T17 -> 0
A19: 11 | B19: Xã Phú Thịnh | C19: =#REF! -> #REF! | D19: =E19+F19+I19 -> 82372.8 | E19: ='[1]Tổng '!D18 -> 737 | F19: =SUM(G19:H19) -> 81635.8 | G19: ='[1]Tổng '!F18 -> 16481 | H19: ='[1]Tổng '!G18 -> 65154.8 | I19: ='[1]Tổng '!J18 -> 0 | J19: ='[1]Tổng '!K18 -> 82372.8 | K19: ='[1]Tổng '!R18 -> 0 | L19: ='[1]Tổng '!N18 -> 54629.8 | M19: ='[1]Tổng '!S18 -> 379 | N19: ='[1]Tổng '!T18 -> 0
A20: 12 | B20: Xã La Bằng | C20: =#REF! -> #REF! | D20: =E20+F20+I20 -> 78203 | E20: ='[1]Tổng '!D19 -> 1588 | F20: =SUM(G20:H20) -> 76615 | G20: ='[1]Tổng '!F19 -> 14700 | H20: ='[1]Tổng '!G19 -> 61915 | I20: ='[1]Tổng '!J19 -> 0 | J20: ='[1]Tổng '!K19 -> 78203 | K20: ='[1]Tổng '!R19 -> 0 | L20: ='[1]Tổng '!N19 -> 52223 | M20: ='[1]Tổng '!S19 -> 363 | N20: ='[1]Tổng '!T19 -> 0
... A63: 55 | B63: Xã Sảng Mộc | C63: =#REF! -> #REF! | D63: =E63+F63+I63 -> 41486.482 | E63: ='[1]Tổng '!D62 -> 52 | F63: =SUM(G63:H63) -> 41434.482 | G63: ='[1]Tổng '!F62 -> 5191 | H63: ='[1]Tổng '!G62 -> 36243.482 | I63: ='[1]Tổng '!J62 -> 0 | J63: ='[1]Tổng '!K62 -> 41486.482 | K63: ='[1]Tổng '!R62 -> 0 | L63: ='[1]Tổng '!N62 -> 33022.482 | M63: ='[1]Tổng '!S62 -> 109 | N63: ='[1]Tổng '!T62 -> 0

Sheet Sheet3
A1: STT | B1: Nội dung | C1: Dự toán năm 2025 | D1: Dự toán năm 2025 sau sắp xếp | E1: Chênh lệch
A2: 1 | B2: Tổng thu ngân sách nhà nước trên địa bàn | C2: =#REF! -> #REF! | D2: =#REF! -> #REF! | E2: =C2-D2 -> #REF!
A3: 2 | B3: Thu NSĐP hưởng theo phân cấp | C3: ='Chi xã'!E8 -> 137306.36 | D3: ='Chi xã'!E8 -> 137306.36 | E3: =C3-D3 -> 0
A4: 3 | B4: Số bổ sung cân đối | C4: ='Chi xã'!G8 -> 1126383.9 | D4: =C4 -> 1126383.9 | E4: =C4-D4 -> 0
A5: 4 | B5: Số bổ sung có mục tiêu | C5: ='[1]Tổng '!$I$7+3 -> 269232.66 | D5: =Chi!H9 -> 269229.66 | E5: =D5-C5 -> -3
A6: 5 | B6: Số thu chuyển nguồn CCTL | C6: ='Chi xã'!I8 -> 58203.096 | D6: =C6 -> 58203.096 | E6: =D6-C6 -> 0
A7: 6 | B7: Tổng chi ngân sách địa phương | C7: ='Chi xã'!J8-'Chi xã'!L8 -> 1591125.7 | D7: =Chi!J9 -> 1591125.7 | E7: =D7-C7 -> 0

Sheet Chi
A1: Phụ lục II
A2: SỐ BỔ SUNG TỪ NGÂN SÁCH CẤP TỈNH CHO NGÂN SÁCH XÃ, PHƯỜNG NĂM 2025
K4: ĐVT: Triệu đồng
A5: STT | B5: Địa phương | C5: TỔNG THU NSNN TRÊN ĐỊA BÀN | D5: Thu ngân sách địa phương | J5: Tổng chi ngân sách cấp xã
D6: Tổng số | E6: Trong đó | J6: Tổng số (*) | K6: Trong đó
E7: Thu NSĐP hưởng theo phân cấp | F7: Bổ sung từ ngân sách tỉnh | I7: Thu chuyển nguồn CCTL | K7: Chi nguyên trạng xã | L7: Chi từ nguồn thu tiền sử dụng đất | M7: Dự phòng ngân sách | N7: Chi chuyển nguồn CCTL
F8: Tổng | G8: Bổ sung cân đối | H8: Bổ sung mục tiêu (nguyên trạng xã) | N8: Dự phòng ngân sách
B9: Tổng số | C9: =C10+C18+C24+C30+C35+C39+C44+C48+C54+C59+C63+C67+C71+C75+C79+C82+C85+C88+C93+C98+C103+C107+C110+C116+C120+C125+C131+C135+C140+C143+C146+C149+C152+C155+C159+C163+C167+C172+C177+C181+C185+C190+C195+C199+C203+C206+C209+C212+C215+C219+C223+C226+C229+C232+C235 -> #REF! | D9: =D10+D18+D24+D30+D35+D39+D44+D48+D54+D59+D63+D67+D71+D75+D79+D82+D85+D88+D93+D98+D103+D107+D110+D116+D120+D125+D131+D135+D140+D143+D146+D149+D152+D155+D159+D163+D167+D172+D177+D181+D185+D190+D195+D199+D203+D206+D209+D212+D215+D219+D223+D226+D229+D232+D235+3 -> 1591126 | E9: =E10+E18+E24+E30+E35+E39+E44+E48+E54+E59+E63+E67+E71+E75+E79+E82+E85+E88+E93+E98+E103+E107+E110+E116+E120+E125+E131+E135+E140+E143+E146+E149+E152+E155+E159+E163+E167+E172+E177+E181+E185+E190+E195+E199+E203+E206+E209+E212+E215+E219+E223+E226+E229+E232+E235 -> 137306.36 | F9: =F10+F18+F24+F30+F35+F39+F44+F48+F54+F59+F63+F67+F71+F75+F79+F82+F85+F88+F93+F98+F103+F107+F110+F116+F120+F125+F131+F135+F140+F143+F146+F149+F152+F155+F159+F163+F167+F172+F177+F181+F185+F190+F195+F199+F203+F206+F209+F212+F215+F219+F223+F226+F229+F232+F235 -> 1395613.5 | G9: =G10+G18+G24+G30+G35+G39+G44+G48+G54+G59+G63+G67+G71+G75+G79+G82+G85+G88+G93+G98+G103+G107+G110+G116+G120+G125+G131+G135+G140+G143+G146+G149+G152+G155+G159+G163+G167+G172+G177+G181+G185+G190+G195+G199+G203+G206+G209+G212+G215+G219+G223+G226+G229+G232+G235 -> 1126383.9 | H9: =H10+H18+H24+H30+H35+H39+H44+H48+H54+H59+H63+H67+H71+H75+H79+H82+H85+H88+H93+H98+H103+H107+H110+H116+H120+H125+H131+H135+H140+H143+H146+H149+H152+H155+H159+H163+H167+H172+H177+H181+H185+H190+H195+H199+H203+H206+H209+H212+H215+H219+H223+H226+H229+H232+H235 -> 269229.66 | I9: =I10+I18+I24+I30+I35+I39+I44+I48+I54+I59+I63+I67+I71+I75+I79+I82+I85+I88+I93+I98+I103+I107+I110+I116+I120+I125+I131+I135+I140+I143+I146+I149+I152+I155+I159+I163+I167+I172+I177+I181+I185+I190+I195+I199+I203+I206+I209+I212+I215+I219+I223+I226+I229+I232+I235 -> 58203.096 | J9: =J10+J18+J24+J30+J35+J39+J44+J48+J54+J59+J63+J67+J71+J75+J79+J82+J85+J88+J93+J98+J103+J107+J110+J116+J120+J125+J131+J135+J140+J143+J146+J149+J152+J155+J159+J163+J167+J172+J177+J181+J185+J190+J195+J199+J203+J206+J209+J212+J215+J219+J223+J226+J229+J232+J235 -> 1591125.7 | K9: =K10+K18+K24+K30+K35+K39+K44+K48+K54+K59+K63+K67+K71+K75+K79+K82+K85+K88+K93+K98+K103+K107+K110+K116+K120+K125+K131+K135+K140+K143+K146+K149+K152+K155+K159+K163+K167+K172+K177+K181+K185+K190+K195+K199+K203+K206+K209+K212+K215+K219+K223+K226+K229+K232+K235 -> 1533402.4 | L9: =L10+L18+L24+L30+L35+L39+L44+L48+L54+L59+L63+L67+L71+L75+L79+L82+L85+L88+L93+L98+L103+L107+L110+L116+L120+L125+L131+L135+L140+L143+L146+L149+L152+L155+L159+L163+L167+L172+L177+L181+L185+L190+L195+L199+L203+L206+L209+L212+L215+L219+L223+L226+L229+L232+L235 -> 6932 | ... N9: =N10+N18+N24+N30+N35+N39+N44+N48+N54+N59+N63+N67+N71+N75+N79+N82+N85+N88+N93+N98+N103+N107+N110+N116+N120+N125+N131+N135+N140+N143+N146+N149+N152+N155+N159+N163+N167+N172+N177+N181+N185+N190+N195+N199+N203+N206+N209+N212+N215+N219+N223+N226+N229+N232+N235 -> 25231.064 | O9: =D9-J9 -> 0.258
A10: 1 | B10: Phường Phan Đình Phùng | C10: =SUM(C11:C17) -> 144798 | D10: =E10+F10+I10 -> 77643.487 | E10: =SUM(E11:E17) -> 16799.656 | F10: =SUM(F11:F17) -> 48168.925 | G10: =SUM(G11:G17) -> 48168.925 | H10: =SUM(H11:H17) -> 0 | I10: =SUM(I11:I17) -> 12674.906 | J10: =SUM(K10:N10) -> 77643.487 | K10: =SUM(K11:K17) -> 73002.679 | L10: ='[1]Tổng '!R8 -> 0 | M10: =SUM(M11:M17) -> 1476.585 | N10: =SUM(N11:N17) -> 3164.223
B11: Hoàng Văn Thụ | C11: 28763 | D11: =E11+F11+I11 -> 11451.487 | E11: ='[1]Thu '!D9 -> 2671.996 | F11: =SUM(G11:H11) -> 8779.491 | G11: ='[1]Thu '!E9 -> 8779.491 | H11: ='[1]Thu '!F9 -> 0 | J11: =SUM(K11:N11) -> 11489.719 | K11: =[1]TPTN!$I$16+[1]TPTN!$I$11 -> 11262.306 | M11: =[1]TPTN!$I$31 -> 227.413 | N11: =[1]TPTN!$I$33 -> 0
B12: Phan Đình Phùng | C12: 31077 | D12: =E12+F12+I12 -> 14785.307 | E12: ='[1]Thu '!D4 -> 2955.456 | F12: =SUM(G12:H12) -> 11813.65 | G12: ='[1]Thu '!E4 -> 11813.65 | H12: ='[1]Thu '!F4 -> 0 | I12: 16.201 | J12: =SUM(K12:N12) -> 14769.106 | K12: =[1]TPTN!$D$16 -> 14476.007 | M12: =[1]TPTN!$D$31 -> 293.099 | N12: =[1]TPTN!$D$33 -> 0
B13: Quang Trung | C13: 21166 | D13: =E13+F13+I13 -> 19513.458 | E13: ='[1]Thu '!D8 -> 2150.06 | F13: =SUM(G13:H13) -> 9044.985 | G13: ='[1]Thu '!E8 -> 9044.985 | H13: ='[1]Thu '!F8 -> 0 | I13: 8318.413 | J13: =SUM(K13:N13) -> 11195.045 | K13: =[1]TPTN!$H$16 -> 10973.01 | M13: =[1]TPTN!$H$31 -> 222.035 | N13: =[1]TPTN!$H$33 -> 0
B14: Trưng Vương | C14: 18137 | D14: =E14+F14+I14 -> 10901.66 | E14: ='[1]Thu '!D5 -> 2024.936 | F14: =SUM(G14:H14) -> 6618.939 | G14: ='[1]Thu '!E5 -> 6618.939 | H14: ='[1]Thu '!F5 -> 0 | I14: 2257.785 | J14: =SUM(K14:N14) -> 8660.076 | K14: =[1]TPTN!$E$16 -> 8488.105 | M14: =[1]TPTN!$E$31 -> 171.971 | N14: =[1]TPTN!$E$33 -> 0
B15: Đồng Quang | C15: 17118 | D15: =E15+F15+I15 -> 7051.96 | E15: ='[1]Thu '!D7 -> 1674.244 | F15: =SUM(G15:H15) -> 5377.716 | G15: ='[1]Thu '!E7 -> 5377.716 | H15: ='[1]Thu '!F7 -> 0 | J15: =SUM(K15:N15) -> 9309.745 | K15: =[1]TPTN!$G$16 -> 9125.195 | M15: =[1]TPTN!$G$31 -> 184.55 | N15: =[1]TPTN!$G$33 -> 0
B16: Túc Duyên | C16: 17304 | D16: =E16+F16+I16 -> 4417.925 | E16: ='[1]Thu '!D6 -> 1718.38 | F16: =SUM(G16:H16) -> 2661.313 | G16: ='[1]Thu '!E6 -> 2661.313 | H16: ='[1]Thu '!F6 -> 0 | I16: 38.232 | J16: =SUM(K16:N16) -> 12698.106 | K16: =[1]TPTN!$F$16 -> 9345.068 | M16: =[1]TPTN!$F$31 -> 188.815 | N16: =[1]TPTN!$F$33 -> 3164.223
B17: Tân Thịnh | C17: 11233 | D17: =E17+F17+I17 -> 9521.69 | E17: ='[1]Thu '!D10 -> 3604.584 | F17: =SUM(G17:H17) -> 3872.831 | G17: ='[1]Thu '!E10 -> 3872.831 | H17: ='[1]Thu '!F10 -> 0 | I17: 2044.275 | J17: =SUM(K17:N17) -> 9521.69 | K17: =[1]TPTN!$J$16 -> 9332.988 | M17: =[1]TPTN!$J$31 -> 188.702 | N17: =[1]TPTN!$J$33 -> 0
A18: 2 | B18: Phường Linh Sơn | C18: =SUM(C19:C23) -> 29400 | D18: =E18+F18+I18 -> 47990.796 | E18: =SUM(E19:E23) -> 15823.05 | F18: =SUM(G18:H18) -> 30555.393 | G18: =SUM(G19:G23) -> 30555.393 | H18: =SUM(H19:H23) -> 0 | I18: =SUM(I19:I23) -> 1612.353 | J18: =SUM(K18:N18) -> 47989.586 | K18: =SUM(K19:K23) -> 47039.178 | L18: ='[1]Tổng '!R9 -> 0 | M18: =SUM(M19:M23) -> 950.408 | N18: =SUM(N19:N23) -> 0
B19: Chùa Hang | C19: 9730 | D19: =E19+F19+I19 -> 9400.324 | E19: ='[1]Thu '!D11 -> 2908.554 | F19: =SUM(G19:H19) -> 6491.77 | G19: ='[1]Thu '!E11 -> 6491.77 | H19: ='[1]Thu '!F11 -> 0 | I19: ='[1]Thu '!G11 -> 0 | J19: =SUM(K19:N19) -> 9399.864 | K19: =[1]TPTN!$K$16 -> 9213.811 | M19: =[1]TPTN!$K$31 -> 186.053
B20: Cao Ngạn | C20: 6279 | D20: =E20+F20+I20 -> 9837.488 | E20: ='[1]Thu '!D12 -> 5851.92 | F20: =SUM(G20:H20) -> 3953.816 | G20: ='[1]Thu '!E12 -> 3953.816 | H20: ='[1]Thu '!F12 -> 0 | I20: ='[1]Thu '!G12 -> 31.752 | J20: =SUM(K20:N20) -> 9836.738 | K20: =[1]TPTN!$L$16 -> 9642 | M20: =[1]TPTN!$L$31 -> 194.738
B21: Đồng Bẩm | C21: 8845 | D21: =E21+F21+I21 -> 8896.69 | E21: ='[1]Thu '!D13 -> 3044.376 | F21: =SUM(G21:H21) -> 4334.569 | G21: ='[1]Thu '!E13 -> 4334.569 | H21: ='[1]Thu '!F13 -> 0 | I21: ='[1]Thu '!G13 -> 1517.745 | J21: =SUM(K21:N21) -> 8896.69 | K21: =[1]TPTN!$M$16 -> 8719.961 | M21: =[1]TPTN!$M$31 -> 176.729
B22: Linh Sơn | C22: 1486 | D22: =E22+F22+I22 -> 9999.087 | E22: ='[1]Thu '!D14 -> 1283.12 | F22: =SUM(G22:H22) -> 8680.651 | G22: ='[1]Thu '!E14 -> 8680.651 | H22: ='[1]Thu '!F14 -> 0 | I22: ='[1]Thu '!G14 -> 35.316 | J22: =SUM(K22:N22) -> 9999.087 | K22: =[1]TPTN!$N$16 -> 9801.165 | M22: =[1]TPTN!$N$31 -> 197.922
B23: Huống Thượng | C23: 3060 | D23: =E23+F23+I23 -> 9857.207 | E23: ='[1]Thu '!D15 -> 2735.08 | F23: =SUM(G23:H23) -> 7094.587 | G23: ='[1]Thu '!E15 -> 7094.587 | H23: ='[1]Thu '!F15 -> 0 | I23: ='[1]Thu '!G15 -> 27.54 | J23: =SUM(K23:N23) -> 9857.207 | K23: =[1]TPTN!$O$16 -> 9662.241 | M23: =[1]TPTN!$O$31 -> 194.966
A24: 3 | B24: Phường Tích Lương | C24: =SUM(C25:C29) -> 40670 | D24: =E24+F24+I24 -> 48141.516 | E24: =SUM(E25:E29) -> 8485.552 | F24: =SUM(G24:H24) -> 35843.045 | G24: =SUM(G25:G29) -> 35843.045 | H24: =SUM(H25:H29) -> 0 | I24: =SUM(I25:I29) -> 3812.919 | J24: =SUM(K24:N24) -> 48141.516 | K24: =SUM(K25:K29) -> 47187.28 | L24: ='[1]Tổng '!R10 -> 0 | M24: =SUM(M25:M29) -> 954.236 | N24: ='[1]Tổng '!T10 -> 0
B25: Phú Xá | C25: 4786 | D25: =E25+F25+I25 -> 9851.471 | E25: ='[1]Thu '!D16 -> 1770.772 | F25: =SUM(G25:H25) -> 7794.745 | G25: ='[1]Thu '!E16 -> 7794.745 | H25: ='[1]Thu '!F16 -> 0 | I25: ='[1]Thu '!G16 -> 285.954 | J25: =SUM(K25:N25) -> 9851.471 | K25: =[1]TPTN!$P$16 -> 9656.274 | M25: =[1]TPTN!$P$31 -> 195.197
B26: Trung Thành | C26: 9789 | D26: =E26+F26+I26 -> 10410.965 | E26: ='[1]Thu '!D17 -> 2734.904 | F26: =SUM(G26:H26) -> 7642.04 | G26: ='[1]Thu '!E17 -> 7642.04 | H26: ='[1]Thu '!F17 -> 0 | I26: ='[1]Thu '!G17 -> 34.021 | J26: =SUM(K26:N26) -> 10410.965 | K26: =[1]TPTN!$R$16 -> 10204.553 | M26: =[1]TPTN!$R$31 -> 206.412
B27: Tân Thành | C27: 1548 | D27: =E27+F27+I27 -> 7722.295 | E27: ='[1]Thu '!D18 -> 579.24 | F27: =SUM(G27:H27) -> 7143.055 | G27: ='[1]Thu '!E18 -> 7143.055 | H27: ='[1]Thu '!F18 -> 0 | I27: ='[1]Thu '!G18 -> 0 | J27: =SUM(K27:N27) -> 7722.295 | K27: =[1]TPTN!$Q$16 -> 7569.01 | M27: =[1]TPTN!$Q$31 -> 153.285
B28: Tân Lập | C28: 20874 | D28: =E28+F28+I28 -> 9600.532 | E28: ='[1]Thu '!D19 -> 2038.992 | F28: =SUM(G28:H28) -> 4101.969 | G28: ='[1]Thu '!E19 -> 4101.969 | H28: ='[1]Thu '!F19 -> 0 | I28: ='[1]Thu '!G19 -> 3459.571 | J28: =SUM(K28:N28) -> 9600.532 | K28: =[1]TPTN!$S$16 -> 9410.295 | M28: =[1]TPTN!$S$31 -> 190.237
B29: Tích Lương | C29: 3673 | D29: =E29+F29+I29 -> 10556.253 | E29: ='[1]Thu '!D20 -> 1361.644 | F29: =SUM(G29:H29) -> 9161.236 | G29: ='[1]Thu '!E20 -> 9161.236 | H29: ='[1]Thu '!F20 -> 0 | I29: ='[1]Thu '!G20 -> 33.373 | J29: =SUM(K29:N29) -> 10556.253 | K29: =[1]TPTN!$T$16 -> 10347.148 | M29: =[1]TPTN!$T$31 -> 209.105
A30: 4 | B30: Phường Gia Sàng | C30: =C31+C32+C33+C34 -> 33914 | D30: =E30+F30+I30 -> 39712.629 | E30: =E31+E32+E33+E34 -> 6262.504 | F30: =SUM(G30:H30) -> 33361.671 | G30: =G31+G32+G33+G34 -> 33361.671 | H30: =H31+H32+H33+H34 -> 0 | I30: =I31+I32+I33+I34 -> 88.454 | J30: =SUM(K30:N30) -> 39712.245 | K30: =K31+K32+K33+K34 -> 38925.58 | L30: ='[1]Tổng '!R11 -> 0 | M30: =SUM(M31:M34) -> 786.665 | N30: ='[1]Tổng '!T11 -> 0
B31: Hương Sơn | C31: 7885 | D31: =E31+F31+I31 -> 10955.339 | E31: ='[1]Thu '!D21 -> 2110.192 | F31: =SUM(G31:H31) -> 8809.507 | G31: ='[1]Thu '!E21 -> 8809.507 | H31: ='[1]Thu '!F21 -> 0 | I31: ='[1]Thu '!G21 -> 35.64 | J31: =SUM(K31:N31) -> 10954.956 | K31: =[1]TPTN!$U$16 -> 10738 | M31: =[1]TPTN!$U$31 -> 216.956
B32: Đồng Liên | C32: 658 | D32: =E32+F32+I32 -> 8572.281 | E32: ='[1]Thu '!D22 -> 521.744 | F32: =SUM(G32:H32) -> 8027.208 | G32: ='[1]Thu '!E22 -> 8027.208 | H32: ='[1]Thu '!F22 -> 0 | I32: ='[1]Thu '!G22 -> 23.329 | J32: =SUM(K32:N32) -> 8572.281 | K32: =[1]TPTN!$V$16 -> 8402.391 | M32: =[1]TPTN!$V$31 -> 169.89
B33: Cam Giá | C33: 4944 | D33: =E33+F33+I33 -> 9923.341 | E33: ='[1]Thu '!D23 -> 1642.748 | F33: =SUM(G33:H33) -> 8251.108 | G33: ='[1]Thu '!E23 -> 8251.108 | H33: ='[1]Thu '!F23 -> 0 | I33: ='[1]Thu '!G23 -> 29.485 | J33: =SUM(K33:N33) -> 9923.341 | K33: =[1]TPTN!$W$16 -> 9726.786 | M33: =[1]TPTN!$W$31 -> 196.555
B34: Gia Sàng | C34: 20427 | D34: =E34+F34+I34 -> 10261.668 | E34: ='[1]Thu '!D24 -> 1987.82 | F34: =SUM(G34:H34) -> 8273.848 | G34: ='[1]Thu '!E24 -> 8273.848 | H34: ='[1]Thu '!F24 -> 0 | I34: ='[1]Thu '!G24 -> 0 | J34: =SUM(K34:N34) -> 10261.667 | K34: =[1]TPTN!$X$16 -> 10058.403 | M34: =[1]TPTN!$X$31 -> 203.264
A35: 5 | B35: Phường Quyết Thắng | C35: =SUM(C36:C38) -> 26871 | D35: =E35+F35+I35 -> 37996.181 | E35: =SUM(E36:E38) -> 4524.46 | F35: =SUM(G35:H35) -> 14899.018 | G35: =SUM(G36:G38) -> 14899.018 | H35: =SUM(H36:H38) -> 0 | I35: =SUM(I36:I38) -> 18572.703 | J35: =SUM(K35:N35) -> 37996.181 | K35: =SUM(K36:K38) -> 25554.96 | L35: ='[1]Tổng '!R12 -> 0 | M35: =SUM(M36:M38) -> 517.239 | N35: =SUM(N36:N38) -> 11923.982
B36: Thịnh Đán | C36: 16359 | D36: =E36+F36+I36 -> 9388.71 | E36: ='[1]Thu '!D25 -> 1711.812 | F36: =SUM(G36:H36) -> 5925.902 | G36: ='[1]Thu '!E25 -> 5925.902 | H36: ='[1]Thu '!F25 -> 0 | I36: ='[1]Thu '!G25 -> 1750.996 | J36: =SUM(K36:N36) -> 9388.71 | K36: =[1]TPTN!$Y$16 -> 9202.417 | M36: =[1]TPTN!$Y$31 -> 186.293 | N36: =[1]TPTN!$Y$33 -> 0
B37: Quyết Thắng | C37: 9706 | D37: =E37+F37+I37 -> 21111.517 | E37: ='[1]Thu '!D26 -> 2073.448 | F37: =SUM(G37:H37) -> 2273.991 | G37: ='[1]Thu '!E26 -> 2273.991 | H37: ='[1]Thu '!F26 -> 0 | I37: ='[1]Thu '!G26 -> 16764.078 | J37: =SUM(K37:N37) -> 21111.517 | K37: =[1]TPTN!$Z$16 -> 9005.369 | M37: =[1]TPTN!$Z$31 -> 182.166 | N37: =[1]TPTN!$Z$33 -> 11923.982
B38: Phúc Hà | C38: 806 | D38: =E38+F38+I38 -> 7495.954 | E38: ='[1]Thu '!D27 -> 739.2 | F38: =SUM(G38:H38) -> 6699.125 | G38: ='[1]Thu '!E27 -> 6699.125 | H38: ='[1]Thu '!F27 -> 0 | I38: ='[1]Thu '!G27 -> 57.629 | J38: =SUM(K38:N38) -> 7495.954 | K38: =[1]TPTN!$AA$16 -> 7347.174 | M38: =[1]TPTN!$AA$31 -> 148.78 | N38: =[1]TPTN!$AA$33 -> 0
A39: 6 | B39: Phường Quan Triều | C39: =SUM(C40:C43) -> 20404 | D39: =E39+F39+I39 -> 37681.138 | E39: =SUM(E40:E43) -> 8533.996 | F39: =SUM(G39:H39) -> 25823.682 | G39: =SUM(G40:G43) -> 25823.682 | H39: =SUM(H40:H43) -> 0 | I39: =SUM(I40:I43) -> 3323.46 | J39: =SUM(K39:N39) -> 37681.138 | K39: =SUM(K40:K43) -> 36934.391 | L39: ='[1]Tổng '!R13 -> 0 | M39: =SUM(M40:M43) -> 746.747 | N39: =SUM(N40:N43) -> 0
B40: Tân Long | C40: 3987 | D40: =E40+F40+I40 -> 8491.646 | E40: ='[1]Thu '!D28 -> 1341.252 | F40: =SUM(G40:H40) -> 7129.01 | G40: ='[1]Thu '!E28 -> 7129.01 | H40: ='[1]Thu '!F28 -> 0 | I40: ='[1]Thu '!G28 -> 21.384 | J40: =SUM(K40:N40) -> 8491.646 | K40: =[1]TPTN!$AB$16 -> 8323.098 | M40: =[1]TPTN!$AB$31 -> 168.548
B41: Quan Triều | C41: 4215 | D41: =E41+F41+I41 -> 9033.232 | E41: ='[1]Thu '!D29 -> 1411.6 | F41: =SUM(G41:H41) -> 7621.632 | G41: ='[1]Thu '!E29 -> 7621.632 | H41: ='[1]Thu '!F29 -> 0 | I41: ='[1]Thu '!G29 -> 0 | J41: =SUM(K41:N41) -> 9033.232 | K41: =[1]TPTN!$AC$16 -> 8854.184 | M41: =[1]TPTN!$AC$31 -> 179.048
...

Sheet 34. CHI NS CẤP TỈNH
A1: Biểu mẫu số 34
A2: DỰ TOÁN CHI NGÂN SÁCH CẤP TỈNH THEO LĨNH VỰC NĂM 2025
A4: Đơn vị: Triệu đồng
A5: STT | B5: Nội dung | C5: Thái Nguyên
A6: A | B6: B | C6: 1
B7: TỔNG CHI NSĐP | C7: =C8+C9 -> #REF! | D7: =#REF! -> #REF!
A8: A | B8: CHI BỔ SUNG CHO NGÂN SÁCH CẤP DƯỚI (1) | C8: =#REF!+#REF! -> #REF! | D8: =C7-D7 -> #REF!
A9: B | B9: CHI NGÂN SÁCH CẤP TỈNH (HUYỆN, XÃ) THEO LĨNH VỰC | C9: =C10+C27+C40+C41+C42+C43 -> #REF!
A10: I | B10: Chi đầu tư phát triển (2) | C10: =C11+C26 -> #REF!
A11: 1 | B11: Chi đầu tư cho các dự án | C11: =#REF!+#REF!+#REF!+#REF! -> #REF!
A12: - | B12: Chi giáo dục - đào tạo và dạy nghề
A13: - | B13: Chi khoa học và công nghệ
A14: - | B14: Chi quốc phòng
A15: - | B15: Chi an ninh và trật tự an toàn xã hội
A16: - | B16: Chi y tế, dân số và gia đình
A17: - | B17: Chi văn hóa thông tin
A18: - | B18: Chi phát thanh, truyền hình, thông tấn
A19: - | B19: Chi thể dục thể thao
A20: - | B20: Chi bảo vệ môi trường
A21: - | B21: Chi các hoạt động kinh tế
A22: - | B22: Chi hoạt động của cơ quan quản lý nhà nước, đảng, đoàn thể
A23: - | B23: Chi bảo đảm xã hội
A24: - | B24: Chi đầu tư khác
A25: 2 | B25: Chi đầu tư và hỗ trợ vốn cho các doanh nghiệp cung cấp sản phẩm, dịch vụ công ích do Nhà nước đặt hàng, các tổ chức kinh tế,
A26: 3 | B26: Chi đầu tư phát triển khác | C26: =#REF! -> #REF!
A27: II | B27: Chi thường xuyên | C27: =SUM(C28:C39) -> #REF!
A28: - | B28: Chi sự nghiệp giáo dục đào tạo và dạy nghề | C28: =#REF! -> #REF!
A29: - | B29: Chi sự nghiệp y tế, dân số và gia đình | C29: =#REF! -> #REF!
A30: - | B30: Chi sự nghiệp khoa học và công nghệ | C30: =#REF! -> #REF!
A31: - | B31: Chi sự nghiệp văn hoá thông tin, thể dục thể thao | C31: =#REF! -> #REF!
A32: - | B32: Chi sự nghiệp phát thanh truyền hình | C32: =#REF! -> #REF!
A33: - | B33: Chi đảm bảo xã hội | C33: =#REF! -> #REF!
A34: - | B34: Sự nghiệp kinh tế | C34: =#REF! -> #REF!
A35: - | B35: Chi quản lý hành chính | C35: =#REF! -> #REF!
A36: - | B36: Chi sự nghiệp bảo vệ môi trường | C36: =#REF! -> #REF!
A37: - | B37: Chi quốc phòng an ninh địa phương | C37: =#REF! -> #REF!
A38: - | B38: Chi khác của ngân sách | C38: =#REF! -> #REF!
A39: - | B39: Tiết kiệm 10% 7 tháng cuối năm | C39: =#REF! -> #REF!
... A43: VI | B43: Chi tạo nguồn, điều chỉnh tiền lương | C43: =#REF! -> #REF!
A44: C | B44: CHI CHUYỂN NGUỒN SANG NĂM SAU

Sheet 37.01 ĐP
R1: Biểu mẫu số 37.2 NSĐP
A2: DỰ TOÁN CHI THƯỜNG XUYÊN CỦA NGÂN SÁCH CẤP TỈNH CHO TỪNG CƠ QUAN, TỔ CHỨC THEO LĨNH VỰC NĂM 2025
A3: (Dùng cho ngân sách các cấp chính quyền địa phương)
A4: (Kèm theo Công văn số /STC-HCSN ngày /6/2025 của Sở Tài chính)
R6: Đơn vị: Triệu đồng
A7: STT | B7: =E10+'37.02 TW'!E10 -> 5960899.9 | C7: Tổng số chi ngân sách khối tỉnh | D7: Trừ tiết kiệm 10% chi thường xuyên | E7: Số được chi từ nguồn ngân sách nhà nước | F7: Chi giáo dục - đào tạo và dạy nghề | G7: Chi khoa học và công nghệ | H7: Chi quốc phòng | I7: Chi an ninh và trật tự an toàn xã hội | J7: Chi y tế, dân số và gia đình | K7: Chi văn hóa thông tin | L7: Chi phát thanh, truyền hình, thông tấn | M7: Chi thể dục thể thao | N7: Chi bảo vệ môi trường | O7: Chi các hoạt động kinh tế | P7: Trong đó | R7: Chi hoạt động của cơ quan quản lý nhà nước, đảng, đoàn thể | S7: Chi bảo đảm xã hội | T7: Chi thường xuyên khác | U7: Kinh phí chuyển thanh tra | V7: Nhiệm vụ khác | W7: chuyển về xã Bắc kạn | X7: KP huyện chuyển nv lên tỉnh Bắc Kạn | Y7: TTXTĐT Bắc Kạn chuyển về 3 Sở | Z7: Điều chỉnh kinh phí luân chuyển cán bộ các ngành | AA7: TỔNG | AC7: 2718461
P8: Chi giao thông | Q8: Chi nông nghiệp, lâm nghiệp, thủy lợi, thủy sản | AC8: 2718279 | AD8: Đối ứng | AE8: BSCMT
A9: A | B9: B | E9: 1 | F9: 2 | G9: 3 | H9: 4 | I9: 5 | J9: 6 | K9: 7 | L9: 8 | M9: 9 | N9: 10 | O9: 11 | P9: 12 | Q9: 13 | R9: 14 | S9: 15 | T9: 16 | AI9: =AI11-AI10 -> 3175886
B10: TỔNG SỐ | C10: =C11+C12 -> 5647089.2 | D10: =D11+D12 -> 44502 | E10: =E11+E12 -> 5602587.2 | F10: =F11+F12 -> 1228144 | G10: =G11+G12 -> 63031 | H10: =H11+H12 -> 112788 | I10: =I11+I12 -> 64294 | J10: =J11+J12 -> 1578406 | ... Z10: =Z11+Z12 -> 371 | AC10: =AC11-AC12 -> 0 | AI10: =AB7+AB8 -> 0
B11: tỉnh Thái Nguyên | C11: =C15+C18+C21+C24+C27+C30+C33+C36+C39+C42+C45+C48+C51+C54+C57+C66+C69+C72+C75+C78+C81+C84+C87+C89+C92+C95+C98+C101+C104+C106+C109+C112+C115+C118+C121+C123+C125+C127+C129+C134+C138+C141+C144+C146+C147+C148+C150+C153+C156+C159+C220+C224+C226-C223 -> 4135062 | D11: =D15+D18+D21+D24+D27+D30+D33+D36+D39+D42+D45+D48+D51+D54+D57+D66+D69+D72+D75+D78+D81+D84+D87+D89+D92+D95+D98+D101+D104+D106+D109+D112+D115+D118+D121+D123+D125+D127+D129+D134+D138+D141+D144+D146+D147+D148+D150+D153+D156+D159+D220+D224+D226-D223 -> 18408 | E11: =E15+E18+E21+E24+E27+E30+E33+E36+E39+E42+E45+E48+E51+E54+E57+E66+E69+E72+E75+E78+E81+E84+E87+E89+E92+E95+E98+E101+E104+E106+E109+E112+E115+E118+E121+E123+E125+E127+E129+E134+E138+E141+E144+E146+E147+E148+E150+E153+E156+E159+E220+E224+E226-E223 -> 4116654 | F11: =F15+F18+F21+F24+F27+F30+F33+F36+F39+F42+F45+F48+F51+F54+F57+F66+F69+F72+F75+F78+F81+F84+F87+F89+F92+F95+F98+F101+F104+F106+F109+F112+F115+F118+F121+F123+F125+F127+F129+F134+F138+F141+F144+F146+F147+F148+F150+F153+F156+F159+F220+F224+F226-F223 -> 917398 | G11: =G15+G18+G21+G24+G27+G30+G33+G36+G39+G42+G45+G48+G51+G54+G57+G66+G69+G72+G75+G78+G81+G84+G87+G89+G92+G95+G98+G101+G104+G106+G109+G112+G115+G118+G121+G123+G125+G127+G129+G134+G138+G141+G144+G146+G147+G148+G150+G153+G156+G159+G220+G224+G226-G223 -> 45563 | H11: =H15+H18+H21+H24+H27+H30+H33+H36+H39+H42+H45+H48+H51+H54+H57+H66+H69+H72+H75+H78+H81+H84+H87+H89+H92+H95+H98+H101+H104+H106+H109+H112+H115+H118+H121+H123+H125+H127+H129+H134+H138+H141+H144+H146+H147+H148+H150+H153+H156+H159+H220+H224+H226-H223 -> 87000 | I11: =I15+I18+I21+I24+I27+I30+I33+I36+I39+I42+I45+I48+I51+I54+I57+I66+I69+I72+I75+I78+I81+I84+I87+I89+I92+I95+I98+I101+I104+I106+I109+I112+I115+I118+I121+I123+I125+I127+I129+I134+I138+I141+I144+I146+I147+I148+I150+I153+I156+I159+I220+I224+I226-I223 -> 46950 | J11: =J15+J18+J21+J24+J27+J30+J33+J36+J39+J42+J45+J48+J51+J54+J57+J66+J69+J72+J75+J78+J81+J84+J87+J89+J92+J95+J98+J101+J104+J106+J109+J112+J115+J118+J121+J123+J125+J127+J129+J134+J138+J141+J144+J146+J147+J148+J150+J153+J156+J159+J220+J224+J226-J223 -> 1188814 | ... U11: =U15+U18+U21+U24+U27+U30+U33+U36+U39+U42+U45+U48+U51+U54+U57+U66+U69+U72+U75+U78+U81+U84+U87+U89+U92+U95+U98+U101+U104+U106+U109+U112+U115+U118+U121+U123+U125+U127+U129+U134+U138+U141+U144+U146+U147+U148+U150+U153+U156+U159+U220+U224+U226-U223 -> 0 | V11: =V15+V18+V21+V24+V27+V30+V33+V36+V39+V42+V45+V48+V51+V54+V57+V66+V69+V72+V75+V78+V81+V84+V87+V89+V92+V95+V98+V101+V104+V106+V109+V112+V115+V118+V121+V123+V125+V127+V129+V134+V138+V141+V144+V146+V147+V148+V150+V153+V156+V159+V220+V224+V226 -> 0 | W11: =W15+W18+W21+W24+W27+W30+W33+W36+W39+W42+W45+W48+W51+W54+W57+W66+W69+W72+W75+W78+W81+W84+W87+W89+W92+W95+W98+W101+W104+W106+W109+W112+W115+W118+W121+W123+W125+W127+W129+W134+W138+W141+W144+W146+W147+W148+W150+W153+W156+W159+W220+W224+W226 -> 0 | X11: =X15+X18+X21+X24+X27+X30+X33+X36+X39+X42+X45+X48+X51+X54+X57+X66+X69+X72+X75+X78+X81+X84+X87+X89+X92+X95+X98+X101+X104+X106+X109+X112+X115+X118+X121+X123+X125+X127+X129+X134+X138+X141+X144+X146+X147+X148+X150+X153+X156+X159+X220+X224+X226 -> 0 | Y11: =Y15+Y18+Y21+Y24+Y27+Y30+Y33+Y36+Y39+Y42+Y45+Y48+Y51+Y54+Y57+Y66+Y69+Y72+Y75+Y78+Y81+Y84+Y87+Y89+Y92+Y95+Y98+Y101+Y104+Y106+Y109+Y112+Y115+Y118+Y121+Y123+Y125+Y127+Y129+Y134+Y138+Y141+Y144+Y146+Y147+Y148+Y150+Y153+Y156+Y159+Y220+Y224+Y226 -> 0 | Z11: =Z15+Z18+Z21+Z24+Z27+Z30+Z33+Z36+Z39+Z42+Z45+Z48+Z51+Z54+Z57+Z66+Z69+Z72+Z75+Z78+Z81+Z84+Z87+Z89+Z92+Z95+Z98+Z101+Z104+Z106+Z109+Z112+Z115+Z118+Z121+Z123+Z125+Z127+Z129+Z134+Z138+Z141+Z144+Z146+Z147+Z148+Z150+Z153+Z156+Z159+Z220+Z224+Z226 -> 0 | AA11: =AA15+AA18+AA21+AA24+AA27+AA30+AA33+AA36+AA39+AA42+AA45+AA48+AA51+AA54+AA57+AA66+AA69+AA72+AA75+AA78+AA81+AA84+AA87+AA89+AA92+AA95+AA98+AA101+AA104+AA106+AA109+AA112+AA115+AA118+AA121+AA123+AA125+AA127+AA129+AA134+AA138+AA141+AA144+AA146+AA147+AA148+AA150+AA153+AA156+AA159+AA220+AA224+AA226 -> 0 | AC11: 1253068 | AI11: =SUM(AI15:AI151) -> 3175886
B12: tỉnh Bắc Kạn | C12: =C16+C19+C22+C25+C28+C31+C34+C37+C40+C43+C46+C49+C52+C55+C58+C60+C62+C67+C70+C73+C76+C79+C82+C85+C90+C93+C96+C99+C102+C107+C110+C113+C116+C119+C132+C139+C142+C145+C151+C228+C130+C135+C154+C157+C160+C223+C227 -> 1512027.2 | D12: =D16+D19+D22+D25+D28+D31+D34+D37+D40+D43+D46+D49+D52+D55+D58+D60+D62+D67+D70+D73+D76+D79+D82+D85+D90+D93+D96+D99+D102+D107+D110+D113+D116+D119+D132+D139+D142+D145+D151+D228+D130+D135+D154+D157+D160+D223+D227 -> 26094 | E12: =E16+E19+E22+E25+E28+E31+E34+E37+E40+E43+E46+E49+E52+E55+E58+E60+E62+E67+E70+E73+E76+E79+E82+E85+E90+E93+E96+E99+E102+E107+E110+E113+E116+E119+E132+E139+E142+E145+E151+E228+E130+E135+E154+E157+E160+E223+E227 -> 1485933.2 | F12: =F16+F19+F22+F25+F28+F31+F34+F37+F40+F43+F46+F49+F52+F55+F58+F60+F62+F67+F70+F73+F76+F79+F82+F85+F90+F93+F96+F99+F102+F107+F110+F113+F116+F119+F132+F139+F142+F145+F151+F228+F130+F135+F154+F157+F160+F223+F227 -> 310746 | G12: =G16+G19+G22+G25+G28+G31+G34+G37+G40+G43+G46+G49+G52+G55+G58+G60+G62+G67+G70+G73+G76+G79+G82+G85+G90+G93+G96+G99+G102+G107+G110+G113+G116+G119+G132+G139+G142+G145+G151+G228+G130+G135+G154+G157+G160+G223+G227 -> 17468 | H12: =H16+H19+H22+H25+H28+H31+H34+H37+H40+H43+H46+H49+H52+H55+H58+H60+H62+H67+H70+H73+H76+H79+H82+H85+H90+H93+H96+H99+H102+H107+H110+H113+H116+H119+H132+H139+H142+H145+H151+H228+H130+H135+H154+H157+H160+H223+H227 -> 25788 | I12: =I16+I19+I22+I25+I28+I31+I34+I37+I40+I43+I46+I49+I52+I55+I58+I60+I62+I67+I70+I73+I76+I79+I82+I85+I90+I93+I96+I99+I102+I107+I110+I113+I116+I119+I132+I139+I142+I145+I151+I228+I130+I135+I154+I157+I160+I223+I227 -> 17344 | J12: =J16+J19+J22+J25+J28+J31+J34+J37+J40+J43+J46+J49+J52+J55+J58+J60+J62+J67+J70+J73+J76+J79+J82+J85+J90+J93+J96+J99+J102+J107+J110+J113+J116+J119+J132+J139+J142+J145+J151+J228+J130+J135+J154+J157+J160+J223+J227 -> 389592 | ... AA12: =AA16+AA19+AA22+AA25+AA28+AA31+AA34+AA37+AA40+AA43+AA46+AA49+AA52+AA55+AA58+AA60+AA62+AA67+AA70+AA73+AA76+AA79+AA82+AA85+AA90+AA93+AA96+AA99+AA102+AA107+AA110+AA113+AA116+AA119+AA132+AA139+AA142+AA145+AA151+AA228+AA130+AA135+AA154+AA157+AA160+AA223+AA227 -> -4812 | AC12: =SUM(AC14:AC229) -> 1253068 | AD12: =SUM(AD14:AD229) -> 317.16 | AE12: =SUM(AE14:AE229) -> 83138 | AF12: =SUM(AF14:AF229) -> 1170247.2 | AG12: =SUM(AG14:AG229) -> 562910
A13: I | B13: KHỐI QUẢN LÝ NHÀ NƯỚC | C13: =C14+C17+C20+C23+C26+C29+C32+C35+C38+C41+C44+C47+C50+C53+C56+C59 -> 3637083.2 | D13: =D14+D17+D20+D23+D26+D29+D32+D35+D38+D41+D44+D47+D50+D53+D56+D59 -> 40649 | E13: =E14+E17+E20+E23+E26+E29+E32+E35+E38+E41+E44+E47+E50+E53+E56+E59 -> 3596434.2 | F13: =F14+F17+F20+F23+F26+F29+F32+F35+F38+F41+F44+F47+F50+F53+F56+F59 -> 1034294 | G13: =G14+G17+G20+G23+G26+G29+G32+G35+G38+G41+G44+G47+G50+G53+G56+G59 -> 62839 | H13: =H14+H17+H20+H23+H26+H29+H32+H35+H38+H41+H44+H47+H50+H53+H56+H59 -> 0 | I13: =I14+I17+I20+I23+I26+I29+I32+I35+I38+I41+I44+I47+I50+I53+I56+I59 -> 2885 | J13: =J14+J17+J20+J23+J26+J29+J32+J35+J38+J41+J44+J47+J50+J53+J56+J59 -> 727386 | ... T13: =T14+T17+T20+T23+T26+T29+T32+T35+T38+T41+T44+T47+T50+T53+T56+T59 -> 9823 | AA13: =W13+X13+Y13+Z13 -> 0 | AJ13: =SUM(AI14:AI62) -> 2547647
A14: 1 | B14: Văn phòng Đoàn Đại biểu Quốc hội - Hội đồng nhân dân | C14: =C15+C16 -> 55256 | D14: =D15+D16 -> 453 | E14: =E15+E16 -> 54803 | F14: =F15+F16 -> 0 | G14: =G15+G16 -> 0 | H14: =H15+H16 -> 0 | I14: =I15+I16 -> 0 | J14: =J15+J16 -> 0 | ... T14: =T15+T16 -> 0 | AA14: =W14+X14+Y14+Z14 -> 0 | AJ14: =AI15+AI18+AI24+AI27+AI30+AI33+AI36+AI39+AI42+AI45+AI48+AI57+AI21+AI54 -> 2533627 | AK14: =AJ14+AI51 -> 2547647
B15: tỉnh Thái Nguyên | C15: =D15+E15 -> 40770 | D15: 155 | E15: =F15+G15+H15+I15+J15+K15+L15+M15+N15+O15+R15+S15+T15 -> 40615 | R15: 40615 | AA15: =W15+X15+Y15+Z15 -> 0 | AI15: =E15-U15-V15 -> 40615
B16: tỉnh Bắc Kạn | C16: =D16+E16 -> 14486 | D16: 298 | E16: =F16+G16+H16+I16+J16+K16+L16+M16+N16+O16+R16+S16+T16 -> 14188 | R16: =-1387+383+15192 -> 14188 | W16: -1387 | Z16: 383 | AA16: =W16+X16+Y16+Z16 -> -1004 | AC16: 14188 | AF16: =AC16+AD16-AE16 -> 14188 | AG16: =E16-AF16 -> 0
A17: 2 | B17: Văn phòng Ủy ban nhân dân tỉnh | C17: =C18+C19 -> 128473 | D17: =D18+D19 -> 2386 | E17: =E18+E19 -> 126087 | F17: =F18+F19 -> 0 | G17: =G18+G19 -> 0 | H17: =H18+H19 -> 0 | I17: =I18+I19 -> 0 | J17: =J18+J19 -> 0 | ... T17: =T18+T19 -> 0 | Z17: -578 | AA17: =W17+X17+Y17+Z17 -> -578 | AF17: =AC17+AD17-AE17 -> 0
B18: tỉnh Thái Nguyên | C18: =D18+E18 -> 94201 | D18: 407 | E18: =F18+G18+H18+I18+J18+K18+L18+M18+N18+O18+R18+S18+T18 -> 93794 | K18: 15735 | O18: 3149 | R18: =5179+69731 -> 74910 | AA18: =W18+X18+Y18+Z18 -> 0 | AF18: =AC18+AD18-AE18 -> 0 | AI18: =E18-U18-V18 -> 93794
B19: tỉnh Bắc Kạn | C19: =D19+E19 -> 34272 | D19: 1979 | E19: =F19+G19+H19+I19+J19+K19+L19+M19+N19+O19+R19+S19+T19 -> 32293 | K19: =-343-310+4019 -> 3366 | O19: =-1011-3703+9246 -> 4532 | R19: =26558+142-1727-578 -> 24395 | W19: =-1727-1011 -> -2738 | Y19: =-310-3703 -> -4013 | AA19: =W19+X19+Y19+Z19 -> -6751 | AB19: 142 tr chuyển nhiệm vụ VPTU sang UBND tỉnh | AC19: 32293 | AF19: =AC19+AD19-AE19 -> 32293 | AG19: =E19-AF19 -> 0
A20: 3 | B20: Sở Nông nghiệp và Môi trường | C20: =C21+C22 -> 553429.16 | D20: =D21+D22 -> 4755 | E20: =E21+E22 -> 548674.16 | F20: =F21+F22 -> 0 | G20: =G21+G22 -> 0 | H20: =H21+H22 -> 0 | I20: =I21+I22 -> 0 | J20: =J21+J22 -> 0 | ... T20: =T21+T22 -> 0 | AA20: =W20+X20+Y20+Z20 -> 0 | AF20: =AC20+AD20-AE20 -> 0
B21: tỉnh Thái Nguyên | C21: =D21+E21 -> 368287 | D21: 1916 | E21: =F21+G21+H21+I21+J21+K21+L21+M21+N21+O21+R21+S21+T21 -> 366371 | N21: 40000 | O21: 235525 | R21: =-1214+92060 -> 90846 | U21: -1214 | AA21: =W21+X21+Y21+Z21 -> 0 | AF21: =AC21+AD21-AE21 -> 0 | AI21: =E21-U21-V21 -> 367585
B22: tỉnh Bắc Kạn | C22: =D22+E22 -> 185142.16 | D22: 2839 | E22: =F22+G22+H22+I22+J22+K22+L22+M22+N22+O22+R22+S22+T22 -> 182303.16 | N22: =14404+1862 -> 16266 | O22: =213.16+80553 -> 80766.16 | Q22: 51311 | R22: =-1341+79790-1957+8779 -> 85271 | U22: -1341 | W22: =-593-1364 -> -1957 | X22: 8779 | AA22: =W22+X22+Y22+Z22 -> 6822 | AC22: 167686 | AD22: 213.16 | AF22: =AC22+AD22-AE22 -> 167899.16 | AG22: =E22-AF22 -> 14404
A23: 4 | B23: Sở Tư pháp | C23: =C24+C25 -> 37853 | D23: =D24+D25 -> 706 | E23: =E24+E25 -> 37147 | F23: =F24+F25 -> 162 | G23: =G24+G25 -> 0 | H23: =H24+H25 -> 0 | I23: =I24+I25 -> 0 | J23: =J24+J25 -> 0 | ... T23: =T24+T25 -> 7012 | AA23: =W23+X23+Y23+Z23 -> 0 | AF23: =AC23+AD23-AE23 -> 0
B24: tỉnh Thái Nguyên | C24: =D24+E24 -> 23247 | D24: 220 | E24: =F24+G24+H24+I24+J24+K24+L24+M24+N24+O24+R24+S24+T24 -> 23027 | F24: 162 | O24: 12889 | R24: 9976 | AA24: =W24+X24+Y24+Z24 -> 0 | AF24: =AC24+AD24-AE24 -> 0 | AI24: =E24-U24-V24 -> 23027
B25: tỉnh Bắc Kạn | C25: =D25+E25 -> 14606 | D25: 486 | E25: =F25+G25+H25+I25+J25+K25+L25+M25+N25+O25+R25+S25+T25 -> 14120 | O25: 13 | R25: =-171+7856-590 -> 7095 | T25: 7012 | U25: -171 | W25: =-394-196 -> -590 | AA25: =W25+X25+Y25+Z25 -> -590 | AC25: 14107 | AD25: 13 | AF25: =AC25+AD25-AE25 -> 14120 | AG25: =E25-AF25 -> 0
A26: 5 | B26: Sở Công Thương | C26: =C27+C28 -> 56390 | D26: =D27+D28 -> 378 | E26: =E27+E28 -> 56012 | F26: =F27+F28 -> 0 | G26: =G27+G28 -> 0 | H26: =H27+H28 -> 0 | I26: =I27+I28 -> 0 | J26: =J27+J28 -> 0 | ... T26: =T27+T28 -> 140 | AA26: =W26+X26+Y26+Z26 -> 0 | AF26: =AC26+AD26-AE26 -> 0
B27: tỉnh Thái Nguyên | C27: =D27+E27 -> 46370 | D27: 273 | E27: =F27+G27+H27+I27+J27+K27+L27+M27+N27+O27+R27+S27+T27 -> 46097 | O27: 16497 | R27: =30612-1012 -> 29600 | U27: -1012 | AA27: =W27+X27+Y27+Z27 -> 0 | AF27: =AC27+AD27-AE27 -> 0 | AI27: =E27-U27-V27 -> 47109
B28: tỉnh Bắc Kạn | C28: =D28+E28 -> 10020 | D28: 105 | E28: =F28+G28+H28+I28+J28+K28+L28+M28+N28+O28+R28+S28+T28 -> 9915 | O28: =1463+1 -> 1464 | R28: =-530+9264-423 -> 8311 | T28: 140 | U28: -530 | W28: =-423 -> -423 | Y28: 1463 | AA28: =W28+X28+Y28+Z28 -> 1040 | AB28: 140 chuyển kinh phí từ QLTT sang SCT | AC28: 9914 | AD28: 1 | AF28: =AC28+AD28-AE28 -> 9915 | AG28: =E28-AF28 -> 0
A29: 6 | B29: Sở Khoa học và Công nghệ | C29: =C30+C31 -> 135176 | D29: =D30+D31 -> 707 | E29: =E30+E31 -> 134469 | F29: =F30+F31 -> 1170 | G29: =G30+G31 -> 62839 | H29: =H30+H31 -> 0 | I29: =I30+I31 -> 0 | J29: =J30+J31 -> 0 | ... T29: =T30+T31 -> 0 | AA29: =W29+X29+Y29+Z29 -> 0 | AF29: =AC29+AD29-AE29 -> 0
B30: tỉnh Thái Nguyên | C30: =D30+E30 -> 94993 | D30: 308 | E30: =F30+G30+H30+I30+J30+K30+L30+M30+N30+O30+R30+S30+T30 -> 94685 | F30: 1170 | G30: 45371 | K30: =-15595+49501 -> 33906 | R30: =-709+14947 -> 14238 | U30: -709 | V30: -15595 | AA30: =W30+X30+Y30+Z30 -> 0 | AB30: Giảm nhiệm vụ ứng dụng CNTT | AF30: =AC30+AD30-AE30 -> 0 | AI30: =E30-U30-V30 -> 110989
B31: tỉnh Bắc Kạn | C31: =D31+E31 -> 40183 | D31: 399 | E31: =F31+G31+H31+I31+J31+K31+L31+M31+N31+O31+R31+S31+T31 -> 39784 | G31: =-251+17719 -> 17468 | K31: =1+7538-145 -> 7394 | O31: 3883 | R31: =-445+11803-523+204 -> 11039 | U31: -445 | W31: =-251-145-523 -> -919 | Z31: 204 | AA31: =W31+X31+Y31+Z31 -> -715 | AC31: 39783 | AD31: 1 | AF31: =AC31+AD31-AE31 -> 39784 | AG31: =E31-AF31 -> 0
A32: 7 | B32: Sở Tài chính | C32: =C33+C34 -> 61207 | D32: =D33+D34 -> 1223 | E32: =E33+E34 -> 59984 | F32: =F33+F34 -> 0 | G32: =G33+G34 -> 0 | H32: =H33+H34 -> 0 | I32: =I33+I34 -> 0 | J32: =J33+J34 -> 0 | ... T32: =T33+T34 -> 0 | AA32: =W32+X32+Y32+Z32 -> 0 | AF32: =AC32+AD32-AE32 -> 0
B33: tỉnh Thái Nguyên | C33: =D33+E33 -> 36863 | D33: 414 | E33: =F33+G33+H33+I33+J33+K33+L33+M33+N33+O33+R33+S33+T33 -> 36449 | O33: =-338+5897 -> 5559 | R33: =338-1121+31673 -> 30890 | U33: -1121 | AA33: =W33+X33+Y33+Z33 -> 0 | AF33: =AC33+AD33-AE33 -> 0 | AI33: =E33-U33-V33 -> 37570
B34: tỉnh Bắc Kạn | C34: =D34+E34 -> 24344 | D34: 809 | E34: =F34+G34+H34+I34+J34+K34+L34+M34+N34+O34+R34+S34+T34 -> 23535 | O34: =-990+9371+2076 -> 10457 | R34: =-588+16207-2351-190 -> 13078 | U34: -588 | W34: -2351 | Y34: 2076 | Z34: -190 | AA34: =W34+X34+Y34+Z34 -> -465 | AC34: 24525 | AE34: 990 | AF34: =AC34+AD34-AE34 -> 23535 | AG34: =E34-AF34 -> 0
A35: 8 | B35: Sở Xây dựng | C35: =C36+C37 -> 157848 | D35: =D36+D37 -> 2381 | E35: =E36+E37 -> 155467 | F35: =F36+F37 -> 60 | G35: =G36+G37 -> 0 | H35: =H36+H37 -> 0 | I35: =I36+I37 -> 2885 | J35: =J36+J37 -> 0 | ... T35: =T36+T37 -> 0 | AA35: =W35+X35+Y35+Z35 -> 0 | AF35: =AC35+AD35-AE35 -> 0
B36: tỉnh Thái Nguyên | C36: =D36+E36 -> 104105 | D36: =8+393 -> 401 | E36: =F36+G36+H36+I36+J36+K36+L36+M36+N36+O36+R36+S36+T36 -> 103704 | F36: 60 | O36: =58661+20000 -> 78661 | R36: =-1393+26376 -> 24983 | U36: -1393 | AA36: =W36+X36+Y36+Z36 -> 0 | AF36: =AC36+AD36-AE36 -> 0 | AI36: =E36-U36-V36 -> 105097
B37: tỉnh Bắc Kạn | C37: =D37+E37 -> 53743 | D37: =142+1838 -> 1980 | E37: =F37+G37+H37+I37+J37+K37+L37+M37+N37+O37+R37+S37+T37 -> 51763 | I37: =1993+1009-117 -> 2885 | O37: =-1170-39233+68343+5457 -> 33397 | P37: =-39233+67233 -> 28000 | R37: =-2162+19109-1656+190 -> 15481 | U37: -2162 | W37: =-1656-117 -> -1773 | Z37: 190 | AA37: =W37+X37+Y37+Z37 -> -1583 | AC37: 86709 | AE37: =1170+39233 -> 40403 | AF37: =AC37+AD37-AE37 -> 46306 | AG37: =E37-AF37 -> 5457
A38: 9 | B38: Sở Giáo dục và Đào tạo | C38: =C39+C40 -> 1068507 | D38: =D39+D40 -> 12299 | E38: =E39+E40 -> 1056208 | F38: =F39+F40 -> 1029344 | G38: =G39+G40 -> 0 | H38: =H39+H40 -> 0 | I38: =I39+I40 -> 0 | J38: =J39+J40 -> 0 | ... T38: =T39+T40 -> 0 | AA38: =W38+X38+Y38+Z38 -> 0 | AF38: =AC38+AD38-AE38 -> 0
B39: tỉnh Thái Nguyên | C39: =D39+E39 -> 786350 | D39: 5168 | E39: =F39+G39+H39+I39+J39+K39+L39+M39+N39+O39+R39+S39+T39 -> 781182 | F39: =-17-153-20074+729572+56704 -> 766032 | R39: =17-430+15563 -> 15150 | U39: =-153-430 -> -583 | V39: -20074 | AA39: =W39+X39+Y39+Z39 -> 0 | AB39: chuyển sang Trường CĐ TN | AF39: =AC39+AD39-AE39 -> 0 | AI39: =E39-U39-V39 -> 801839
B40: tỉnh Bắc Kạn | C40: =D40+E40 -> 282157 | D40: 7131 | E40: =F40+G40+H40+I40+J40+K40+L40+M40+N40+O40+R40+S40+T40 -> 275026 | F40: =4+293619+9275-39586 -> 263312 | R40: =-552+12515-249 -> 11714 | U40: -552 | W40: =-249 -> -249 | X40: 9275 | AA40: =W40+X40+Y40+Z40 -> 9026 | AC40: 314608 | AD40: 4 | AE40: 39586 | AF40: =AC40+AD40-AE40 -> 275026 | AG40: =E40-AF40 -> 0
A41: 10 | B41: Sở Y tế | C41: =C42+C43 -> 823903 | D41: =D42+D43 -> 8556 | E41: =E42+E43 -> 815347 | F41: =F42+F43 -> 1679 | G41: =G42+G43 -> 0 | H41: =H42+H43 -> 0 | I41: =I42+I43 -> 0 | J41: =J42+J43 -> 721492 | ... T41: =T42+T43 -> 0 | AA41: =W41+X41+Y41+Z41 -> 0 | AF41: =AC41+AD41-AE41 -> 0
...

Sheet 37.02 TW
R1: Biểu mẫu số 37.1 NSTW
A2: DỰ TOÁN CHI THƯỜNG XUYÊN CỦA NGÂN SÁCH TRUNG ƯƠNG CHO TỪNG CƠ QUAN, TỔ CHỨC THEO LĨNH VỰC NĂM 2025
A3: (Dùng cho ngân sách các cấp chính quyền địa phương)
A4: (Kèm theo Công văn số /STC-HCSN ngày /7/2025 của Sở Tài chính)
B6: =E10-'[3]35 gửi NS'!G9 -> 205588.77 | E6: =E11-#REF! -> #REF! | R6: Đơn vị: Triệu đồng
A7: STT | B7: Tên đơn vị | C7: Tổng số chi ngân sách khối tỉnh | D7: Trừ tiết kiệm 10% chi thường xuyên | E7: Số được chi từ nguồn ngân sách nhà nước | F7: Chi giáo dục - đào tạo và dạy nghề | G7: Chi khoa học và công nghệ | H7: Chi quốc phòng | I7: Chi an ninh và trật tự an toàn xã hội | J7: Chi y tế, dân số và gia đình | K7: Chi văn hóa thông tin | L7: Chi phát thanh, truyền hình, thông tấn | M7: Chi thể dục thể thao | N7: Chi bảo vệ môi trường | O7: Chi các hoạt động kinh tế | P7: Trong đó | R7: Chi hoạt động của cơ quan quản lý nhà nước, đảng, đoàn thể | S7: Chi bảo đảm xã hội | T7: Chi thường xuyên khác
P8: Chi giao thông | Q8: Chi nông nghiệp, lâm nghiệp, thủy lợi, thủy sản
A9: A | B9: B | E9: 1 | F9: 2 | G9: 3 | H9: 4 | I9: 5 | J9: 6 | K9: 7 | L9: 8 | M9: 9 | N9: 10 | O9: 11 | P9: 12 | Q9: 13 | R9: 14 | S9: 15 | T9: 16
B10: TỔNG SỐ | C10: =C13+C16 -> 0 | D10: =D13+D16 -> 0 | E10: =E13+E16 -> 358312.77 | F10: =F13+F16 -> 39666 | G10: =G13+G16 -> 0 | H10: =H13+H16 -> 12800 | I10: =I13+I16 -> 9300 | J10: =J13+J16 -> 161498 | ... T10: =T13+T16 -> 0
B11: Chương trình mục tiêu xây dựng nông thôn mới | E11: =E14+E17 -> 31409.77 | F11: =F14+F17 -> 80 | G11: =G14+G17 -> 0 | H11: =H14+H17 -> 800 | I11: =I14+I17 -> 1500 | J11: =J14+J17 -> 103 | K11: =K14+K17 -> 994 | L11: =L14+L17 -> 0 | ... T11: =T14+T17 -> 0
B12: Bổ sung có mục tiêu từ NSTW | E12: =E15+E18 -> 326903 | F12: =F15+F18 -> 39586 | G12: =G15+G18 -> 0 | H12: =H15+H18 -> 12000 | I12: =I15+I18 -> 7800 | J12: =J15+J18 -> 161395 | K12: =K15+K18 -> 0 | L12: =L15+L18 -> 0 | ... T12: =T15+T18 -> 0
B13: tỉnh Thái Nguyên | E13: =F13+G13+H13+I13+J13+K13+L13+M13+N13+O13+R13+S13+T13 -> 94015.93 | F13: =F14+F15 -> 0 | G13: =G14+G15 -> 0 | H13: =H14+H15 -> 800 | I13: =I14+I15 -> 7729 | J13: =J14+J15 -> 92 | K13: =K14+K15 -> 950 | L13: =L14+L15 -> 0 | M13: =M14+M15 -> 0 | ... T13: =T14+T15 -> 0
B14: Chương trình mục tiêu xây dựng nông thôn mới | C14: =C19+C22 -> 0 | D14: =D19+D22 -> 0 | E14: =E24+E33+E42+E51+E60+E69+E78+E87+E96+E105+E129+E138+E147+E156+E165+E174+E185+E194+E203+E213+E116+E231+E240+E249+E222 -> 24253.93 | F14: =F24+F33+F42+F51+F60+F69+F78+F87+F96+F105+F129+F138+F147+F156+F165+F174+F185+F194+F203+F213+F116+F231+F240+F249+F222 -> 0 | G14: =G24+G33+G42+G51+G60+G69+G78+G87+G96+G105+G129+G138+G147+G156+G165+G174+G185+G194+G203+G213+G116+G231+G240+G249+G222 -> 0 | H14: =H24+H33+H42+H51+H60+H69+H78+H87+H96+H105+H129+H138+H147+H156+H165+H174+H185+H194+H203+H213+H116+H231+H240+H249+H222 -> 800 | I14: =I24+I33+I42+I51+I60+I69+I78+I87+I96+I105+I129+I138+I147+I156+I165+I174+I185+I194+I203+I213+I116+I231+I240+I249+I222 -> 1500 | J14: =J24+J33+J42+J51+J60+J69+J78+J87+J96+J105+J129+J138+J147+J156+J165+J174+J185+J194+J203+J213+J116+J231+J240+J249+J222 -> 0 | K14: =K24+K33+K42+K51+K60+K69+K78+K87+K96+K105+K129+K138+K147+K156+K165+K174+K185+K194+K203+K213+K116+K231+K240+K249+K222 -> 950 | L14: =L24+L33+L42+L51+L60+L69+L78+L87+L96+L105+L129+L138+L147+L156+L165+L174+L185+L194+L203+L213+L116+L231+L240+L249+L222 -> 0 | ... T14: =T24+T33+T42+T51+T60+T69+T78+T87+T96+T105+T129+T138+T147+T156+T165+T174+T185+T194+T203+T213+T116+T231+T240+T249+T222 -> 0
B15: Bổ sung có mục tiêu từ NSTW | C15: =C20+C23 -> 0 | D15: =D20+D23 -> 0 | E15: =E25+E34+E43+E52+E61+E70+E79+E88+E97+E106+E117+E130+E139+E148+E157+E166+E175+E186+E195+E204+E259 -> 69762 | F15: =F25+F34+F43+F52+F61+F70+F79+F88+F97+F106+F117+F130+F139+F148+F157+F166+F175+F186+F195+F204+F259 -> 0 | G15: =G25+G34+G43+G52+G61+G70+G79+G88+G97+G106+G117+G130+G139+G148+G157+G166+G175+G186+G195+G204+G259 -> 0 | H15: =H25+H34+H43+H52+H61+H70+H79+H88+H97+H106+H117+H130+H139+H148+H157+H166+H175+H186+H195+H204+H259 -> 0 | I15: =I25+I34+I43+I52+I61+I70+I79+I88+I97+I106+I117+I130+I139+I148+I157+I166+I175+I186+I195+I204+I259 -> 6229 | J15: =J25+J34+J43+J52+J61+J70+J79+J88+J97+J106+J117+J130+J139+J148+J157+J166+J175+J186+J195+J204+J259 -> 92 | K15: =K25+K34+K43+K52+K61+K70+K79+K88+K97+K106+K117+K130+K139+K148+K157+K166+K175+K186+K195+K204+K259 -> 0 | L15: =L25+L34+L43+L52+L61+L70+L79+L88+L97+L106+L117+L130+L139+L148+L157+L166+L175+L186+L195+L204+L259 -> 0 | ... T15: =T25+T34+T43+T52+T61+T70+T79+T88+T97+T106+T117+T130+T139+T148+T157+T166+T175+T186+T195+T204+T259 -> 0
B16: tỉnh Bắc Kạn | C16: =C17+C18 -> 0 | D16: =D17+D18 -> 0 | E16: =E17+E18 -> 264296.84 | F16: =F17+F18 -> 39666 | G16: =G17+G18 -> 0 | H16: =H17+H18 -> 12000 | I16: =I17+I18 -> 1571 | J16: =J17+J18 -> 161406 | ... T16: =T17+T18 -> 0
B17: Chương trình mục tiêu xây dựng nông thôn mới | C17: =C27+C36+C45+C54+C63+C72+C81+C90+C99+C108+C132+C141+C150+C159+C168+C177+C188+C197+C206 -> 0 | D17: =D27+D36+D45+D54+D63+D72+D81+D90+D99+D108+D132+D141+D150+D159+D168+D177+D188+D197+D206 -> 0 | E17: =E27+E36+E45+E54+E63+E72+E81+E90+E99+E108+E132+E141+E150+E159+E168+E177+E188+E197+E206+E216+E225+E234 -> 7155.84 | F17: =F27+F36+F45+F54+F63+F72+F81+F90+F99+F108+F132+F141+F150+F159+F168+F177+F188+F197+F206+F216+F225+F234 -> 80 | G17: =G27+G36+G45+G54+G63+G72+G81+G90+G99+G108+G132+G141+G150+G159+G168+G177+G188+G197+G206+G216+G225+G234 -> 0 | H17: =H27+H36+H45+H54+H63+H72+H81+H90+H99+H108+H132+H141+H150+H159+H168+H177+H188+H197+H206+H216+H225+H234 -> 0 | I17: =I27+I36+I45+I54+I63+I72+I81+I90+I99+I108+I132+I141+I150+I159+I168+I177+I188+I197+I206+I216+I225+I234 -> 0 | J17: =J27+J36+J45+J54+J63+J72+J81+J90+J99+J108+J132+J141+J150+J159+J168+J177+J188+J197+J206+J216+J225+J234 -> 103 | K17: =K27+K36+K45+K54+K63+K72+K81+K90+K99+K108+K132+K141+K150+K159+K168+K177+K188+K197+K206+K216+K225+K234 -> 44 | L17: =L27+L36+L45+L54+L63+L72+L81+L90+L99+L108+L132+L141+L150+L159+L168+L177+L188+L197+L206+L216+L225+L234 -> 0 | ... T17: =T27+T36+T45+T54+T63+T72+T81+T90+T99+T108+T132+T141+T150+T159+T168+T177+T188+T197+T206+T216+T225+T234 -> 0
