Workbook

Sheet Kangatang

Sheet Biểu Ctrinh  MTQG về ma túy, VH
A1: PHỤ BIỂU PHÂN BỔ KINH PHÍ THƯỜNG XUYÊN NĂM 2026 THỰC HIỆN CHƯƠNG TRÌNH MỤC TIÊU QUỐC GIA VỀ PHÒNG CHỐNG MA TÚY ĐẾN NĂM 2030; CHƯƠNG TRÌNH MỤC TIÊU QUỐC GIA VỀ PHÁT TRIỂN VĂN HÓA GIAI ĐOẠN 2025-2035, GIAI ĐOẠN I TỪ NĂM 2025-2030
A2: (Kèm theo Nghị quyết số 34/NQ-HĐND, ngày 27/8/2026 của HĐND xã Phú Xuyên)
F3: ĐVT: Đồng
A4: SỐ TT | B4: NỘI DUNG | C4: TỔNG SỐ | D4: TRONG ĐÓ | F4: Đơn vị thực hiện | G4: Ghi chú (Trích dẫn VB chi)
D5: NGÂN SÁCH TRUNG ƯƠNG | E5: NGÂN SÁCH TỈNH
B6: TỔNG SỐ | C6: =C7+C16 -> 1047000000 | D6: =D7+D16 -> 909000000 | E6: =E7+E16 -> 138000000
A7: I | B7: Kinh phí sự nghiệp thực hiện Chương trình mục tiêu quốc gia phòng, chống ma túy đến năm 2030 | C7: =SUM(C8:C15) -> 450000000 | D7: =SUM(D8:D15) -> 450000000
A8: 1 | B8: Dự án 4: Nâng cao hiệu quả công tác phòng, chống ma túy ở cơ sở | C8: =D8+E8 -> 270000000 | D8: 270000000 | F8: Công an xã Phú Xuyên | G8: Điều 11, Thông tư 147/TT-BTC ngày 31/12/2025
A9: 2 | B9: Dự án 5: Nâng cao hiệu quả cai nghiện ma túy và quản lý sau cai | C9: =D9 -> 50000000 | D9: 50000000 | F9: Công an xã Phú Xuyên | G9: Điều 12, Thông tư 147/TT-BTC ngày 31/12/2025
A10: 3 | B10: Dự án 6 - Tăng cường đáp ứng y tế trong phòng chống ma túy | C10: =D10+E10 -> 20000000 | D10: 20000000 | F10: Trạm y tế xã Phú Xuyên | G10: Điều 13, Thông tư 147/TT-BTC ngày 31/12/2025
A11: 4 | B11: Dự án 7 - Truyền thông, giáo dục về phòng chống ma túy | C11: =D11+E11 -> 20000000 | D11: 20000000 | F11: Trung tâm dịch vụ tổng hợp xã xã Phú Xuyên | G11: Điều 14, Thông tư 147/TT-BTC ngày 31/12/2025
C12: 20000000 | D12: 20000000 | F12: Ủy ban Mặt trận tổ quốc xã Phú Xuyên
A13: 5 | B13: Dự án 8 - Nâng cao khả năng tiếp cận, thụ hưởng về dịch vụ trợ giúp pháp lý chất lượng và giáo dục pháp luật trong phòng chống ma túy | C13: =D13 -> 20000000 | D13: 20000000 | F13: Các trường THCS trên địa bàn xã | G13: Điều 15, Thông tư 147/TT-BTC ngày 31/12/2025
C14: =D14 -> 30000000 | D14: 30000000 | F14: Văn phòng HĐND và UBND xã
C15: =D15 -> 20000000 | D15: 20000000 | F15: Phòng Kinh tế xã Phú Xuyên
A16: II | B16: Chương trình mục tiêu quốc gia về phát triển văn hoá giai đoạn 2025-2030, giai đoạn I từ năm 2025 đến năm 2030 | C16: =C17+C21+C23+C25 -> 597000000 | D16: =D17+D21+D23+D25 -> 459000000 | E16: =E17+E21+E23+E25 -> 138000000
A17: 1 | B17: Nội dung thành phần số 1. Phát triển con người Việt Nam có nhân cách và lối sống tốt đẹp | C17: =SUM(C18:C20) -> 160000000 | D17: =SUM(D18:D20) -> 123000000 | E17: =SUM(E18:E20) -> 37000000
A18: 1.1 | B18: Tập huấn kỹ năng tổ chức, quản lý và vận hành đội, nhóm, CLB thể dục, thể thao quần chúng tại trường học (Thực hiện nội dung 1.3.2 của Chương trình ban hành theo QĐ số 3399/QĐ-BVHTTDL; mục 3.4 điểm b1,b2 phụ lục 01 thông tư 07/2026/TT-BVHTTDL) | C18: 60000000 | D18: =C18-E18 -> 46120000 | E18: 13880000 | F18: Phòng Văn hóa - Xã hội xã Phú Xuyên | G18: Điều 5 và điều 18, thông tư 75/2026/TT-BTC ngày 25/6/2026
A19: 1.2 | B19: Hội nghị triển khai hệ giá trị gia đình Việt Nam, bộ tiêu chí ứng xử trong gia đình (Thực hiện nội dung 1.4.1 của Chương trình ban hành theo QĐ số 3399/QĐ-BVHTTDL; mục 3.6 điểm b phụ lục 01 thông tư 07/2026/TT-BVHTTDL) | C19: 60000000 | D19: =C19-E19 -> 46120000 | E19: 13880000 | F19: Phòng Văn hóa - Xã hội xã Phú Xuyên | G19: Điều 5 và điều 18, thông tư 75/2026/TT-BTC ngày 25/6/2027
A20: 1.3 | B20: Tổ chức triển khai các mô hình can thiệp, phòng ngừa và ứng phó bạo lực gia đình (Thực hiện nội dung 1.4.2 của Chương trình ban hành theo QĐ số 3399/QĐ-BVHTTDL; mục 3.7 điểm b1 phụ lục 01 thông tư 07/2026/TT-BVHTTDL) | C20: 40000000 | D20: =C20-E20 -> 30760000 | E20: =C20*23.1% -> 9240000 | F20: Ủy ban Mặt trận tổ quốc xã Phú Xuyên | G20: Điều 16 và điều 18, thông tư 75/2026/TT-BTC ngày 25/6/2028
A21: 2 | B21: Nội dung thành phần số 2: Xây dựng môi trường văn hóa lành mạnh, văn minh; phát triển hệ thống hạ tầng, cảnh quan, thiết chế văn hóa đồng bộ, hiệu quả | C21: =D21+E21 -> 216000000 | D21: =D22 -> 166000000 | E21: =E22 -> 50000000
A22: 2.1 | B22: Hỗ trợ phát triển văn hóa đọc gắn với các thiết chế thư viện (Thực hiện nội dung 2.5.1 của Chương trình ban hành theo QĐ số 3399/QĐ-BVHTTDL; mục 3.4 điểm b3, c3 phụ lục 02 thông tư 07/2026/TT-BVHTTDL) | C22: 216000000 | D22: =C22-E22 -> 166000000 | E22: 50000000 | F22: Phòng Văn hóa - Xã hội xã Phú Xuyên | G22: Mục 4 Điều 19 thông tư 75/2026/TT-BTC ngày 25/6/2028
A23: 3 | B23: Nội dung thành phần số 3: Nâng cao hiệu quả thông tin tuyên truyền và giáo dục văn hóa | C23: =D23+E23 -> 20000000 | D23: 15400000 | E23: 4600000
A24: 3.1 | B24: Tiếp tục triển khai các phương thức tuyên truyền cổ động trực quan (Thực hiện nội dung 3.1.6 của Chương trình ban hành theo QĐ số 3399/QĐ-BVHTTDL; mục 3.1.5.1 điểm d phụ lục 03 thông tư 07/2026/TT-BVHTTDL) | C24: 20000000 | D24: 15400000 | E24: 4600000 | F24: Trung tâm dịch vụ tổng hợp xã xã Phú Xuyên | G24: Điều 20 thông tư 75/2026/TT-BTC ngày 25/6/2028
A25: 4 | B25: Nội dung thành phần số 7: Đẩy mạnh chuyển đổi số và ứng dụng các thành tựu khoa học và công nghệ trong lĩnh vực văn hóa | C25: 201000000 | D25: 154600000 | E25: 46400000
A26: 4.1 | B26: Triển khai số hóa dữ liệu về di tích (Thực hiện nội dung 7.2.3 của Chương trình ban hành theo QĐ số 3399/QĐ-BVHTTDL; mục 3.2.3 điểm a phụ lục 07 thông tư 07/2026/TT-BVHTTDL) | C26: 201000000 | D26: 154600000 | E26: 46400000 | F26: Phòng Văn hóa - Xã hội xã Phú Xuyên | G26: Điều 8 thông tư 75/2026/TT-BTC ngày 25/6/2028

Sheet DT
A2: PHỤ BIỂU PHÂN BỔ KINH PHÍ THƯỜNG XUYÊN NĂM 2026 THỰC HIỆN CHƯƠNG TRÌNH MỤC TIÊU QUỐC GIA VỀ PHÒNG CHỐNG MA TÚY ĐẾN NĂM 2030; CHƯƠNG TRÌNH MỤC TIÊU QUỐC GIA VỀ PHÁT TRIỂN VĂN HÓA GIAI ĐOẠN 2025-2030, GIAI ĐOẠN I TỪ NĂM 2025-2030
A3: (Kèm theo Tờ trình số /TTr-UBND, ngày /7/2026 của UBND xã Hợp Thành)
H4: ĐVT: Đồng
A5: Số TT | B5: Đơn vị/Nội dung | C5: Mã DV QHNS | D5: Mã Chương | E5: Loại, khoản | F5: Mã nguồn | G5: Số tiền | H5: Ghi chú
B7: TỔNG SỐ
A8: 1 | B8: Công an xã | C8: 9128163 | D8: 860 | E8: 340-041 | F8: 12 | G8: =SUM(G9:G12) -> -389040000 | H8: =SUM(H9:H9) -> 0 | I8: 517040000 | J8: =SUM(J9:J11) -> 128000000
A9: - | B9: Chi hoạt động đảm bảo ANTT theo phân cấp | G9: =-(180000000-108000000) -> -72000000 | I9: 389040000 | J9: 20000000
A10: - | B10: Người được phân công trực tiếp giúp đỡ người được giáo dục tại xã theo Nghị quyết số 35/2022/NQ-HĐND | G10: -5000000 | H10: =SUM(H11:H11) -> 0 | I10: 128000000 | J10: 60000000
A11: - | B11: Đảm bảo an ninh trật tự trên địa bàn … | G11: -298000000 | J11: =I10-J9-J10 -> 48000000
A12: - | B12: Thù lao đối với người được giao nhiệm vụ tư vấn tâm lý, xã hội các đối tượng cai nghiện ma tuý tự nguyện theo Điều 3 Nghị quyết 06/2023 của HĐND tỉnh Thái Nguyên | G12: -14040000
A13: 3 | B13: Công an xã | C13: 1053629 | D13: 809 | E13: 040-041 | F13: 12 | G13: =SUM(G14:G17) -> 389040000 | H13: =SUM(H14) -> 0
A14: - | B14: Chi hoạt động đảm bảo ANTT theo phân cấp | G14: =180000000-108000000 -> 72000000
A15: - | B15: Người được phân công trực tiếp giúp đỡ người được giáo dục tại xã theo Nghị quyết số 35/2022/NQ-HĐND | G15: 5000000 | H15: =SUM(H16:H16) -> 0
A16: - | B16: Đảm bảo an ninh trật tự trên địa bàn … | G16: 298000000
A17: - | B17: Thù lao đối với người được giao nhiệm vụ tư vấn tâm lý, xã hội các đối tượng cai nghiện ma tuý tự nguyện theo Điều 3 Nghị quyết 06/2023 của HĐND tỉnh Thái Nguyên | G17: 14040000

Sheet BS
G1: Phụ biểu số 02
A2: PHỤ BIỂU BỔ SUNG DỰ TOÁN CHO CÁC ĐƠN VỊ THỰC HIỆN NHIỆM VỤ NĂM 2026
A3: =DT!A3 -> (Kèm theo Tờ trình số /TTr-UBND, ngày /7/2026 của UBND xã Hợp Thành)
H4: ĐVT: Đồng
A5: Số TT | B5: Đơn vị/Nội dung | C5: Mã DV QHNS | D5: Mã Chương | E5: Loại, khoản | F5: Mã nguồn | G5: Số tiền | H5: Ghi chú
B7: TỔNG SỐ | G7: =G8+G10+G12 -> 426070000
A8: I | B8: Văn phòng HĐND và UBND | C8: 1153731 | D8: 830 | E8: 340-341 | F8: 12 | G8: =SUM(G9:G10) -> 197000000
A9: 1 | B9: Sửa chữa mái nhà Hội trường đa năng bị hỏng do giông, lốc (Ngày 02/5/2026) | G9: =3000000*12 -> 36000000
A10: 2 | B10: Nâng cấp đường truyền mạng, bổ sung thiết bị phục vụ họp trực tuyến và tăng cường hệ thống bảo đảm an toàn, an ninh mạng; Các hội nghị sơ kết 6 tháng năm 2026, tuyên truyền phổ biến GDPL, kiểm tra tiến độ thực hiện nhiệm phát triển KT-XH trên địa bàn. | G10: 161000000 | I10: =G10+5000000 -> 166000000
A11: II | B11: Phòng Văn hoá - Xã hội | C11: 1151577 | D11: 832 | E11: 340-341 | F11: 12 | G11: =SUM(G12:G13) -> 213692040 | H11: =SUM(H12:H13) -> 0
A12: 1 | B12: Kinh phí thực hiện Chiến dịch 100 ngày số hóa, làm sạch, chuẩn hóa dữ liệu trên địa bàn xã Hợp Thành | G12: 68070000
A13: 2 | B13: Kinh phí thực hiện mô hình Chăm sóc sức khỏe cộng đồng và chăm sóc sức khỏe người cao tuổi; Điểm Thư viện và Trung tâm sinh hoạt văn hóa cộng đồng xã Hợp Thành | G13: 145622040
A14: III | B14: Văn phòng Đảng ủy | C14: 1149635 | D14: 819 | E14: 340-351 | F14: 12 | G14: =SUM(G15:G24) -> 468805740 | H14: =SUM(H15) -> 0
A15: 1 | B15: Truy lĩnh Phụ cấp chức vụ năm 2025 | G15: 27504360
A16: 2 | B16: Chênh lệch phụ cấp chức vụ năm 2026 | G16: 44261100
A17: 3 | B17: Chênh lệch phụ cấp phục vụ cấp uỷ và văn thư lưu trữ 2026 | G17: 70551000
A18: 4 | B18: Phụ cấp trách nhiệm đối với báo cáo viên cấp xã năm 2026 | G18: 33696000
A19: 5 | B19: Phụ cấp trách nhiệm đối với Uỷ viên BCH Đảng uỷ cấp xã, NK 2025-2030 | G19: 42120000
A20: 6 | B20: Truy lĩnh phụ cấp kiêm nhiệm 2025 | G20: 11400480
A21: 7 | B21: Phụ cấp kiêm nhiệm 2026 | G21: 11512800
A22: 8 | B22: Chế độ công tác viên dư luận xã hội | G22: 32760000
A23: 9 | B23: Kinh phí chi trả tiền công thuê khoán hợp đồng bảo vệ năm 2026 | G23: =3000000*12 -> 36000000
A24: 10 | B24: Kinh phí các Hội nghị: Tổng kết đánh giá kết quả 15 năm thực hiện Kết luận số 14-KL/TW; Nghị quyết số 26-NQ/TW; Kết luận số 62-KL/TW; Thông báo kết luận số 160-TB/TW; Sơ kết 05 năm thực hiện Chỉ thị số 04-CT/TW; QĐ 23-QĐ/TW | G24: =16602220+142397780 -> 159000000
A25: VI | B25: Uỷ ban MTTQ xã | C25: 1151295 | D25: 820 | E25: 340-361 | F25: 12 | G25: =SUM(G26:G27) -> 37000000 | H25: =SUM(H26:H26) -> 0
A26: 1 | B26: Phụ cấp công vụ, chức vụ, phụ cấp công tác Đảng, Đoàn thể năm 2026 | G26: 27000000
A27: 2 | B27: Chi hội nghị cung cấp thông tin; tiếp xúc, lắng nghe, nắm bắt tình hình tâm tư, nguyện vọng của đồng bào DTTS và miền núi xã Hợp Thành | G27: 10000000
A28: V | B28: Trung tâm Dịch vụ tổng hợp | C28: 1152383 | D28: 989 | E28: 280-338 | F28: 12 | G28: =SUM(G29:G31) -> 40000000 | H28: =SUM(H29:H29) -> 0
A29: 1 | B29: Kinh phí thực hiện các nhiệm vụ khuyến nông | G29: 20000000
A30: 2 | B30: Thanh toán Hồng kì phục vụ tết tết trồng cây | G30: 6000000
A31: 3 | B31: Kinh phí phục vụ công tác tuyên truyền năm 2026 | G31: 14000000 | I31: {=BS} -> #NAME?

Sheet ĐC giảm
G1: Phụ biểu số 03
A2: PHỤ BIỂU ĐIỀU CHỈNH DỰ TOÁN NĂM 2026
A3: =DT!A3 -> (Kèm theo Tờ trình số /TTr-UBND, ngày /7/2026 của UBND xã Hợp Thành)
G4: ĐVT: Đồng
A5: Số TT | B5: Đơn vị/Nội dung | C5: Mã ĐV QHNS | D5: Mã Chương | E5: Loại, khoản | F5: Mã nguồn | G5: Số tiền | H5: Ghi chú
A7: A | B7: TỔNG SỐ | G7: =G8 -> -737100000
A8: I | B8: Văn phòng Đảng ủy | C8: 1149635 | D8: 819 | E8: 340-351 | F8: 12 | G8: =SUM(G9:G9) -> -737100000
A9: 1 | B9: Giảm chế độ chính sách 30% phụ cấp công tác đảng đã cấp tại Quyết định số 733/QĐ-UBND, ngày 26/12/2025 | G9: -737100000

Sheet Chi xã
A1: Phụ lục II
A2: SỐ BỔ SUNG TỪ NGÂN SÁCH CẤP TỈNH CHO NGÂN SÁCH XÃ, PHƯỜNG NĂM 2025
A4: STT | B4: Địa phương | C4: TỔNG THU NSNN TRÊN ĐỊA BÀN | D4: Thu ngân sách địa phương | J4: Tổng chi ngân sách cấp xã | K4: Trong đó
D5: Tổng số | E5: Trong đó | K5: Chi từ nguồn thu tiền sử dụng đất | L5: Chi sự nghiệp giáo dục | M5: Dự phòng ngân sách | N5: Chi chuyển nguồn CCTL
E6: Thu NSĐP hưởng theo phân cấp | F6: Bổ sung từ ngân sách cấp tỉnh | I6: Thu chuyển nguồn CCTL
F7: Tổng | G7: Bổ sung cân đối | H7: Bổ sung mục tiêu | L7: Chi sự nghiệp giáo dục | N7: Dự phòng ngân sách
B8: Tổng số | C8: =SUM(C9:C63) -> #REF! | D8: =SUM(D9:D63) -> 5829057.2 | E8: =SUM(E9:E63) -> 137306.36 | F8: =SUM(F9:F63) -> 5633547.8 | G8: =SUM(G9:G63) -> 1126383.9 | H8: =SUM(H9:H63) -> 4507163.9 | I8: =SUM(I9:I63) -> 58203.096 | J8: =SUM(J9:J63) -> 5829057 | ... N8: =SUM(N9:N63) -> 25231.064
A9: 1 | B9: Phường Phan Đình Phùng | C9: =#REF! -> #REF! | D9: =E9+F9+I9 -> 362109.5 | E9: ='[1]Tổng '!D8 -> 16799.656 | F9: =SUM(G9:H9) -> 332634.94 | G9: ='[1]Tổng '!F8 -> 48168.925 | H9: ='[1]Tổng '!G8 -> 284466.02 | I9: ='[1]Tổng '!J8 -> 12674.906 | J9: ='[1]Tổng '!K8 -> 362109.5 | K9: ='[1]Tổng '!R8 -> 0 | L9: ='[1]Tổng '!N8 -> 284466.02 | M9: ='[1]Tổng '!S8 -> 1476.585 | N9: ='[1]Tổng '!T8 -> 3164.223
A10: 2 | B10: Phường Linh Sơn | C10: =#REF! -> #REF! | D10: =E10+F10+I10 -> 173243.08 | E10: ='[1]Tổng '!D9 -> 15823.05 | F10: =SUM(G10:H10) -> 155807.68 | G10: ='[1]Tổng '!F9 -> 30555.393 | H10: ='[1]Tổng '!G9 -> 125252.29 | I10: ='[1]Tổng '!J9 -> 1612.353 | J10: ='[1]Tổng '!K9 -> 173241.87 | K10: ='[1]Tổng '!R9 -> 0 | L10: ='[1]Tổng '!N9 -> 125252.29 | M10: ='[1]Tổng '!S9 -> 950.408 | N10: ='[1]Tổng '!T9 -> 0
A11: 3 | B11: Phường Tích Lương | C11: =#REF! -> #REF! | D11: =E11+F11+I11 -> 196644.31 | E11: ='[1]Tổng '!D10 -> 8485.552 | F11: =SUM(G11:H11) -> 184345.84 | G11: ='[1]Tổng '!F10 -> 35843.045 | H11: ='[1]Tổng '!G10 -> 148502.79 | I11: ='[1]Tổng '!J10 -> 3812.919 | J11: ='[1]Tổng '!K10 -> 196644.31 | K11: ='[1]Tổng '!R10 -> 0 | L11: ='[1]Tổng '!N10 -> 148502.79 | M11: ='[1]Tổng '!S10 -> 954.236 | N11: ='[1]Tổng '!T10 -> 0
A12: 4 | B12: Phường Gia Sàng | C12: =#REF! -> #REF! | D12: =E12+F12+I12 -> 134097.31 | E12: ='[1]Tổng '!D11 -> 6262.504 | F12: =SUM(G12:H12) -> 127746.35 | G12: ='[1]Tổng '!F11 -> 33361.671 | H12: ='[1]Tổng '!G11 -> 94384.681 | I12: ='[1]Tổng '!J11 -> 88.454 | J12: ='[1]Tổng '!K11 -> 134096.93 | K12: ='[1]Tổng '!R11 -> 0 | L12: ='[1]Tổng '!N11 -> 94384.681 | M12: ='[1]Tổng '!S11 -> 786.665 | N12: ='[1]Tổng '!T11 -> 0
A13: 5 | B13: Phường Quyết Thắng | C13: =#REF! -> #REF! | D13: =E13+F13+I13 -> 96246.388 | E13: ='[1]Tổng '!D12 -> 4524.46 | F13: =SUM(G13:H13) -> 73149.225 | G13: ='[1]Tổng '!F12 -> 14899.018 | H13: ='[1]Tổng '!G12 -> 58250.207 | I13: ='[1]Tổng '!J12 -> 18572.703 | J13: ='[1]Tổng '!K12 -> 96246.388 | K13: ='[1]Tổng '!R12 -> 0 | L13: ='[1]Tổng '!N12 -> 58250.207 | M13: ='[1]Tổng '!S12 -> 517.239 | N13: ='[1]Tổng '!T12 -> 11923.982
A14: 6 | B14: Phường Quan Triều | C14: =#REF! -> #REF! | D14: =E14+F14+I14 -> 140699.11 | E14: ='[1]Tổng '!D13 -> 8533.996 | F14: =SUM(G14:H14) -> 128841.65 | G14: ='[1]Tổng '!F13 -> 25823.682 | H14: ='[1]Tổng '!G13 -> 103017.97 | I14: ='[1]Tổng '!J13 -> 3323.46 | J14: ='[1]Tổng '!K13 -> 140699.11 | K14: ='[1]Tổng '!R13 -> 0 | L14: ='[1]Tổng '!N13 -> 103017.97 | M14: ='[1]Tổng '!S13 -> 746.747 | N14: ='[1]Tổng '!T13 -> 0
A15: 7 | B15: Xã Tân Cương | C15: =#REF! -> #REF! | D15: =E15+F15+I15 -> 88286.514 | E15: ='[1]Tổng '!D14 -> 5091.552 | F15: =SUM(G15:H15) -> 79767.741 | G15: ='[1]Tổng '!F14 -> 20457 | H15: ='[1]Tổng '!G14 -> 59310.741 | I15: ='[1]Tổng '!J14 -> 3427.221 | J15: ='[1]Tổng '!K14 -> 88287.514 | K15: ='[1]Tổng '!R14 -> 0 | L15: ='[1]Tổng '!N14 -> 59310.741 | M15: ='[1]Tổng '!S14 -> 574.137 | N15: ='[1]Tổng '!T14 -> 0
A16: 8 | B16: Xã Đại Phúc | C16: =#REF! -> #REF! | D16: =E16+F16+I16 -> 182952.77 | E16: ='[1]Tổng '!D15 -> 10764.008 | F16: =SUM(G16:H16) -> 167619.37 | G16: ='[1]Tổng '!F15 -> 23095.536 | H16: ='[1]Tổng '!G15 -> 144523.84 | I16: ='[1]Tổng '!J15 -> 4569.386 | J16: ='[1]Tổng '!K15 -> 182952.77 | K16: ='[1]Tổng '!R15 -> 0 | L16: ='[1]Tổng '!N15 -> 138869.84 | M16: ='[1]Tổng '!S15 -> 755.515 | N16: ='[1]Tổng '!T15 -> 20.609
A17: 9 | B17: Xã Đại Từ | C17: =#REF! -> #REF! | D17: =E17+F17+I17 -> 107914.5 | E17: ='[1]Tổng '!D16 -> 891 | F17: =SUM(G17:H17) -> 107023.5 | G17: ='[1]Tổng '!F16 -> 22609 | H17: ='[1]Tổng '!G16 -> 84414.5 | I17: ='[1]Tổng '!J16 -> 0 | J17: ='[1]Tổng '!K16 -> 107914.5 | K17: ='[1]Tổng '!R16 -> 0 | L17: ='[1]Tổng '!N16 -> 70493.5 | M17: ='[1]Tổng '!S16 -> 507 | N17: ='[1]Tổng '!T16 -> 0
A18: 10 | B18: Xã Đức Lương | C18: =#REF! -> #REF! | D18: =E18+F18+I18 -> 59716.3 | E18: ='[1]Tổng '!D17 -> 272 | F18: =SUM(G18:H18) -> 59444.3 | G18: ='[1]Tổng '!F17 -> 14332 | H18: ='[1]Tổng '!G17 -> 45112.3 | I18: ='[1]Tổng '!J17 -> 0 | J18: ='[1]Tổng '!K17 -> 59716.3 | K18: ='[1]Tổng '!R17 -> 0 | L18: ='[1]Tổng '!N17 -> 36303.3 | M18: ='[1]Tổng '!S17 -> 320 | N18: ='[1]Tổng '!T17 -> 0
A19: 11 | B19: Xã Phú Thịnh | C19: =#REF! -> #REF! | D19: =E19+F19+I19 -> 82372.8 | E19: ='[1]Tổng '!D18 -> 737 | F19: =SUM(G19:H19) -> 81635.8 | G19: ='[1]Tổng '!F18 -> 16481 | H19: ='[1]Tổng '!G18 -> 65154.8 | I19: ='[1]Tổng '!J18 -> 0 | J19: ='[1]Tổng '!K18 -> 82372.8 | K19: ='[1]Tổng '!R18 -> 0 | L19: ='[1]Tổng '!N18 -> 54629.8 | M19: ='[1]Tổng '!S18 -> 379 | N19: ='[1]Tổng '!T18 -> 0
A20: 12 | B20: Xã La Bằng | C20: =#REF! -> #REF! | D20: =E20+F20+I20 -> 78203 | E20: ='[1]Tổng '!D19 -> 1588 | F20: =SUM(G20:H20) -> 76615 | G20: ='[1]Tổng '!F19 -> 14700 | H20: ='[1]Tổng '!G19 -> 61915 | I20: ='[1]Tổng '!J19 -> 0 | J20: ='[1]Tổng '!K19 -> 78203 | K20: ='[1]Tổng '!R19 -> 0 | L20: ='[1]Tổng '!N19 -> 52223 | M20: ='[1]Tổng '!S19 -> 363 | N20: ='[1]Tổng '!T19 -> 0
... A63: 55 | B63: Xã Sảng Mộc | C63: =#REF! -> #REF! | D63: =E63+F63+I63 -> 41486.482 | E63: ='[1]Tổng '!D62 -> 52 | F63: =SUM(G63:H63) -> 41434.482 | G63: ='[1]Tổng '!F62 -> 5191 | H63: ='[1]Tổng '!G62 -> 36243.482 | I63: ='[1]Tổng '!J62 -> 0 | J63: ='[1]Tổng '!K62 -> 41486.482 | K63: ='[1]Tổng '!R62 -> 0 | L63: ='[1]Tổng '!N62 -> 33022.482 | M63: ='[1]Tổng '!S62 -> 109 | N63: ='[1]Tổng '!T62 -> 0

Sheet Sheet3
A1: STT | B1: Nội dung | C1: Dự toán năm 2025 | D1: Dự toán năm 2025 sau sắp xếp | E1: Chênh lệch
A2: 1 | B2: Tổng thu ngân sách nhà nước trên địa bàn | C2: =#REF! -> #REF! | D2: =#REF! -> #REF! | E2: =C2-D2 -> #REF!
A3: 2 | B3: Thu NSĐP hưởng theo phân cấp | C3: ='Chi xã'!E8 -> 137306.36 | D3: ='Chi xã'!E8 -> 137306.36 | E3: =C3-D3 -> 0
A4: 3 | B4: Số bổ sung cân đối | C4: ='Chi xã'!G8 -> 1126383.9 | D4: =C4 -> 1126383.9 | E4: =C4-D4 -> 0
A5: 4 | B5: Số bổ sung có mục tiêu | C5: ='[1]Tổng '!$I$7+3 -> 269232.66 | D5: =Chi!H9 -> 269229.66 | E5: =D5-C5 -> -3
A6: 5 | B6: Số thu chuyển nguồn CCTL | C6: ='Chi xã'!I8 -> 58203.096 | D6: =C6 -> 58203.096 | E6: =D6-C6 -> 0
A7: 6 | B7: Tổng chi ngân sách địa phương | C7: ='Chi xã'!J8-'Chi xã'!L8 -> 1591125.7 | D7: =Chi!J9 -> 1591125.7 | E7: =D7-C7 -> 0

Sheet Chi
A1: Phụ lục II
A2: SỐ BỔ SUNG TỪ NGÂN SÁCH CẤP TỈNH CHO NGÂN SÁCH XÃ, PHƯỜNG NĂM 2025
K4: ĐVT: Triệu đồng
A5: STT | B5: Địa phương | C5: TỔNG THU NSNN TRÊN ĐỊA BÀN | D5: Thu ngân sách địa phương | J5: Tổng chi ngân sách cấp xã
D6: Tổng số | E6: Trong đó | J6: Tổng số (*) | K6: Trong đó
E7: Thu NSĐP hưởng theo phân cấp | F7: Bổ sung từ ngân sách tỉnh | I7: Thu chuyển nguồn CCTL | K7: Chi nguyên trạng xã | L7: Chi từ nguồn thu tiền sử dụng đất | M7: Dự phòng ngân sách | N7: Chi chuyển nguồn CCTL
F8: Tổng | G8: Bổ sung cân đối | H8: Bổ sung mục tiêu (nguyên trạng xã) | N8: Dự phòng ngân sách
B9: Tổng số | C9: =C10+C18+C24+C30+C35+C39+C44+C48+C54+C59+C63+C67+C71+C75+C79+C82+C85+C88+C93+C98+C103+C107+C110+C116+C120+C125+C131+C135+C140+C143+C146+C149+C152+C155+C159+C163+C167+C172+C177+C181+C185+C190+C195+C199+C203+C206+C209+C212+C215+C219+C223+C226+C229+C232+C235 -> #REF! | D9: =D10+D18+D24+D30+D35+D39+D44+D48+D54+D59+D63+D67+D71+D75+D79+D82+D85+D88+D93+D98+D103+D107+D110+D116+D120+D125+D131+D135+D140+D143+D146+D149+D152+D155+D159+D163+D167+D172+D177+D181+D185+D190+D195+D199+D203+D206+D209+D212+D215+D219+D223+D226+D229+D232+D235+3 -> 1591126 | E9: =E10+E18+E24+E30+E35+E39+E44+E48+E54+E59+E63+E67+E71+E75+E79+E82+E85+E88+E93+E98+E103+E107+E110+E116+E120+E125+E131+E135+E140+E143+E146+E149+E152+E155+E159+E163+E167+E172+E177+E181+E185+E190+E195+E199+E203+E206+E209+E212+E215+E219+E223+E226+E229+E232+E235 -> 137306.36 | F9: =F10+F18+F24+F30+F35+F39+F44+F48+F54+F59+F63+F67+F71+F75+F79+F82+F85+F88+F93+F98+F103+F107+F110+F116+F120+F125+F131+F135+F140+F143+F146+F149+F152+F155+F159+F163+F167+F172+F177+F181+F185+F190+F195+F199+F203+F206+F209+F212+F215+F219+F223+F226+F229+F232+F235 -> 1395613.5 | G9: =G10+G18+G24+G30+G35+G39+G44+G48+G54+G59+G63+G67+G71+G75+G79+G82+G85+G88+G93+G98+G103+G107+G110+G116+G120+G125+G131+G135+G140+G143+G146+G149+G152+G155+G159+G163+G167+G172+G177+G181+G185+G190+G195+G199+G203+G206+G209+G212+G215+G219+G223+G226+G229+G232+G235 -> 1126383.9 | H9: =H10+H18+H24+H30+H35+H39+H44+H48+H54+H59+H63+H67+H71+H75+H79+H82+H85+H88+H93+H98+H103+H107+H110+H116+H120+H125+H131+H135+H140+H143+H146+H149+H152+H155+H159+H163+H167+H172+H177+H181+H185+H190+H195+H199+H203+H206+H209+H212+H215+H219+H223+H226+H229+H232+H235 -> 269229.66 | I9: =I10+I18+I24+I30+I35+I39+I44+I48+I54+I59+I63+I67+I71+I75+I79+I82+I85+I88+I93+I98+I103+I107+I110+I116+I120+I125+I131+I135+I140+I143+I146+I149+I152+I155+I159+I163+I167+I172+I177+I181+I185+I190+I195+I199+I203+I206+I209+I212+I215+I219+I223+I226+I229+I232+I235 -> 58203.096 | J9: =J10+J18+J24+J30+J35+J39+J44+J48+J54+J59+J63+J67+J71+J75+J79+J82+J85+J88+J93+J98+J103+J107+J110+J116+J120+J125+J131+J135+J140+J143+J146+J149+J152+J155+J159+J163+J167+J172+J177+J181+J185+J190+J195+J199+J203+J206+J209+J212+J215+J219+J223+J226+J229+J232+J235 -> 1591125.7 | K9: =K10+K18+K24+K30+K35+K39+K44+K48+K54+K59+K63+K67+K71+K75+K79+K82+K85+K88+K93+K98+K103+K107+K110+K116+K120+K125+K131+K135+K140+K143+K146+K149+K152+K155+K159+K163+K167+K172+K177+K181+K185+K190+K195+K199+K203+K206+K209+K212+K215+K219+K223+K226+K229+K232+K235 -> 1533402.4 | L9: =L10+L18+L24+L30+L35+L39+L44+L48+L54+L59+L63+L67+L71+L75+L79+L82+L85+L88+L93+L98+L103+L107+L110+L116+L120+L125+L131+L135+L140+L143+L146+L149+L152+L155+L159+L163+L167+L172+L177+L181+L185+L190+L195+L199+L203+L206+L209+L212+L215+L219+L223+L226+L229+L232+L235 -> 6932 | ... N9: =N10+N18+N24+N30+N35+N39+N44+N48+N54+N59+N63+N67+N71+N75+N79+N82+N85+N88+N93+N98+N103+N107+N110+N116+N120+N125+N131+N135+N140+N143+N146+N149+N152+N155+N159+N163+N167+N172+N177+N181+N185+N190+N195+N199+N203+N206+N209+N212+N215+N219+N223+N226+N229+N232+N235 -> 25231.064 | O9: =D9-J9 -> 0.258
A10: 1 | B10: Phường Phan Đình Phùng | C10: =SUM(C11:C17) -> 144798 | D10: =E10+F10+I10 -> 77643.487 | E10: =SUM(E11:E17) -> 16799.656 | F10: =SUM(F11:F17) -> 48168.925 | G10: =SUM(G11:G17) -> 48168.925 | H10: =SUM(H11:H17) -> 0 | I10: =SUM(I11:I17) -> 12674.906 | J10: =SUM(K10:N10) -> 77643.487 | K10: =SUM(K11:K17) -> 73002.679 | L10: ='[1]Tổng '!R8 -> 0 | M10: =SUM(M11:M17) -> 1476.585 | N10: =SUM(N11:N17) -> 3164.223
B11: Hoàng Văn Thụ | C11: 28763 | D11: =E11+F11+I11 -> 11451.487 | E11: ='[1]Thu '!D9 -> 2671.996 | F11: =SUM(G11:H11) -> 8779.491 | G11: ='[1]Thu '!E9 -> 8779.491 | H11: ='[1]Thu '!F9 -> 0 | J11: =SUM(K11:N11) -> 11489.719 | K11: =[1]TPTN!$I$16+[1]TPTN!$I$11 -> 11262.306 | M11: =[1]TPTN!$I$31 -> 227.413 | N11: =[1]TPTN!$I$33 -> 0
B12: Phan Đình Phùng | C12: 31077 | D12: =E12+F12+I12 -> 14785.307 | E12: ='[1]Thu '!D4 -> 2955.456 | F12: =SUM(G12:H12) -> 11813.65 | G12: ='[1]Thu '!E4 -> 11813.65 | H12: ='[1]Thu '!F4 -> 0 | I12: 16.201 | J12: =SUM(K12:N12) -> 14769.106 | K12: =[1]TPTN!$D$16 -> 14476.007 | M12: =[1]TPTN!$D$31 -> 293.099 | N12: =[1]TPTN!$D$33 -> 0
B13: Quang Trung | C13: 21166 | D13: =E13+F13+I13 -> 19513.458 | E13: ='[1]Thu '!D8 -> 2150.06 | F13: =SUM(G13:H13) -> 9044.985 | G13: ='[1]Thu '!E8 -> 9044.985 | H13: ='[1]Thu '!F8 -> 0 | I13: 8318.413 | J13: =SUM(K13:N13) -> 11195.045 | K13: =[1]TPTN!$H$16 -> 10973.01 | M13: =[1]TPTN!$H$31 -> 222.035 | N13: =[1]TPTN!$H$33 -> 0
B14: Trưng Vương | C14: 18137 | D14: =E14+F14+I14 -> 10901.66 | E14: ='[1]Thu '!D5 -> 2024.936 | F14: =SUM(G14:H14) -> 6618.939 | G14: ='[1]Thu '!E5 -> 6618.939 | H14: ='[1]Thu '!F5 -> 0 | I14: 2257.785 | J14: =SUM(K14:N14) -> 8660.076 | K14: =[1]TPTN!$E$16 -> 8488.105 | M14: =[1]TPTN!$E$31 -> 171.971 | N14: =[1]TPTN!$E$33 -> 0
B15: Đồng Quang | C15: 17118 | D15: =E15+F15+I15 -> 7051.96 | E15: ='[1]Thu '!D7 -> 1674.244 | F15: =SUM(G15:H15) -> 5377.716 | G15: ='[1]Thu '!E7 -> 5377.716 | H15: ='[1]Thu '!F7 -> 0 | J15: =SUM(K15:N15) -> 9309.745 | K15: =[1]TPTN!$G$16 -> 9125.195 | M15: =[1]TPTN!$G$31 -> 184.55 | N15: =[1]TPTN!$G$33 -> 0
B16: Túc Duyên | C16: 17304 | D16: =E16+F16+I16 -> 4417.925 | E16: ='[1]Thu '!D6 -> 1718.38 | F16: =SUM(G16:H16) -> 2661.313 | G16: ='[1]Thu '!E6 -> 2661.313 | H16: ='[1]Thu '!F6 -> 0 | I16: 38.232 | J16: =SUM(K16:N16) -> 12698.106 | K16: =[1]TPTN!$F$16 -> 9345.068 | M16: =[1]TPTN!$F$31 -> 188.815 | N16: =[1]TPTN!$F$33 -> 3164.223
B17: Tân Thịnh | C17: 11233 | D17: =E17+F17+I17 -> 9521.69 | E17: ='[1]Thu '!D10 -> 3604.584 | F17: =SUM(G17:H17) -> 3872.831 | G17: ='[1]Thu '!E10 -> 3872.831 | H17: ='[1]Thu '!F10 -> 0 | I17: 2044.275 | J17: =SUM(K17:N17) -> 9521.69 | K17: =[1]TPTN!$J$16 -> 9332.988 | M17: =[1]TPTN!$J$31 -> 188.702 | N17: =[1]TPTN!$J$33 -> 0
A18: 2 | B18: Phường Linh Sơn | C18: =SUM(C19:C23) -> 29400 | D18: =E18+F18+I18 -> 47990.796 | E18: =SUM(E19:E23) -> 15823.05 | F18: =SUM(G18:H18) -> 30555.393 | G18: =SUM(G19:G23) -> 30555.393 | H18: =SUM(H19:H23) -> 0 | I18: =SUM(I19:I23) -> 1612.353 | J18: =SUM(K18:N18) -> 47989.586 | K18: =SUM(K19:K23) -> 47039.178 | L18: ='[1]Tổng '!R9 -> 0 | M18: =SUM(M19:M23) -> 950.408 | N18: =SUM(N19:N23) -> 0
B19: Chùa Hang | C19: 9730 | D19: =E19+F19+I19 -> 9400.324 | E19: ='[1]Thu '!D11 -> 2908.554 | F19: =SUM(G19:H19) -> 6491.77 | G19: ='[1]Thu '!E11 -> 6491.77 | H19: ='[1]Thu '!F11 -> 0 | I19: ='[1]Thu '!G11 -> 0 | J19: =SUM(K19:N19) -> 9399.864 | K19: =[1]TPTN!$K$16 -> 9213.811 | M19: =[1]TPTN!$K$31 -> 186.053
B20: Cao Ngạn | C20: 6279 | D20: =E20+F20+I20 -> 9837.488 | E20: ='[1]Thu '!D12 -> 5851.92 | F20: =SUM(G20:H20) -> 3953.816 | G20: ='[1]Thu '!E12 -> 3953.816 | H20: ='[1]Thu '!F12 -> 0 | I20: ='[1]Thu '!G12 -> 31.752 | J20: =SUM(K20:N20) -> 9836.738 | K20: =[1]TPTN!$L$16 -> 9642 | M20: =[1]TPTN!$L$31 -> 194.738
B21: Đồng Bẩm | C21: 8845 | D21: =E21+F21+I21 -> 8896.69 | E21: ='[1]Thu '!D13 -> 3044.376 | F21: =SUM(G21:H21) -> 4334.569 | G21: ='[1]Thu '!E13 -> 4334.569 | H21: ='[1]Thu '!F13 -> 0 | I21: ='[1]Thu '!G13 -> 1517.745 | J21: =SUM(K21:N21) -> 8896.69 | K21: =[1]TPTN!$M$16 -> 8719.961 | M21: =[1]TPTN!$M$31 -> 176.729
B22: Linh Sơn | C22: 1486 | D22: =E22+F22+I22 -> 9999.087 | E22: ='[1]Thu '!D14 -> 1283.12 | F22: =SUM(G22:H22) -> 8680.651 | G22: ='[1]Thu '!E14 -> 8680.651 | H22: ='[1]Thu '!F14 -> 0 | I22: ='[1]Thu '!G14 -> 35.316 | J22: =SUM(K22:N22) -> 9999.087 | K22: =[1]TPTN!$N$16 -> 9801.165 | M22: =[1]TPTN!$N$31 -> 197.922
B23: Huống Thượng | C23: 3060 | D23: =E23+F23+I23 -> 9857.207 | E23: ='[1]Thu '!D15 -> 2735.08 | F23: =SUM(G23:H23) -> 7094.587 | G23: ='[1]Thu '!E15 -> 7094.587 | H23: ='[1]Thu '!F15 -> 0 | I23: ='[1]Thu '!G15 -> 27.54 | J23: =SUM(K23:N23) -> 9857.207 | K23: =[1]TPTN!$O$16 -> 9662.241 | M23: =[1]TPTN!$O$31 -> 194.966
A24: 3 | B24: Phường Tích Lương | C24: =SUM(C25:C29) -> 40670 | D24: =E24+F24+I24 -> 48141.516 | E24: =SUM(E25:E29) -> 8485.552 | F24: =SUM(G24:H24) -> 35843.045 | G24: =SUM(G25:G29) -> 35843.045 | H24: =SUM(H25:H29) -> 0 | I24: =SUM(I25:I29) -> 3812.919 | J24: =SUM(K24:N24) -> 48141.516 | K24: =SUM(K25:K29) -> 47187.28 | L24: ='[1]Tổng '!R10 -> 0 | M24: =SUM(M25:M29) -> 954.236 | N24: ='[1]Tổng '!T10 -> 0
B25: Phú Xá | C25: 4786 | D25: =E25+F25+I25 -> 9851.471 | E25: ='[1]Thu '!D16 -> 1770.772 | F25: =SUM(G25:H25) -> 7794.745 | G25: ='[1]Thu '!E16 -> 7794.745 | H25: ='[1]Thu '!F16 -> 0 | I25: ='[1]Thu '!G16 -> 285.954 | J25: =SUM(K25:N25) -> 9851.471 | K25: =[1]TPTN!$P$16 -> 9656.274 | M25: =[1]TPTN!$P$31 -> 195.197
B26: Trung Thành | C26: 9789 | D26: =E26+F26+I26 -> 10410.965 | E26: ='[1]Thu '!D17 -> 2734.904 | F26: =SUM(G26:H26) -> 7642.04 | G26: ='[1]Thu '!E17 -> 7642.04 | H26: ='[1]Thu '!F17 -> 0 | I26: ='[1]Thu '!G17 -> 34.021 | J26: =SUM(K26:N26) -> 10410.965 | K26: =[1]TPTN!$R$16 -> 10204.553 | M26: =[1]TPTN!$R$31 -> 206.412
B27: Tân Thành | C27: 1548 | D27: =E27+F27+I27 -> 7722.295 | E27: ='[1]Thu '!D18 -> 579.24 | F27: =SUM(G27:H27) -> 7143.055 | G27: ='[1]Thu '!E18 -> 7143.055 | H27: ='[1]Thu '!F18 -> 0 | I27: ='[1]Thu '!G18 -> 0 | J27: =SUM(K27:N27) -> 7722.295 | K27: =[1]TPTN!$Q$16 -> 7569.01 | M27: =[1]TPTN!$Q$31 -> 153.285
B28: Tân Lập | C28: 20874 | D28: =E28+F28+I28 -> 9600.532 | E28: ='[1]Thu '!D19 -> 2038.992 | F28: =SUM(G28:H28) -> 4101.969 | G28: ='[1]Thu '!E19 -> 4101.969 | H28: ='[1]Thu '!F19 -> 0 | I28: ='[1]Thu '!G19 -> 3459.571 | J28: =SUM(K28:N28) -> 9600.532 | K28: =[1]TPTN!$S$16 -> 9410.295 | M28: =[1]TPTN!$S$31 -> 190.237
B29: Tích Lương | C29: 3673 | D29: =E29+F29+I29 -> 10556.253 | E29: ='[1]Thu '!D20 -> 1361.644 | F29: =SUM(G29:H29) -> 9161.236 | G29: ='[1]Thu '!E20 -> 9161.236 | H29: ='[1]Thu '!F20 -> 0 | I29: ='[1]Thu '!G20 -> 33.373 | J29: =SUM(K29:N29) -> 10556.253 | K29: =[1]TPTN!$T$16 -> 10347.148 | M29: =[1]TPTN!$T$31 -> 209.105
A30: 4 | B30: Phường Gia Sàng | C30: =C31+C32+C33+C34 -> 33914 | D30: =E30+F30+I30 -> 39712.629 | E30: =E31+E32+E33+E34 -> 6262.504 | F30: =SUM(G30:H30) -> 33361.671 | G30: =G31+G32+G33+G34 -> 33361.671 | H30: =H31+H32+H33+H34 -> 0 | I30: =I31+I32+I33+I34 -> 88.454 | J30: =SUM(K30:N30) -> 39712.245 | K30: =K31+K32+K33+K34 -> 38925.58 | L30: ='[1]Tổng '!R11 -> 0 | M30: =SUM(M31:M34) -> 786.665 | N30: ='[1]Tổng '!T11 -> 0
B31: Hương Sơn | C31: 7885 | D31: =E31+F31+I31 -> 10955.339 | E31: ='[1]Thu '!D21 -> 2110.192 | F31: =SUM(G31:H31) -> 8809.507 | G31: ='[1]Thu '!E21 -> 8809.507 | H31: ='[1]Thu '!F21 -> 0 | I31: ='[1]Thu '!G21 -> 35.64 | J31: =SUM(K31:N31) -> 10954.956 | K31: =[1]TPTN!$U$16 -> 10738 | M31: =[1]TPTN!$U$31 -> 216.956
B32: Đồng Liên | C32: 658 | D32: =E32+F32+I32 -> 8572.281 | E32: ='[1]Thu '!D22 -> 521.744 | F32: =SUM(G32:H32) -> 8027.208 | G32: ='[1]Thu '!E22 -> 8027.208 | H32: ='[1]Thu '!F22 -> 0 | I32: ='[1]Thu '!G22 -> 23.329 | J32: =SUM(K32:N32) -> 8572.281 | K32: =[1]TPTN!$V$16 -> 8402.391 | M32: =[1]TPTN!$V$31 -> 169.89
B33: Cam Giá | C33: 4944 | D33: =E33+F33+I33 -> 9923.341 | E33: ='[1]Thu '!D23 -> 1642.748 | F33: =SUM(G33:H33) -> 8251.108 | G33: ='[1]Thu '!E23 -> 8251.108 | H33: ='[1]Thu '!F23 -> 0 | I33: ='[1]Thu '!G23 -> 29.485 | J33: =SUM(K33:N33) -> 9923.341 | K33: =[1]TPTN!$W$16 -> 9726.786 | M33: =[1]TPTN!$W$31 -> 196.555
B34: Gia Sàng | C34: 20427 | D34: =E34+F34+I34 -> 10261.668 | E34: ='[1]Thu '!D24 -> 1987.82 | F34: =SUM(G34:H34) -> 8273.848 | G34: ='[1]Thu '!E24 -> 8273.848 | H34: ='[1]Thu '!F24 -> 0 | I34: ='[1]Thu '!G24 -> 0 | J34: =SUM(K34:N34) -> 10261.667 | K34: =[1]TPTN!$X$16 -> 10058.403 | M34: =[1]TPTN!$X$31 -> 203.264
A35: 5 | B35: Phường Quyết Thắng | C35: =SUM(C36:C38) -> 26871 | D35: =E35+F35+I35 -> 37996.181 | E35: =SUM(E36:E38) -> 4524.46 | F35: =SUM(G35:H35) -> 14899.018 | G35: =SUM(G36:G38) -> 14899.018 | H35: =SUM(H36:H38) -> 0 | I35: =SUM(I36:I38) -> 18572.703 | J35: =SUM(K35:N35) -> 37996.181 | K35: =SUM(K36:K38) -> 25554.96 | L35: ='[1]Tổng '!R12 -> 0 | M35: =SUM(M36:M38) -> 517.239 | N35: =SUM(N36:N38) -> 11923.982
B36: Thịnh Đán | C36: 16359 | D36: =E36+F36+I36 -> 9388.71 | E36: ='[1]Thu '!D25 -> 1711.812 | F36: =SUM(G36:H36) -> 5925.902 | G36: ='[1]Thu '!E25 -> 5925.902 | H36: ='[1]Thu '!F25 -> 0 | I36: ='[1]Thu '!G25 -> 1750.996 | J36: =SUM(K36:N36) -> 9388.71 | K36: =[1]TPTN!$Y$16 -> 9202.417 | M36: =[1]TPTN!$Y$31 -> 186.293 | N36: =[1]TPTN!$Y$33 -> 0
B37: Quyết Thắng | C37: 9706 | D37: =E37+F37+I37 -> 21111.517 | E37: ='[1]Thu '!D26 -> 2073.448 | F37: =SUM(G37:H37) -> 2273.991 | G37: ='[1]Thu '!E26 -> 2273.991 | H37: ='[1]Thu '!F26 -> 0 | I37: ='[1]Thu '!G26 -> 16764.078 | J37: =SUM(K37:N37) -> 21111.517 | K37: =[1]TPTN!$Z$16 -> 9005.369 | M37: =[1]TPTN!$Z$31 -> 182.166 | N37: =[1]TPTN!$Z$33 -> 11923.982
B38: Phúc Hà | C38: 806 | D38: =E38+F38+I38 -> 7495.954 | E38: ='[1]Thu '!D27 -> 739.2 | F38: =SUM(G38:H38) -> 6699.125 | G38: ='[1]Thu '!E27 -> 6699.125 | H38: ='[1]Thu '!F27 -> 0 | I38: ='[1]Thu '!G27 -> 57.629 | J38: =SUM(K38:N38) -> 7495.954 | K38: =[1]TPTN!$AA$16 -> 7347.174 | M38: =[1]TPTN!$AA$31 -> 148.78 | N38: =[1]TPTN!$AA$33 -> 0
A39: 6 | B39: Phường Quan Triều | C39: =SUM(C40:C43) -> 20404 | D39: =E39+F39+I39 -> 37681.138 | E39: =SUM(E40:E43) -> 8533.996 | F39: =SUM(G39:H39) -> 25823.682 | G39: =SUM(G40:G43) -> 25823.682 | H39: =SUM(H40:H43) -> 0 | I39: =SUM(I40:I43) -> 3323.46 | J39: =SUM(K39:N39) -> 37681.138 | K39: =SUM(K40:K43) -> 36934.391 | L39: ='[1]Tổng '!R13 -> 0 | M39: =SUM(M40:M43) -> 746.747 | N39: =SUM(N40:N43) -> 0
B40: Tân Long | C40: 3987 | D40: =E40+F40+I40 -> 8491.646 | E40: ='[1]Thu '!D28 -> 1341.252 | F40: =SUM(G40:H40) -> 7129.01 | G40: ='[1]Thu '!E28 -> 7129.01 | H40: ='[1]Thu '!F28 -> 0 | I40: ='[1]Thu '!G28 -> 21.384 | J40: =SUM(K40:N40) -> 8491.646 | K40: =[1]TPTN!$AB$16 -> 8323.098 | M40: =[1]TPTN!$AB$31 -> 168.548
B41: Quan Triều | C41: 4215 | D41: =E41+F41+I41 -> 9033.232 | E41: ='[1]Thu '!D29 -> 1411.6 | F41: =SUM(G41:H41) -> 7621.632 | G41: ='[1]Thu '!E29 -> 7621.632 | H41: ='[1]Thu '!F29 -> 0 | I41: ='[1]Thu '!G29 -> 0 | J41: =SUM(K41:N41) -> 9033.232 | K41: =[1]TPTN!$AC$16 -> 8854.184 | M41: =[1]TPTN!$AC$31 -> 179.048
B42: Quang Vinh | C42: 7939 | D42: =E42+F42+I42 -> 8710.073 | E42: ='[1]Thu '!D30 -> 2488.144 | F42: =SUM(G42:H42) -> 6199.248 | G42: ='[1]Thu '!E30 -> 6199.248 | H42: ='[1]Thu '!F30 -> 0 | I42: ='[1]Thu '!G30 -> 22.681 | J42: =SUM(K42:N42) -> 8710.073 | K42: =[1]TPTN!$AD$16 -> 8537.434 | M42: =[1]TPTN!$AD$31 -> 172.639
B43: Sơn Cẩm | C43: 4263 | D43: =E43+F43+I43 -> 11446.187 | E43: ='[1]Thu '!D31 -> 3293 | F43: =SUM(G43:H43) -> 4873.792 | G43: ='[1]Thu '!E31 -> 4873.792 | H43: ='[1]Thu '!F31 -> 0 | I43: ='[1]Thu '!G31 -> 3279.395 | J43: =SUM(K43:N43) -> 11446.187 | K43: =[1]TPTN!$AE$16 -> 11219.675 | M43: =[1]TPTN!$AE$31 -> 226.512
A44: 7 | B44: Xã Tân Cương | C44: =SUM(C45:C47) -> 7139 | D44: =E44+F44+I44 -> 28975.773 | E44: =SUM(E45:E47) -> 5091.552 | F44: =SUM(G44:H44) -> 20457 | G44: =SUM(G45:G47) -> 20457 | H44: =SUM(H45:H47) -> 0 | I44: =SUM(I45:I47) -> 3427.221 | J44: =SUM(K44:N44) -> 28976.773 | K44: =SUM(K45:K47) -> 28402.636 | L44: ='[1]Tổng '!R14 -> 0 | M44: =SUM(M45:M47) -> 574.137 | N44: ='[1]Tổng '!T14 -> 0
B45: Tân Cương | C45: 2436 | D45: =E45+F45+I45 -> 8980.673 | E45: ='[1]Thu '!D32 -> 1874.68 | F45: =SUM(G45:H45) -> 7058.931 | G45: ='[1]Thu '!E32 -> 7058.931 | H45: ='[1]Thu '!F32 -> 0 | I45: ='[1]Thu '!G32 -> 47.062 | J45: =SUM(K45:N45) -> 8980.673 | K45: =[1]TPTN!$AF$16 -> 8801.782 | M45: =[1]TPTN!$AF$31 -> 178.891
B46: Thịnh Đức | C46: 3203 | D46: =E46+F46+I46 -> 8794.1 | E46: ='[1]Thu '!D33 -> 2813.872 | F46: =SUM(G46:H46) -> 2600.069 | G46: ='[1]Thu '!E33 -> 2600.069 | H46: ='[1]Thu '!F33 -> 0 | I46: ='[1]Thu '!G33 -> 3380.159 | J46: =SUM(K46:N46) -> 8794.1 | K46: =[1]TPTN!$AG$16 -> 8619.854 | M46: =[1]TPTN!$AG$31 -> 174.246
B47: Bình Sơn | C47: 1500 | D47: =E47+F47+I47 -> 11201 | E47: ='[1]Thu '!D129 -> 403 | F47: =SUM(G47:H47) -> 10798 | G47: ='[1]Thu '!E129 -> 10798 | H47: ='[1]Thu '!F129 -> 0 | J47: =SUM(K47:N47) -> 11202 | K47: ='[1]Sông Công'!$M$15 -> 10981 | M47: ='[1]Sông Công'!$M$30 -> 221
A48: 8 | B48: Xã Đại Phúc | C48: =SUM(C49:C53) -> 16778 | D48: =E48+F48+I48 -> 44082.93 | E48: =SUM(E49:E53) -> 10764.008 | F48: =SUM(G48:H48) -> 28749.536 | G48: =SUM(G49:G53) -> 23095.536 | H48: =SUM(H49:H53) -> 5654 | I48: =SUM(I49:I53) -> 4569.386 | J48: =SUM(K48:N48) -> 44082.93 | K48: =SUM(K49:K53) -> 43306.806 | L48: ='[1]Tổng '!R15 -> 0 | M48: =SUM(M49:M53) -> 755.515 | N48: =SUM(N49:N53) -> 20.609
B49: Phúc Xuân | C49: 2781 | D49: =E49+F49+I49 -> 8006.365 | E49: ='[1]Thu '!D34 -> 2473.672 | F49: =SUM(G49:H49) -> 1961.215 | G49: ='[1]Thu '!E34 -> 1961.215 | H49: ='[1]Thu '!F34 -> 0 | I49: ='[1]Thu '!G34 -> 3571.478 | J49: =SUM(K49:N49) -> 8006.365 | K49: =[1]TPTN!$AH$16 -> 7847.513 | M49: =[1]TPTN!$AH$31 -> 158.852
B50: Phúc Trìu | C50: 1615 | D50: =E50+F50+I50 -> 8274.793 | E50: ='[1]Thu '!D35 -> 1429.816 | F50: =SUM(G50:H50) -> 5867.678 | G50: ='[1]Thu '!E35 -> 5867.678 | H50: ='[1]Thu '!F35 -> 0 | I50: ='[1]Thu '!G35 -> 977.299 | J50: =SUM(K50:N50) -> 8274.793 | K50: =[1]TPTN!$AI$16 -> 8110.726 | M50: =[1]TPTN!$AI$31 -> 164.067
B51: Phúc Tân | C51: 122 | D51: =E51+F51+I51 -> 7992.772 | E51: ='[1]Thu '!D82 -> 90.52 | F51: =SUM(G51:H51) -> 7881.643 | G51: ='[1]Thu '!E82 -> 7881.643 | H51: ='[1]Thu '!F82 -> 0 | I51: ='[1]Thu '!$G$82 -> 20.609 | J51: =SUM(K51:N51) -> 7992.772 | K51: ='[1]Phổ Yên'!$D$15 -> 7814.567 | M51: ='[1]Phổ Yên'!$D$30 -> 157.596 | N51: ='[1]Phổ Yên'!$D$32 -> 20.609
B52: Tân Thái | C52: 1560 | D52: =E52+F52+I52 -> 7847 | E52: ='[1]Thu '!D37 -> 634 | F52: =SUM(G52:H52) -> 7213 | G52: ='[1]Thu '!E37 -> 4568 | H52: ='[1]Thu '!F37 -> 2645 | J52: =SUM(K52:N52) -> 7847 | K52: ='[1]Đại Từ'!$D$15 -> 7739 | M52: ='[1]Đại Từ'!$D$30 -> 108
B53: TT Hùng Sơn | C53: 10700 | D53: =E53+F53+I53 -> 11962 | E53: ='[1]Thu '!D38 -> 6136 | F53: =SUM(G53:H53) -> 5826 | G53: ='[1]Thu '!E38 -> 2817 | H53: ='[1]Thu '!F38 -> 3009 | J53: =SUM(K53:N53) -> 11962 | K53: ='[1]Đại Từ'!$E$15 -> 11795 | M53: ='[1]Đại Từ'!$E$30 -> 167
A54: 9 | B54: Xã Đại Từ | C54: =SUM(C55:C58) -> 2082 | D54: =E54+F54+I54 -> 37421 | E54: =SUM(E55:E58) -> 891 | F54: =SUM(G54:H54) -> 36530 | G54: =SUM(G55:G58) -> 22609 | H54: =SUM(H55:H58) -> 13921 | I54: =SUM(I55:I58) -> 0 | J54: =SUM(K54:N54) -> 37421 | K54: =SUM(K55:K58) -> 36914 | L54: ='[1]Tổng '!R16 -> 0 | M54: =SUM(M55:M58) -> 507 | N54: ='[1]Tổng '!T16 -> 0
B55: Bình Thuận | C55: 641 | D55: =E55+F55+I55 -> 9905 | E55: ='[1]Thu '!D39 -> 302 | F55: =SUM(G55:H55) -> 9603 | G55: ='[1]Thu '!E39 -> 5796 | H55: ='[1]Thu '!F39 -> 3807 | J55: =SUM(K55:N55) -> 9905 | K55: ='[1]Đại Từ'!$F$15 -> 9769 | M55: ='[1]Đại Từ'!$F$30 -> 136
B56: Khôi Kỳ | C56: 600 | D56: =E56+F56+I56 -> 9495 | E56: ='[1]Thu '!D40 -> 280 | F56: =SUM(G56:H56) -> 9215 | G56: ='[1]Thu '!E40 -> 5966 | H56: ='[1]Thu '!F40 -> 3249 | J56: =SUM(K56:N56) -> 9495 | K56: ='[1]Đại Từ'!$G$15 -> 9366 | M56: ='[1]Đại Từ'!$G$30 -> 129
B57: Mỹ Yên | C57: 272 | D57: =E57+F57+I57 -> 9942 | E57: ='[1]Thu '!D41 -> 125 | F57: =SUM(G57:H57) -> 9817 | G57: ='[1]Thu '!E41 -> 5991 | H57: ='[1]Thu '!F41 -> 3826 | J57: =SUM(K57:N57) -> 9942 | K57: ='[1]Đại Từ'!$H$15 -> 9809 | M57: ='[1]Đại Từ'!$H$30 -> 133
B58: Lục Ba | C58: 569 | D58: =E58+F58+I58 -> 8079 | E58: ='[1]Thu '!D42 -> 184 | F58: =SUM(G58:H58) -> 7895 | G58: ='[1]Thu '!E42 -> 4856 | H58: ='[1]Thu '!F42 -> 3039 | J58: =SUM(K58:N58) -> 8079 | K58: ='[1]Đại Từ'!$I$15 -> 7970 | M58: ='[1]Đại Từ'!$I$30 -> 109
A59: 10 | B59: Xã Đức Lương | C59: =SUM(C60:C62) -> 545 | D59: =E59+F59+I59 -> 23413 | E59: =SUM(E60:E62) -> 272 | F59: =SUM(G59:H59) -> 23141 | G59: =SUM(G60:G62) -> 14332 | H59: =SUM(H60:H62) -> 8809 | I59: =SUM(I60:I62) -> 0 | J59: =SUM(K59:N59) -> 23413 | K59: =SUM(K60:K62) -> 23093 | L59: ='[1]Tổng '!R17 -> 0 | M59: =SUM(M60:M62) -> 320 | N59: ='[1]Tổng '!T17 -> 0
B60: Minh Tiến | C60: 300 | D60: =E60+F60+I60 -> 7925 | E60: ='[1]Thu '!D43 -> 164 | F60: =SUM(G60:H60) -> 7761 | G60: ='[1]Thu '!E43 -> 4733 | H60: ='[1]Thu '!F43 -> 3028 | J60: =SUM(K60:N60) -> 7925 | K60: ='[1]Đại Từ'!$J$15 -> 7818 | M60: ='[1]Đại Từ'!$J$30 -> 107
B61: Đức Lương | C61: 115 | D61: =E61+F61+I61 -> 7147 | E61: ='[1]Thu '!D44 -> 55 | F61: =SUM(G61:H61) -> 7092 | G61: ='[1]Thu '!E44 -> 4509 | H61: ='[1]Thu '!F44 -> 2583 | J61: =SUM(K61:N61) -> 7147 | K61: ='[1]Đại Từ'!$K$15 -> 7048 | M61: ='[1]Đại Từ'!$K$30 -> 99
B62: Phúc Lương | C62: 130 | D62: =E62+F62+I62 -> 8341 | E62: ='[1]Thu '!D45 -> 53 | F62: =SUM(G62:H62) -> 8288 | G62: ='[1]Thu '!E45 -> 5090 | H62: ='[1]Thu '!F45 -> 3198 | J62: =SUM(K62:N62) -> 8341 | K62: ='[1]Đại Từ'!$L$15 -> 8227 | M62: ='[1]Đại Từ'!$L$30 -> 114
A63: 11 | B63: Xã Phú Thịnh | C63: =SUM(C64:C66) -> 1400 | D63: =E63+F63+I63 -> 27743 | E63: =SUM(E64:E66) -> 737 | F63: =SUM(G63:H63) -> 27006 | G63: =SUM(G64:G66) -> 16481 | H63: =SUM(H64:H66) -> 10525 | I63: =SUM(I64:I66) -> 0 | J63: =SUM(K63:N63) -> 27743 | K63: =SUM(K64:K66) -> 27364 | L63: ='[1]Tổng '!R18 -> 0 | M63: =SUM(M64:M66) -> 379 | N63: ='[1]Tổng '!T18 -> 0
B64: Phú Thịnh | C64: 300 | D64: =E64+F64+I64 -> 7678 | E64: ='[1]Thu '!D46 -> 141 | F64: =SUM(G64:H64) -> 7537 | G64: ='[1]Thu '!E46 -> 4762 | H64: ='[1]Thu '!F46 -> 2775 | J64: =SUM(K64:N64) -> 7678 | K64: ='[1]Đại Từ'!$M$15 -> 7571 | M64: ='[1]Đại Từ'!$M$30 -> 107
B65: Bản Ngoại | C65: 800 | D65: =E65+F65+I65 -> 10455 | E65: ='[1]Thu '!D47 -> 401 | F65: =SUM(G65:H65) -> 10054 | G65: ='[1]Thu '!E47 -> 5631 | H65: ='[1]Thu '!F47 -> 4423 | J65: =SUM(K65:N65) -> 10455 | K65: ='[1]Đại Từ'!$N$15 -> 10316 | M65: ='[1]Đại Từ'!$N$30 -> 139
B66: Phú Cường | C66: 300 | D66: =E66+F66+I66 -> 9610 | E66: ='[1]Thu '!D48 -> 195 | F66: =SUM(G66:H66) -> 9415 | G66: ='[1]Thu '!E48 -> 6088 | H66: ='[1]Thu '!F48 -> 3327 | J66: =SUM(K66:N66) -> 9610 | K66: ='[1]Đại Từ'!$O$15 -> 9477 | M66: ='[1]Đại Từ'!$O$30 -> 133
A67: 12 | B67: Xã La Bằng | C67: =SUM(C68:C70) -> 3185 | D67: =E67+F67+I67 -> 25980 | E67: =SUM(E68:E70) -> 1588 | F67: =SUM(G67:H67) -> 24392 | G67: =SUM(G68:G70) -> 14700 | H67: =SUM(H68:H70) -> 9692 | I67: =SUM(I68:I70) -> 0 | J67: =SUM(K67:N67) -> 25980 | K67: =SUM(K68:K70) -> 25617 | L67: ='[1]Tổng '!R19 -> 0 | M67: =SUM(M68:M70) -> 363 | N67: ='[1]Tổng '!T19 -> 0
B68: La Bằng | C68: 345 | D68: =E68+F68+I68 -> 7439 | E68: ='[1]Thu '!D49 -> 218 | F68: =SUM(G68:H68) -> 7221 | G68: ='[1]Thu '!E49 -> 4530 | H68: ='[1]Thu '!F49 -> 2691 | J68: =SUM(K68:N68) -> 7439 | K68: ='[1]Đại Từ'!$P$15 -> 7334 | M68: ='[1]Đại Từ'!$P$30 -> 105
B69: Hoàng Nông | C69: 460 | D69: =E69+F69+I69 -> 9424 | E69: ='[1]Thu '!D50 -> 250 | F69: =SUM(G69:H69) -> 9174 | G69: ='[1]Thu '!E50 -> 5557 | H69: ='[1]Thu '!F50 -> 3617 | J69: =SUM(K69:N69) -> 9424 | K69: ='[1]Đại Từ'!$Q$15 -> 9293 | M69: ='[1]Đại Từ'!$Q$30 -> 131
B70: Tiên Hội | C70: 2380 | D70: =E70+F70+I70 -> 9117 | E70: ='[1]Thu '!D51 -> 1120 | F70: =SUM(G70:H70) -> 7997 | G70: ='[1]Thu '!E51 -> 4613 | H70: ='[1]Thu '!F51 -> 3384 | J70: =SUM(K70:N70) -> 9117 | K70: ='[1]Đại Từ'!$R$15 -> 8990 | M70: ='[1]Đại Từ'!$R$30 -> 127
A71: 13 | B71: Xã Phú Lạc | C71: =SUM(C72:C74) -> 1540 | D71: =E71+F71+I71 -> 28822 | E71: =SUM(E72:E74) -> 658 | F71: =SUM(G71:H71) -> 28164 | G71: =SUM(G72:G74) -> 17233 | H71: =SUM(H72:H74) -> 10931 | I71: =SUM(I72:I74) -> 0 | J71: =SUM(K71:N71) -> 28822 | K71: =SUM(K72:K74) -> 28425 | L71: ='[1]Tổng '!R20 -> 0 | M71: =SUM(M72:M74) -> 397 | N71: ='[1]Tổng '!T20 -> 0
B72: Phú Lạc | C72: 410 | D72: =E72+F72+I72 -> 9924 | E72: ='[1]Thu '!D52 -> 175 | F72: =SUM(G72:H72) -> 9749 | G72: ='[1]Thu '!E52 -> 6001 | H72: ='[1]Thu '!F52 -> 3748 | J72: =SUM(K72:N72) -> 9924 | K72: ='[1]Đại Từ'!$S$15 -> 9786 | M72: ='[1]Đại Từ'!$S$30 -> 138
B73: Phục Linh | C73: 600 | D73: =E73+F73+I73 -> 9126 | E73: ='[1]Thu '!D53 -> 236 | F73: =SUM(G73:H73) -> 8890 | G73: ='[1]Thu '!E53 -> 5591 | H73: ='[1]Thu '!F53 -> 3299 | J73: =SUM(K73:N73) -> 9126 | K73: ='[1]Đại Từ'!$T$15 -> 9000 | M73: ='[1]Đại Từ'!$T$30 -> 126
B74: Tân Linh | C74: 530 | D74: =E74+F74+I74 -> 9772 | E74: ='[1]Thu '!D54 -> 247 | F74: =SUM(G74:H74) -> 9525 | G74: ='[1]Thu '!E54 -> 5641 | H74: ='[1]Thu '!F54 -> 3884 | J74: =SUM(K74:N74) -> 9772 | K74: ='[1]Đại Từ'!$U$15 -> 9639 | M74: ='[1]Đại Từ'!$U$30 -> 133
A75: 14 | B75: Xã An Khánh | C75: =SUM(C76:C78) -> 2179 | D75: =E75+F75+I75 -> 28472 | E75: =SUM(E76:E78) -> 1056 | F75: =SUM(G75:H75) -> 27416 | G75: =SUM(G76:G78) -> 15790 | H75: =SUM(H76:H78) -> 11626 | I75: =SUM(I76:I78) -> 0 | J75: =SUM(K75:N75) -> 28472 | K75: =SUM(K76:K78) -> 28084 | L75: ='[1]Tổng '!R21 -> 0 | M75: =SUM(M76:M78) -> 388 | N75: ='[1]Tổng '!T21 -> 0
B76: An Khánh | C76: 500 | D76: =E76+F76+I76 -> 9375 | E76: ='[1]Thu '!D55 -> 184 | F76: =SUM(G76:H76) -> 9191 | G76: ='[1]Thu '!E55 -> 5500 | H76: ='[1]Thu '!F55 -> 3691 | J76: =SUM(K76:N76) -> 9375 | K76: ='[1]Đại Từ'!$V$15 -> 9249 | M76: ='[1]Đại Từ'!$V$30 -> 126
B77: Cù Vân | C77: 780 | D77: =E77+F77+I77 -> 9495 | E77: ='[1]Thu '!D56 -> 323 | F77: =SUM(G77:H77) -> 9172 | G77: ='[1]Thu '!E56 -> 5574 | H77: ='[1]Thu '!F56 -> 3598 | J77: =SUM(K77:N77) -> 9495 | K77: ='[1]Đại Từ'!$W$15 -> 9363 | M77: ='[1]Đại Từ'!$W$30 -> 132
B78: Hà Thượng | C78: 899 | D78: =E78+F78+I78 -> 9602 | E78: ='[1]Thu '!D57 -> 549 | F78: =SUM(G78:H78) -> 9053 | G78: ='[1]Thu '!E57 -> 4716 | H78: ='[1]Thu '!F57 -> 4337 | J78: =SUM(K78:N78) -> 9602 | K78: ='[1]Đại Từ'!$X$15 -> 9472 | M78: ='[1]Đại Từ'!$X$30 -> 130
A79: 15 | B79: Xã Quân Chu | C79: =SUM(C80:C81) -> 2431 | D79: =E79+F79+I79 -> 20000 | E79: =SUM(E80:E81) -> 1004 | F79: =SUM(G79:H79) -> 18996 | G79: =SUM(G80:G81) -> 11987 | H79: =SUM(H80:H81) -> 7009 | I79: =SUM(I80:I81) -> 0 | J79: =SUM(K79:N79) -> 20000 | K79: =SUM(K80:K81) -> 19726 | L79: ='[1]Tổng '!R22 -> 0 | M79: =SUM(M80:M81) -> 274 | N79: ='[1]Tổng '!T22 -> 0
B80: Quân Chu | C80: 2031 | D80: =E80+F80+I80 -> 11583 | E80: ='[1]Thu '!D58 -> 858 | F80: =SUM(G80:H80) -> 10725 | G80: ='[1]Thu '!E58 -> 6757 | H80: ='[1]Thu '!F58 -> 3968 | J80: =SUM(K80:N80) -> 11583 | K80: ='[1]Đại Từ'!$Y$15 -> 11427 | M80: ='[1]Đại Từ'!$Y$30 -> 156
B81: Cát Nê | C81: 400 | D81: =E81+F81+I81 -> 8417 | E81: ='[1]Thu '!D59 -> 146 | F81: =SUM(G81:H81) -> 8271 | G81: ='[1]Thu '!E59 -> 5230 | H81: ='[1]Thu '!F59 -> 3041 | J81: =SUM(K81:N81) -> 8417 | K81: ='[1]Đại Từ'!$Z$15 -> 8299 | M81: ='[1]Đại Từ'!$Z$30 -> 118
A82: 16 | B82: Xã Vạn Phú | C82: =SUM(C83:C84) -> 3500 | D82: =E82+F82+I82 -> 23816 | E82: =SUM(E83:E84) -> 1937 | F82: =SUM(G82:H82) -> 21879 | G82: =SUM(G83:G84) -> 15708 | H82: =SUM(H83:H84) -> 6171 | I82: =SUM(I83:I84) -> 0 | J82: =SUM(K82:N82) -> 23817 | K82: =SUM(K83:K84) -> 23495 | L82: ='[1]Tổng '!R23 -> 0 | M82: =SUM(M83:M84) -> 322 | N82: ='[1]Tổng '!T23 -> 0
B83: Vạn Phú | C83: 3150 | D83: =E83+F83+I83 -> 13706 | E83: ='[1]Thu '!D60 -> 1769 | F83: =SUM(G83:H83) -> 11937 | G83: ='[1]Thu '!E60 -> 9508 | H83: ='[1]Thu '!F60 -> 2429 | J83: =SUM(K83:N83) -> 13706 | K83: ='[1]Đại Từ'!$AA$15 -> 13522 | M83: ='[1]Đại Từ'!$AA$30 -> 184
B84: Văn Yên | C84: 350 | D84: =E84+F84+I84 -> 10110 | E84: ='[1]Thu '!D61 -> 168 | F84: =SUM(G84:H84) -> 9942 | G84: ='[1]Thu '!E61 -> 6200 | H84: ='[1]Thu '!F61 -> 3742 | J84: =SUM(K84:N84) -> 10111 | K84: ='[1]Đại Từ'!$AB$15 -> 9973 | M84: ='[1]Đại Từ'!$AB$30 -> 138
A85: 17 | B85: Xã Phú Xuyên | C85: =SUM(C86:C87) -> 2193 | D85: =E85+F85+I85 -> 24119 | E85: =SUM(E86:E87) -> 1250 | F85: =SUM(G85:H85) -> 22869 | G85: =SUM(G86:G87) -> 14072 | H85: =SUM(H86:H87) -> 8797 | I85: =SUM(I86:I87) -> 0 | J85: =SUM(K85:N85) -> 24119 | K85: =SUM(K86:K87) -> 23784 | L85: ='[1]Tổng '!R24 -> 0 | M85: =SUM(M86:M87) -> 335 | N85: ='[1]Tổng '!T24 -> 0
B86: Yên Lãng | C86: 1560 | D86: =E86+F86+I86 -> 12697 | E86: ='[1]Thu '!D62 -> 891 | F86: =SUM(G86:H86) -> 11806 | G86: ='[1]Thu '!E62 -> 7361 | H86: ='[1]Thu '!F62 -> 4445 | J86: =SUM(K86:N86) -> 12697 | K86: ='[1]Đại Từ'!$AC$15 -> 12520 | M86: ='[1]Đại Từ'!$AC$30 -> 177
B87: Phú Xuyên | C87: 633 | D87: =E87+F87+I87 -> 11422 | E87: ='[1]Thu '!D63 -> 359 | F87: =SUM(G87:H87) -> 11063 | G87: ='[1]Thu '!E63 -> 6711 | H87: ='[1]Thu '!F63 -> 4352 | J87: =SUM(K87:N87) -> 11422 | K87: ='[1]Đại Từ'!$AD$15 -> 11264 | M87: ='[1]Đại Từ'!$AD$30 -> 158
A88: 18 | B88: Phường Phổ Yên | C88: =SUM(C89:C92) -> 14140 | D88: =E88+F88+I88 -> 36424.551 | E88: =SUM(E89:E92) -> 3443.76 | F88: =SUM(G88:H88) -> 29221.76 | G88: =SUM(G89:G92) -> 29221.76 | H88: =SUM(H89:H92) -> 0 | I88: =SUM(I89:I92) -> 3759.031 | J88: =SUM(K88:N88) -> 36424.551 | K88: =SUM(K89:K92) -> 31946.938 | L88: ='[1]Tổng '!R25 -> 0 | M88: =SUM(M89:M92) -> 718.582 | N88: =SUM(N89:N92) -> 3759.031
B89: Ba Hàng | C89: 10840 | D89: =E89+F89+I89 -> 9554.281 | E89: ='[1]Thu '!D65 -> 1514 | F89: =SUM(G89:H89) -> 7790.958 | G89: ='[1]Thu '!E65 -> 7790.958 | H89: ='[1]Thu '!F65 -> 0 | I89: ='[1]Thu '!G65 -> 249.323 | J89: =SUM(K89:N89) -> 9554.281 | K89: ='[1]Phổ Yên'!$E$15 -> 9116.641 | M89: ='[1]Phổ Yên'!$E$30 -> 188.317 | N89: ='[1]Phổ Yên'!$E$32 -> 249.323
B90: Hồng Tiến | C90: 2040 | D90: =E90+F90+I90 -> 9721.484 | E90: ='[1]Thu '!D66 -> 1132.8 | F90: =SUM(G90:H90) -> 5726.285 | G90: ='[1]Thu '!E66 -> 5726.285 | H90: ='[1]Thu '!F66 -> 0 | I90: ='[1]Thu '!G66 -> 2862.399 | J90: =SUM(K90:N90) -> 9721.484 | K90: ='[1]Phổ Yên'!$F$15 -> 6667.181 | M90: ='[1]Phổ Yên'!$F$30 -> 191.904 | N90: ='[1]Phổ Yên'!$F$32 -> 2862.399
B91: Bãi Bông | C91: 515 | D91: =E91+F91+I91 -> 7728.649 | E91: ='[1]Thu '!D67 -> 323 | F91: =SUM(G91:H91) -> 7004.04 | G91: ='[1]Thu '!E67 -> 7004.04 | H91: ='[1]Thu '!F67 -> 0 | I91: ='[1]Thu '!G67 -> 401.609 | J91: =SUM(K91:N91) -> 7728.649 | K91: ='[1]Phổ Yên'!$G$15 -> 7174.468 | M91: ='[1]Phổ Yên'!$G$30 -> 152.572 | N91: ='[1]Phổ Yên'!$G$32 -> 401.609
B92: Đắc Sơn | C92: 745 | D92: =E92+F92+I92 -> 9420.137 | E92: ='[1]Thu '!D68 -> 473.96 | F92: =SUM(G92:H92) -> 8700.477 | G92: ='[1]Thu '!E68 -> 8700.477 | H92: ='[1]Thu '!F68 -> 0 | I92: ='[1]Thu '!G68 -> 245.7 | J92: =SUM(K92:N92) -> 9420.137 | K92: ='[1]Phổ Yên'!$H$15 -> 8988.648 | M92: ='[1]Phổ Yên'!$H$30 -> 185.789 | N92: ='[1]Phổ Yên'!$H$32 -> 245.7
A93: 19 | B93: Phường Vạn Xuân | C93: =SUM(C94:C97) -> 7077 | D93: =E93+F93+I93 -> 38904.909 | E93: =SUM(E94:E97) -> 4075.12 | F93: =SUM(G93:H93) -> 31189.966 | G93: =SUM(G94:G97) -> 31189.966 | H93: =SUM(H94:H97) -> 0 | I93: =SUM(I94:I97) -> 3639.823 | J93: =SUM(K93:N93) -> 38904.909 | K93: =SUM(K94:K97) -> 34497.766 | L93: ='[1]Tổng '!R26 -> 0 | M93: =SUM(M94:M97) -> 767.32 | N93: =SUM(N94:N97) -> 3639.823
B94: Nam Tiến | C94: 1685 | D94: =E94+F94+I94 -> 8325.785 | E94: ='[1]Thu '!D69 -> 966.36 | F94: =SUM(G94:H94) -> 7077.877 | G94: ='[1]Thu '!E69 -> 7077.877 | H94: ='[1]Thu '!F69 -> 0 | I94: ='[1]Thu '!$G$69 -> 281.548 | J94: =SUM(K94:N94) -> 8325.785 | K94: ='[1]Phổ Yên'!$I$15 -> 7879.957 | M94: ='[1]Phổ Yên'!$I$30 -> 164.28 | N94: ='[1]Phổ Yên'!$I$32 -> 281.548
B95: Đồng Tiến | C95: 3725 | D95: =E95+F95+I95 -> 9471.075 | E95: ='[1]Thu '!D70 -> 2119 | F95: =SUM(G95:H95) -> 4571.136 | G95: ='[1]Thu '!E70 -> 4571.136 | H95: ='[1]Thu '!F70 -> 0 | I95: ='[1]Thu '!$G$70 -> 2780.939 | J95: =SUM(K95:N95) -> 9471.075 | K95: ='[1]Phổ Yên'!$J$15 -> 6503.193 | M95: ='[1]Phổ Yên'!$J$30 -> 186.943 | N95: ='[1]Phổ Yên'!$J$32 -> 2780.939
B96: Tân Hương | C96: 1255 | D96: =E96+F96+I96 -> 8395.243 | E96: ='[1]Thu '!D71 -> 728.52 | F96: =SUM(G96:H96) -> 7167.889 | G96: ='[1]Thu '!E71 -> 7167.889 | H96: ='[1]Thu '!F71 -> 0 | I96: ='[1]Thu '!$G$71 -> 498.834 | J96: =SUM(K96:N96) -> 8395.243 | K96: ='[1]Phổ Yên'!$K$15 -> 7730.818 | M96: ='[1]Phổ Yên'!$K$30 -> 165.591 | N96: ='[1]Phổ Yên'!$K$32 -> 498.834
B97: Tiên Phong | C97: 412 | D97: =E97+F97+I97 -> 12712.806 | E97: ='[1]Thu '!D72 -> 261.24 | F97: =SUM(G97:H97) -> 12373.064 | G97: ='[1]Thu '!E72 -> 12373.064 | H97: ='[1]Thu '!F72 -> 0 | I97: ='[1]Thu '!$G$72 -> 78.502 | J97: =SUM(K97:N97) -> 12712.806 | K97: ='[1]Phổ Yên'!$L$15 -> 12383.798 | M97: ='[1]Phổ Yên'!$L$30 -> 250.506 | N97: ='[1]Phổ Yên'!$L$32 -> 78.502
A98: 20 | B98: Phường Trung Thành | C98: =SUM(C99:C102) -> 2440 | D98: =E98+F98+I98 -> 34611.074 | E98: =SUM(E99:E102) -> 1487.36 | F98: =SUM(G98:H98) -> 32329.178 | G98: =SUM(G99:G102) -> 32329.178 | H98: =SUM(H99:H102) -> 0 | I98: =SUM(I99:I102) -> 794.536 | J98: =SUM(K98:N98) -> 34612.63 | K98: =SUM(K99:K102) -> 33134.896 | L98: ='[1]Tổng '!R27 -> 0 | M98: =SUM(M99:M102) -> 682.642 | N98: =SUM(N99:N102) -> 795.092 | O98: =SUM(O99:O102) -> 0
B99: Trung Thành | C99: 1010 | D99: =E99+F99+I99 -> 9365.312 | E99: ='[1]Thu '!D73 -> 585.16 | F99: =SUM(G99:H99) -> 8330.041 | G99: ='[1]Thu '!E73 -> 8330.041 | H99: ='[1]Thu '!F73 -> 0 | I99: ='[1]Thu '!G73 -> 450.111 | J99: =SUM(K99:N99) -> 9366.312 | K99: ='[1]Phổ Yên'!$M$15 -> 8731.518 | M99: ='[1]Phổ Yên'!$M$30 -> 184.683 | N99: ='[1]Phổ Yên'!$M$32 -> 450.111
B100: Đông Cao | C100: 474 | D100: =E100+F100+I100 -> 8471.201 | E100: ='[1]Thu '!D74 -> 303.32 | F100: =SUM(G100:H100) -> 8139.602 | G100: ='[1]Thu '!E74 -> 8139.602 | H100: ='[1]Thu '!F74 -> 0 | I100: ='[1]Thu '!G74 -> 28.279 | J100: =SUM(K100:N100) -> 8471.301 | K100: ='[1]Phổ Yên'!$N$15 -> 8275.789 | M100: ='[1]Phổ Yên'!$N$30 -> 167.133 | N100: ='[1]Phổ Yên'!$N$32 -> 28.379
B101: Tân Phú | C101: 429 | D101: =E101+F101+I101 -> 8303.445 | E101: ='[1]Thu '!D75 -> 258.88 | F101: =SUM(G101:H101) -> 7879.565 | G101: ='[1]Thu '!E75 -> 7879.565 | H101: ='[1]Thu '!F75 -> 0 | I101: ='[1]Thu '!G75 -> 165 | J101: =SUM(K101:N101) -> 8303.901 | K101: ='[1]Phổ Yên'!$O$15 -> 7974.697 | M101: ='[1]Phổ Yên'!$O$30 -> 163.748 | N101: ='[1]Phổ Yên'!$O$32 -> 165.456
...

Sheet 34. CHI NS CẤP TỈNH
A1: Biểu mẫu số 34
A2: DỰ TOÁN CHI NGÂN SÁCH CẤP TỈNH THEO LĨNH VỰC NĂM 2025
A4: Đơn vị: Triệu đồng
A5: STT | B5: Nội dung | C5: Thái Nguyên
A6: A | B6: B | C6: 1
B7: TỔNG CHI NSĐP | C7: =C8+C9 -> #REF! | D7: =#REF! -> #REF!
A8: A | B8: CHI BỔ SUNG CHO NGÂN SÁCH CẤP DƯỚI (1) | C8: =#REF!+#REF! -> #REF! | D8: =C7-D7 -> #REF!
A9: B | B9: CHI NGÂN SÁCH CẤP TỈNH (HUYỆN, XÃ) THEO LĨNH VỰC | C9: =C10+C27+C40+C41+C42+C43 -> #REF!
A10: I | B10: Chi đầu tư phát triển (2) | C10: =C11+C26 -> #REF!
A11: 1 | B11: Chi đầu tư cho các dự án | C11: =#REF!+#REF!+#REF!+#REF! -> #REF!
A12: - | B12: Chi giáo dục - đào tạo và dạy nghề
A13: - | B13: Chi khoa học và công nghệ
A14: - | B14: Chi quốc phòng
A15: - | B15: Chi an ninh và trật tự an toàn xã hội
A16: - | B16: Chi y tế, dân số và gia đình
A17: - | B17: Chi văn hóa thông tin
A18: - | B18: Chi phát thanh, truyền hình, thông tấn
A19: - | B19: Chi thể dục thể thao
A20: - | B20: Chi bảo vệ môi trường
A21: - | B21: Chi các hoạt động kinh tế
A22: - | B22: Chi hoạt động của cơ quan quản lý nhà nước, đảng, đoàn thể
A23: - | B23: Chi bảo đảm xã hội
A24: - | B24: Chi đầu tư khác
A25: 2 | B25: Chi đầu tư và hỗ trợ vốn cho các doanh nghiệp cung cấp sản phẩm, dịch vụ công ích do Nhà nước đặt hàng, các tổ chức kinh tế,
A26: 3 | B26: Chi đầu tư phát triển khác | C26: =#REF! -> #REF!
A27: II | B27: Chi thường xuyên | C27: =SUM(C28:C39) -> #REF!
A28: - | B28: Chi sự nghiệp giáo dục đào tạo và dạy nghề | C28: =#REF! -> #REF!
A29: - | B29: Chi sự nghiệp y tế, dân số và gia đình | C29: =#REF! -> #REF!
A30: - | B30: Chi sự nghiệp khoa học và công nghệ | C30: =#REF! -> #REF!
A31: - | B31: Chi sự nghiệp văn hoá thông tin, thể dục thể thao | C31: =#REF! -> #REF!
A32: - | B32: Chi sự nghiệp phát thanh truyền hình | C32: =#REF! -> #REF!
A33: - | B33: Chi đảm bảo xã hội | C33: =#REF! -> #REF!
A34: - | B34: Sự nghiệp kinh tế | C34: =#REF! -> #REF!
A35: - | B35: Chi quản lý hành chính | C35: =#REF! -> #REF!
A36: - | B36: Chi sự nghiệp bảo vệ môi trường | C36: =#REF! -> #REF!
A37: - | B37: Chi quốc phòng an ninh địa phương | C37: =#REF! -> #REF!
A38: - | B38: Chi khác của ngân sách | C38: =#REF! -> #REF!
A39: - | B39: Tiết kiệm 10% 7 tháng cuối năm | C39: =#REF! -> #REF!
... A43: VI | B43: Chi tạo nguồn, điều chỉnh tiền lương | C43: =#REF! -> #REF!
A44: C | B44: CHI CHUYỂN NGUỒN SANG NĂM SAU

Sheet 37.01 ĐP
R1: Biểu mẫu số 37.2 NSĐP
A2: DỰ TOÁN CHI THƯỜNG XUYÊN CỦA NGÂN SÁCH CẤP TỈNH CHO TỪNG CƠ QUAN, TỔ CHỨC THEO LĨNH VỰC NĂM 2025
A3: (Dùng cho ngân sách các cấp chính quyền địa phương)
A4: (Kèm theo Công văn số /STC-HCSN ngày /6/2025 của Sở Tài chính)
R6: Đơn vị: Triệu đồng
A7: STT | B7: =E10+'37.02 TW'!E10 -> 5960899.9 | C7: Tổng số chi ngân sách khối tỉnh | D7: Trừ tiết kiệm 10% chi thường xuyên | E7: Số được chi từ nguồn ngân sách nhà nước | F7: Chi giáo dục - đào tạo và dạy nghề | G7: Chi khoa học và công nghệ | H7: Chi quốc phòng | I7: Chi an ninh và trật tự an toàn xã hội | J7: Chi y tế, dân số và gia đình | K7: Chi văn hóa thông tin | L7: Chi phát thanh, truyền hình, thông tấn | M7: Chi thể dục thể thao | N7: Chi bảo vệ môi trường | O7: Chi các hoạt động kinh tế | P7: Trong đó | R7: Chi hoạt động của cơ quan quản lý nhà nước, đảng, đoàn thể | S7: Chi bảo đảm xã hội | T7: Chi thường xuyên khác | U7: Kinh phí chuyển thanh tra | V7: Nhiệm vụ khác | W7: chuyển về xã Bắc kạn | X7: KP huyện chuyển nv lên tỉnh Bắc Kạn | Y7: TTXTĐT Bắc Kạn chuyển về 3 Sở | Z7: Điều chỉnh kinh phí luân chuyển cán bộ các ngành | AA7: TỔNG | AC7: 2718461
P8: Chi giao thông | Q8: Chi nông nghiệp, lâm nghiệp, thủy lợi, thủy sản | AC8: 2718279 | AD8: Đối ứng | AE8: BSCMT
A9: A | B9: B | E9: 1 | F9: 2 | G9: 3 | H9: 4 | I9: 5 | J9: 6 | K9: 7 | L9: 8 | M9: 9 | N9: 10 | O9: 11 | P9: 12 | Q9: 13 | R9: 14 | S9: 15 | T9: 16 | AI9: =AI11-AI10 -> 3175886
B10: TỔNG SỐ | C10: =C11+C12 -> 5647089.2 | D10: =D11+D12 -> 44502 | E10: =E11+E12 -> 5602587.2 | F10: =F11+F12 -> 1228144 | G10: =G11+G12 -> 63031 | H10: =H11+H12 -> 112788 | I10: =I11+I12 -> 64294 | J10: =J11+J12 -> 1578406 | ... Z10: =Z11+Z12 -> 371 | AC10: =AC11-AC12 -> 0 | AI10: =AB7+AB8 -> 0
B11: tỉnh Thái Nguyên | C11: =C15+C18+C21+C24+C27+C30+C33+C36+C39+C42+C45+C48+C51+C54+C57+C66+C69+C72+C75+C78+C81+C84+C87+C89+C92+C95+C98+C101+C104+C106+C109+C112+C115+C118+C121+C123+C125+C127+C129+C134+C138+C141+C144+C146+C147+C148+C150+C153+C156+C159+C220+C224+C226-C223 -> 4135062 | D11: =D15+D18+D21+D24+D27+D30+D33+D36+D39+D42+D45+D48+D51+D54+D57+D66+D69+D72+D75+D78+D81+D84+D87+D89+D92+D95+D98+D101+D104+D106+D109+D112+D115+D118+D121+D123+D125+D127+D129+D134+D138+D141+D144+D146+D147+D148+D150+D153+D156+D159+D220+D224+D226-D223 -> 18408 | E11: =E15+E18+E21+E24+E27+E30+E33+E36+E39+E42+E45+E48+E51+E54+E57+E66+E69+E72+E75+E78+E81+E84+E87+E89+E92+E95+E98+E101+E104+E106+E109+E112+E115+E118+E121+E123+E125+E127+E129+E134+E138+E141+E144+E146+E147+E148+E150+E153+E156+E159+E220+E224+E226-E223 -> 4116654 | F11: =F15+F18+F21+F24+F27+F30+F33+F36+F39+F42+F45+F48+F51+F54+F57+F66+F69+F72+F75+F78+F81+F84+F87+F89+F92+F95+F98+F101+F104+F106+F109+F112+F115+F118+F121+F123+F125+F127+F129+F134+F138+F141+F144+F146+F147+F148+F150+F153+F156+F159+F220+F224+F226-F223 -> 917398 | G11: =G15+G18+G21+G24+G27+G30+G33+G36+G39+G42+G45+G48+G51+G54+G57+G66+G69+G72+G75+G78+G81+G84+G87+G89+G92+G95+G98+G101+G104+G106+G109+G112+G115+G118+G121+G123+G125+G127+G129+G134+G138+G141+G144+G146+G147+G148+G150+G153+G156+G159+G220+G224+G226-G223 -> 45563 | H11: =H15+H18+H21+H24+H27+H30+H33+H36+H39+H42+H45+H48+H51+H54+H57+H66+H69+H72+H75+H78+H81+H84+H87+H89+H92+H95+H98+H101+H104+H106+H109+H112+H115+H118+H121+H123+H125+H127+H129+H134+H138+H141+H144+H146+H147+H148+H150+H153+H156+H159+H220+H224+H226-H223 -> 87000 | I11: =I15+I18+I21+I24+I27+I30+I33+I36+I39+I42+I45+I48+I51+I54+I57+I66+I69+I72+I75+I78+I81+I84+I87+I89+I92+I95+I98+I101+I104+I106+I109+I112+I115+I118+I121+I123+I125+I127+I129+I134+I138+I141+I144+I146+I147+I148+I150+I153+I156+I159+I220+I224+I226-I223 -> 46950 | J11: =J15+J18+J21+J24+J27+J30+J33+J36+J39+J42+J45+J48+J51+J54+J57+J66+J69+J72+J75+J78+J81+J84+J87+J89+J92+J95+J98+J101+J104+J106+J109+J112+J115+J118+J121+J123+J125+J127+J129+J134+J138+J141+J144+J146+J147+J148+J150+J153+J156+J159+J220+J224+J226-J223 -> 1188814 | ... U11: =U15+U18+U21+U24+U27+U30+U33+U36+U39+U42+U45+U48+U51+U54+U57+U66+U69+U72+U75+U78+U81+U84+U87+U89+U92+U95+U98+U101+U104+U106+U109+U112+U115+U118+U121+U123+U125+U127+U129+U134+U138+U141+U144+U146+U147+U148+U150+U153+U156+U159+U220+U224+U226-U223 -> 0 | V11: =V15+V18+V21+V24+V27+V30+V33+V36+V39+V42+V45+V48+V51+V54+V57+V66+V69+V72+V75+V78+V81+V84+V87+V89+V92+V95+V98+V101+V104+V106+V109+V112+V115+V118+V121+V123+V125+V127+V129+V134+V138+V141+V144+V146+V147+V148+V150+V153+V156+V159+V220+V224+V226 -> 0 | W11: =W15+W18+W21+W24+W27+W30+W33+W36+W39+W42+W45+W48+W51+W54+W57+W66+W69+W72+W75+W78+W81+W84+W87+W89+W92+W95+W98+W101+W104+W106+W109+W112+W115+W118+W121+W123+W125+W127+W129+W134+W138+W141+W144+W146+W147+W148+W150+W153+W156+W159+W220+W224+W226 -> 0 | X11: =X15+X18+X21+X24+X27+X30+X33+X36+X39+X42+X45+X48+X51+X54+X57+X66+X69+X72+X75+X78+X81+X84+X87+X89+X92+X95+X98+X101+X104+X106+X109+X112+X115+X118+X121+X123+X125+X127+X129+X134+X138+X141+X144+X146+X147+X148+X150+X153+X156+X159+X220+X224+X226 -> 0 | Y11: =Y15+Y18+Y21+Y24+Y27+Y30+Y33+Y36+Y39+Y42+Y45+Y48+Y51+Y54+Y57+Y66+Y69+Y72+Y75+Y78+Y81+Y84+Y87+Y89+Y92+Y95+Y98+Y101+Y104+Y106+Y109+Y112+Y115+Y118+Y121+Y123+Y125+Y127+Y129+Y134+Y138+Y141+Y144+Y146+Y147+Y148+Y150+Y153+Y156+Y159+Y220+Y224+Y226 -> 0 | Z11: =Z15+Z18+Z21+Z24+Z27+Z30+Z33+Z36+Z39+Z42+Z45+Z48+Z51+Z54+Z57+Z66+Z69+Z72+Z75+Z78+Z81+Z84+Z87+Z89+Z92+Z95+Z98+Z101+Z104+Z106+Z109+Z112+Z115+Z118+Z121+Z123+Z125+Z127+Z129+Z134+Z138+Z141+Z144+Z146+Z147+Z148+Z150+Z153+Z156+Z159+Z220+Z224+Z226 -> 0 | AA11: =AA15+AA18+AA21+AA24+AA27+AA30+AA33+AA36+AA39+AA42+AA45+AA48+AA51+AA54+AA57+AA66+AA69+AA72+AA75+AA78+AA81+AA84+AA87+AA89+AA92+AA95+AA98+AA101+AA104+AA106+AA109+AA112+AA115+AA118+AA121+AA123+AA125+AA127+AA129+AA134+AA138+AA141+AA144+AA146+AA147+AA148+AA150+AA153+AA156+AA159+AA220+AA224+AA226 -> 0 | AC11: 1253068 | AI11: =SUM(AI15:AI151) -> 3175886
B12: tỉnh Bắc Kạn | C12: =C16+C19+C22+C25+C28+C31+C34+C37+C40+C43+C46+C49+C52+C55+C58+C60+C62+C67+C70+C73+C76+C79+C82+C85+C90+C93+C96+C99+C102+C107+C110+C113+C116+C119+C132+C139+C142+C145+C151+C228+C130+C135+C154+C157+C160+C223+C227 -> 1512027.2 | D12: =D16+D19+D22+D25+D28+D31+D34+D37+D40+D43+D46+D49+D52+D55+D58+D60+D62+D67+D70+D73+D76+D79+D82+D85+D90+D93+D96+D99+D102+D107+D110+D113+D116+D119+D132+D139+D142+D145+D151+D228+D130+D135+D154+D157+D160+D223+D227 -> 26094 | E12: =E16+E19+E22+E25+E28+E31+E34+E37+E40+E43+E46+E49+E52+E55+E58+E60+E62+E67+E70+E73+E76+E79+E82+E85+E90+E93+E96+E99+E102+E107+E110+E113+E116+E119+E132+E139+E142+E145+E151+E228+E130+E135+E154+E157+E160+E223+E227 -> 1485933.2 | F12: =F16+F19+F22+F25+F28+F31+F34+F37+F40+F43+F46+F49+F52+F55+F58+F60+F62+F67+F70+F73+F76+F79+F82+F85+F90+F93+F96+F99+F102+F107+F110+F113+F116+F119+F132+F139+F142+F145+F151+F228+F130+F135+F154+F157+F160+F223+F227 -> 310746 | G12: =G16+G19+G22+G25+G28+G31+G34+G37+G40+G43+G46+G49+G52+G55+G58+G60+G62+G67+G70+G73+G76+G79+G82+G85+G90+G93+G96+G99+G102+G107+G110+G113+G116+G119+G132+G139+G142+G145+G151+G228+G130+G135+G154+G157+G160+G223+G227 -> 17468 | H12: =H16+H19+H22+H25+H28+H31+H34+H37+H40+H43+H46+H49+H52+H55+H58+H60+H62+H67+H70+H73+H76+H79+H82+H85+H90+H93+H96+H99+H102+H107+H110+H113+H116+H119+H132+H139+H142+H145+H151+H228+H130+H135+H154+H157+H160+H223+H227 -> 25788 | I12: =I16+I19+I22+I25+I28+I31+I34+I37+I40+I43+I46+I49+I52+I55+I58+I60+I62+I67+I70+I73+I76+I79+I82+I85+I90+I93+I96+I99+I102+I107+I110+I113+I116+I119+I132+I139+I142+I145+I151+I228+I130+I135+I154+I157+I160+I223+I227 -> 17344 | J12: =J16+J19+J22+J25+J28+J31+J34+J37+J40+J43+J46+J49+J52+J55+J58+J60+J62+J67+J70+J73+J76+J79+J82+J85+J90+J93+J96+J99+J102+J107+J110+J113+J116+J119+J132+J139+J142+J145+J151+J228+J130+J135+J154+J157+J160+J223+J227 -> 389592 | ... AA12: =AA16+AA19+AA22+AA25+AA28+AA31+AA34+AA37+AA40+AA43+AA46+AA49+AA52+AA55+AA58+AA60+AA62+AA67+AA70+AA73+AA76+AA79+AA82+AA85+AA90+AA93+AA96+AA99+AA102+AA107+AA110+AA113+AA116+AA119+AA132+AA139+AA142+AA145+AA151+AA228+AA130+AA135+AA154+AA157+AA160+AA223+AA227 -> -4812 | AC12: =SUM(AC14:AC229) -> 1253068 | AD12: =SUM(AD14:AD229) -> 317.16 | AE12: =SUM(AE14:AE229) -> 83138 | AF12: =SUM(AF14:AF229) -> 1170247.2 | AG12: =SUM(AG14:AG229) -> 562910
A13: I | B13: KHỐI QUẢN LÝ NHÀ NƯỚC | C13: =C14+C17+C20+C23+C26+C29+C32+C35+C38+C41+C44+C47+C50+C53+C56+C59 -> 3637083.2 | D13: =D14+D17+D20+D23+D26+D29+D32+D35+D38+D41+D44+D47+D50+D53+D56+D59 -> 40649 | E13: =E14+E17+E20+E23+E26+E29+E32+E35+E38+E41+E44+E47+E50+E53+E56+E59 -> 3596434.2 | F13: =F14+F17+F20+F23+F26+F29+F32+F35+F38+F41+F44+F47+F50+F53+F56+F59 -> 1034294 | G13: =G14+G17+G20+G23+G26+G29+G32+G35+G38+G41+G44+G47+G50+G53+G56+G59 -> 62839 | H13: =H14+H17+H20+H23+H26+H29+H32+H35+H38+H41+H44+H47+H50+H53+H56+H59 -> 0 | I13: =I14+I17+I20+I23+I26+I29+I32+I35+I38+I41+I44+I47+I50+I53+I56+I59 -> 2885 | J13: =J14+J17+J20+J23+J26+J29+J32+J35+J38+J41+J44+J47+J50+J53+J56+J59 -> 727386 | ... T13: =T14+T17+T20+T23+T26+T29+T32+T35+T38+T41+T44+T47+T50+T53+T56+T59 -> 9823 | AA13: =W13+X13+Y13+Z13 -> 0 | AJ13: =SUM(AI14:AI62) -> 2547647
A14: 1 | B14: Văn phòng Đoàn Đại biểu Quốc hội - Hội đồng nhân dân | C14: =C15+C16 -> 55256 | D14: =D15+D16 -> 453 | E14: =E15+E16 -> 54803 | F14: =F15+F16 -> 0 | G14: =G15+G16 -> 0 | H14: =H15+H16 -> 0 | I14: =I15+I16 -> 0 | J14: =J15+J16 -> 0 | ... T14: =T15+T16 -> 0 | AA14: =W14+X14+Y14+Z14 -> 0 | AJ14: =AI15+AI18+AI24+AI27+AI30+AI33+AI36+AI39+AI42+AI45+AI48+AI57+AI21+AI54 -> 2533627 | AK14: =AJ14+AI51 -> 2547647
B15: tỉnh Thái Nguyên | C15: =D15+E15 -> 40770 | D15: 155 | E15: =F15+G15+H15+I15+J15+K15+L15+M15+N15+O15+R15+S15+T15 -> 40615 | R15: 40615 | AA15: =W15+X15+Y15+Z15 -> 0 | AI15: =E15-U15-V15 -> 40615
B16: tỉnh Bắc Kạn | C16: =D16+E16 -> 14486 | D16: 298 | E16: =F16+G16+H16+I16+J16+K16+L16+M16+N16+O16+R16+S16+T16 -> 14188 | R16: =-1387+383+15192 -> 14188 | W16: -1387 | Z16: 383 | AA16: =W16+X16+Y16+Z16 -> -1004 | AC16: 14188 | AF16: =AC16+AD16-AE16 -> 14188 | AG16: =E16-AF16 -> 0
A17: 2 | B17: Văn phòng Ủy ban nhân dân tỉnh | C17: =C18+C19 -> 128473 | D17: =D18+D19 -> 2386 | E17: =E18+E19 -> 126087 | F17: =F18+F19 -> 0 | G17: =G18+G19 -> 0 | H17: =H18+H19 -> 0 | I17: =I18+I19 -> 0 | J17: =J18+J19 -> 0 | ... T17: =T18+T19 -> 0 | Z17: -578 | AA17: =W17+X17+Y17+Z17 -> -578 | AF17: =AC17+AD17-AE17 -> 0
B18: tỉnh Thái Nguyên | C18: =D18+E18 -> 94201 | D18: 407 | E18: =F18+G18+H18+I18+J18+K18+L18+M18+N18+O18+R18+S18+T18 -> 93794 | K18: 15735 | O18: 3149 | R18: =5179+69731 -> 74910 | AA18: =W18+X18+Y18+Z18 -> 0 | AF18: =AC18+AD18-AE18 -> 0 | AI18: =E18-U18-V18 -> 93794
B19: tỉnh Bắc Kạn | C19: =D19+E19 -> 34272 | D19: 1979 | E19: =F19+G19+H19+I19+J19+K19+L19+M19+N19+O19+R19+S19+T19 -> 32293 | K19: =-343-310+4019 -> 3366 | O19: =-1011-3703+9246 -> 4532 | R19: =26558+142-1727-578 -> 24395 | W19: =-1727-1011 -> -2738 | Y19: =-310-3703 -> -4013 | AA19: =W19+X19+Y19+Z19 -> -6751 | AB19: 142 tr chuyển nhiệm vụ VPTU sang UBND tỉnh | AC19: 32293 | AF19: =AC19+AD19-AE19 -> 32293 | AG19: =E19-AF19 -> 0
A20: 3 | B20: Sở Nông nghiệp và Môi trường | C20: =C21+C22 -> 553429.16 | D20: =D21+D22 -> 4755 | E20: =E21+E22 -> 548674.16 | F20: =F21+F22 -> 0 | G20: =G21+G22 -> 0 | H20: =H21+H22 -> 0 | I20: =I21+I22 -> 0 | J20: =J21+J22 -> 0 | ... T20: =T21+T22 -> 0 | AA20: =W20+X20+Y20+Z20 -> 0 | AF20: =AC20+AD20-AE20 -> 0
B21: tỉnh Thái Nguyên | C21: =D21+E21 -> 368287 | D21: 1916 | E21: =F21+G21+H21+I21+J21+K21+L21+M21+N21+O21+R21+S21+T21 -> 366371 | N21: 40000 | O21: 235525 | R21: =-1214+92060 -> 90846 | U21: -1214 | AA21: =W21+X21+Y21+Z21 -> 0 | AF21: =AC21+AD21-AE21 -> 0 | AI21: =E21-U21-V21 -> 367585
B22: tỉnh Bắc Kạn | C22: =D22+E22 -> 185142.16 | D22: 2839 | E22: =F22+G22+H22+I22+J22+K22+L22+M22+N22+O22+R22+S22+T22 -> 182303.16 | N22: =14404+1862 -> 16266 | O22: =213.16+80553 -> 80766.16 | Q22: 51311 | R22: =-1341+79790-1957+8779 -> 85271 | U22: -1341 | W22: =-593-1364 -> -1957 | X22: 8779 | AA22: =W22+X22+Y22+Z22 -> 6822 | AC22: 167686 | AD22: 213.16 | AF22: =AC22+AD22-AE22 -> 167899.16 | AG22: =E22-AF22 -> 14404
A23: 4 | B23: Sở Tư pháp | C23: =C24+C25 -> 37853 | D23: =D24+D25 -> 706 | E23: =E24+E25 -> 37147 | F23: =F24+F25 -> 162 | G23: =G24+G25 -> 0 | H23: =H24+H25 -> 0 | I23: =I24+I25 -> 0 | J23: =J24+J25 -> 0 | ... T23: =T24+T25 -> 7012 | AA23: =W23+X23+Y23+Z23 -> 0 | AF23: =AC23+AD23-AE23 -> 0
B24: tỉnh Thái Nguyên | C24: =D24+E24 -> 23247 | D24: 220 | E24: =F24+G24+H24+I24+J24+K24+L24+M24+N24+O24+R24+S24+T24 -> 23027 | F24: 162 | O24: 12889 | R24: 9976 | AA24: =W24+X24+Y24+Z24 -> 0 | AF24: =AC24+AD24-AE24 -> 0 | AI24: =E24-U24-V24 -> 23027
B25: tỉnh Bắc Kạn | C25: =D25+E25 -> 14606 | D25: 486 | E25: =F25+G25+H25+I25+J25+K25+L25+M25+N25+O25+R25+S25+T25 -> 14120 | O25: 13 | R25: =-171+7856-590 -> 7095 | T25: 7012 | U25: -171 | W25: =-394-196 -> -590 | AA25: =W25+X25+Y25+Z25 -> -590 | AC25: 14107 | AD25: 13 | AF25: =AC25+AD25-AE25 -> 14120 | AG25: =E25-AF25 -> 0
A26: 5 | B26: Sở Công Thương | C26: =C27+C28 -> 56390 | D26: =D27+D28 -> 378 | E26: =E27+E28 -> 56012 | F26: =F27+F28 -> 0 | G26: =G27+G28 -> 0 | H26: =H27+H28 -> 0 | I26: =I27+I28 -> 0 | J26: =J27+J28 -> 0 | ... T26: =T27+T28 -> 140 | AA26: =W26+X26+Y26+Z26 -> 0 | AF26: =AC26+AD26-AE26 -> 0
B27: tỉnh Thái Nguyên | C27: =D27+E27 -> 46370 | D27: 273 | E27: =F27+G27+H27+I27+J27+K27+L27+M27+N27+O27+R27+S27+T27 -> 46097 | O27: 16497 | R27: =30612-1012 -> 29600 | U27: -1012 | AA27: =W27+X27+Y27+Z27 -> 0 | AF27: =AC27+AD27-AE27 -> 0 | AI27: =E27-U27-V27 -> 47109
B28: tỉnh Bắc Kạn | C28: =D28+E28 -> 10020 | D28: 105 | E28: =F28+G28+H28+I28+J28+K28+L28+M28+N28+O28+R28+S28+T28 -> 9915 | O28: =1463+1 -> 1464 | R28: =-530+9264-423 -> 8311 | T28: 140 | U28: -530 | W28: =-423 -> -423 | Y28: 1463 | AA28: =W28+X28+Y28+Z28 -> 1040 | AB28: 140 chuyển kinh phí từ QLTT sang SCT | AC28: 9914 | AD28: 1 | AF28: =AC28+AD28-AE28 -> 9915 | AG28: =E28-AF28 -> 0
A29: 6 | B29: Sở Khoa học và Công nghệ | C29: =C30+C31 -> 135176 | D29: =D30+D31 -> 707 | E29: =E30+E31 -> 134469 | F29: =F30+F31 -> 1170 | G29: =G30+G31 -> 62839 | H29: =H30+H31 -> 0 | I29: =I30+I31 -> 0 | J29: =J30+J31 -> 0 | ... T29: =T30+T31 -> 0 | AA29: =W29+X29+Y29+Z29 -> 0 | AF29: =AC29+AD29-AE29 -> 0
B30: tỉnh Thái Nguyên | C30: =D30+E30 -> 94993 | D30: 308 | E30: =F30+G30+H30+I30+J30+K30+L30+M30+N30+O30+R30+S30+T30 -> 94685 | F30: 1170 | G30: 45371 | K30: =-15595+49501 -> 33906 | R30: =-709+14947 -> 14238 | U30: -709 | V30: -15595 | AA30: =W30+X30+Y30+Z30 -> 0 | AB30: Giảm nhiệm vụ ứng dụng CNTT | AF30: =AC30+AD30-AE30 -> 0 | AI30: =E30-U30-V30 -> 110989
B31: tỉnh Bắc Kạn | C31: =D31+E31 -> 40183 | D31: 399 | E31: =F31+G31+H31+I31+J31+K31+L31+M31+N31+O31+R31+S31+T31 -> 39784 | G31: =-251+17719 -> 17468 | K31: =1+7538-145 -> 7394 | O31: 3883 | R31: =-445+11803-523+204 -> 11039 | U31: -445 | W31: =-251-145-523 -> -919 | Z31: 204 | AA31: =W31+X31+Y31+Z31 -> -715 | AC31: 39783 | AD31: 1 | AF31: =AC31+AD31-AE31 -> 39784 | AG31: =E31-AF31 -> 0
A32: 7 | B32: Sở Tài chính | C32: =C33+C34 -> 61207 | D32: =D33+D34 -> 1223 | E32: =E33+E34 -> 59984 | F32: =F33+F34 -> 0 | G32: =G33+G34 -> 0 | H32: =H33+H34 -> 0 | I32: =I33+I34 -> 0 | J32: =J33+J34 -> 0 | ... T32: =T33+T34 -> 0 | AA32: =W32+X32+Y32+Z32 -> 0 | AF32: =AC32+AD32-AE32 -> 0
B33: tỉnh Thái Nguyên | C33: =D33+E33 -> 36863 | D33: 414 | E33: =F33+G33+H33+I33+J33+K33+L33+M33+N33+O33+R33+S33+T33 -> 36449 | O33: =-338+5897 -> 5559 | R33: =338-1121+31673 -> 30890 | U33: -1121 | AA33: =W33+X33+Y33+Z33 -> 0 | AF33: =AC33+AD33-AE33 -> 0 | AI33: =E33-U33-V33 -> 37570
B34: tỉnh Bắc Kạn | C34: =D34+E34 -> 24344 | D34: 809 | E34: =F34+G34+H34+I34+J34+K34+L34+M34+N34+O34+R34+S34+T34 -> 23535 | O34: =-990+9371+2076 -> 10457 | R34: =-588+16207-2351-190 -> 13078 | U34: -588 | W34: -2351 | Y34: 2076 | Z34: -190 | AA34: =W34+X34+Y34+Z34 -> -465 | AC34: 24525 | AE34: 990 | AF34: =AC34+AD34-AE34 -> 23535 | AG34: =E34-AF34 -> 0
A35: 8 | B35: Sở Xây dựng | C35: =C36+C37 -> 157848 | D35: =D36+D37 -> 2381 | E35: =E36+E37 -> 155467 | F35: =F36+F37 -> 60 | G35: =G36+G37 -> 0 | H35: =H36+H37 -> 0 | I35: =I36+I37 -> 2885 | J35: =J36+J37 -> 0 | ... T35: =T36+T37 -> 0 | AA35: =W35+X35+Y35+Z35 -> 0 | AF35: =AC35+AD35-AE35 -> 0
B36: tỉnh Thái Nguyên | C36: =D36+E36 -> 104105 | D36: =8+393 -> 401 | E36: =F36+G36+H36+I36+J36+K36+L36+M36+N36+O36+R36+S36+T36 -> 103704 | F36: 60 | O36: =58661+20000 -> 78661 | R36: =-1393+26376 -> 24983 | U36: -1393 | AA36: =W36+X36+Y36+Z36 -> 0 | AF36: =AC36+AD36-AE36 -> 0 | AI36: =E36-U36-V36 -> 105097
B37: tỉnh Bắc Kạn | C37: =D37+E37 -> 53743 | D37: =142+1838 -> 1980 | E37: =F37+G37+H37+I37+J37+K37+L37+M37+N37+O37+R37+S37+T37 -> 51763 | I37: =1993+1009-117 -> 2885 | O37: =-1170-39233+68343+5457 -> 33397 | P37: =-39233+67233 -> 28000 | R37: =-2162+19109-1656+190 -> 15481 | U37: -2162 | W37: =-1656-117 -> -1773 | Z37: 190 | AA37: =W37+X37+Y37+Z37 -> -1583 | AC37: 86709 | AE37: =1170+39233 -> 40403 | AF37: =AC37+AD37-AE37 -> 46306 | AG37: =E37-AF37 -> 5457
A38: 9 | B38: Sở Giáo dục và Đào tạo | C38: =C39+C40 -> 1068507 | D38: =D39+D40 -> 12299 | E38: =E39+E40 -> 1056208 | F38: =F39+F40 -> 1029344 | G38: =G39+G40 -> 0 | H38: =H39+H40 -> 0 | I38: =I39+I40 -> 0 | J38: =J39+J40 -> 0 | ... T38: =T39+T40 -> 0 | AA38: =W38+X38+Y38+Z38 -> 0 | AF38: =AC38+AD38-AE38 -> 0
B39: tỉnh Thái Nguyên | C39: =D39+E39 -> 786350 | D39: 5168 | E39: =F39+G39+H39+I39+J39+K39+L39+M39+N39+O39+R39+S39+T39 -> 781182 | F39: =-17-153-20074+729572+56704 -> 766032 | R39: =17-430+15563 -> 15150 | U39: =-153-430 -> -583 | V39: -20074 | AA39: =W39+X39+Y39+Z39 -> 0 | AB39: chuyển sang Trường CĐ TN | AF39: =AC39+AD39-AE39 -> 0 | AI39: =E39-U39-V39 -> 801839
B40: tỉnh Bắc Kạn | C40: =D40+E40 -> 282157 | D40: 7131 | E40: =F40+G40+H40+I40+J40+K40+L40+M40+N40+O40+R40+S40+T40 -> 275026 | F40: =4+293619+9275-39586 -> 263312 | R40: =-552+12515-249 -> 11714 | U40: -552 | W40: =-249 -> -249 | X40: 9275 | AA40: =W40+X40+Y40+Z40 -> 9026 | AC40: 314608 | AD40: 4 | AE40: 39586 | AF40: =AC40+AD40-AE40 -> 275026 | AG40: =E40-AF40 -> 0
A41: 10 | B41: Sở Y tế | C41: =C42+C43 -> 823903 | D41: =D42+D43 -> 8556 | E41: =E42+E43 -> 815347 | F41: =F42+F43 -> 1679 | G41: =G42+G43 -> 0 | H41: =H42+H43 -> 0 | I41: =I42+I43 -> 0 | J41: =J42+J43 -> 721492 | ... T41: =T42+T43 -> 0 | AA41: =W41+X41+Y41+Z41 -> 0 | AF41: =AC41+AD41-AE41 -> 0
B42: tỉnh Thái Nguyên | C42: =D42+E42 -> 527053 | D42: 4616 | E42: =F42+G42+H42+I42+J42+K42+L42+M42+N42+O42+R42+S42+T42 -> 522437 | J42: =11452+450778 -> 462230 | O42: 915 | R42: =-495+15509 -> 15014 | S42: 44278 | U42: =-'[2]35.NĐ 31. saudieuchinh'!$P$11 -> -495 | V42: 11452 | AA42: =W42+X42+Y42+Z42 -> 0 | AB42: tăng do Nguồn thu dịch vụ sự nghiệp năm 2025 không đảm bảo tỷ lệ tự chủ chi thường xuyên theo phân loại tự chủ tài chính được UBND tỉnh phê duyệt | AF42: =AC42+AD42-AE42 -> 0 | AI42: =E42-U42-V42 -> 511480
B43: tỉnh Bắc Kạn | C43: =D43+E43 -> 296850 | D43: 3940 | E43: =F43+G43+H43+I43+J43+K43+L43+M43+N43+O43+R43+S43+T43 -> 292910 | F43: 1679 | J43: =6+259334-78 -> 259262 | O43: 5604 | R43: =-323+16682-247 -> 16112 | S43: 10253 | U43: -323 | W43: =-247-78 -> -325 | AA43: =W43+X43+Y43+Z43 -> -325 | AC43: 292904 | AD43: 6 | AF43: =AC43+AD43-AE43 -> 292910 | AG43: =E43-AF43 -> 0
A44: 11 | B44: Sở Văn hoá, Thể thao và Du lịch | C44: =C45+C46 -> 313601 | D44: =D45+D46 -> 3433 | E44: =E45+E46 -> 310168 | F44: =F45+F46 -> 0 | G44: =G45+G46 -> 0 | H44: =H45+H46 -> 0 | I44: =I45+I46 -> 0 | J44: =J45+J46 -> 294 | ... T44: =T45+T46 -> 0 | AA44: =W44+X44+Y44+Z44 -> 0 | AF44: =AC44+AD44-AE44 -> 0
B45: tỉnh Thái Nguyên | C45: =D45+E45 -> 259203 | D45: 770 | E45: =F45+G45+H45+I45+J45+K45+L45+M45+N45+O45+R45+S45+T45 -> 258433 | K45: =-2950+127283+3788-1950 -> 126171 | M45: =2950+115832 -> 118782 | R45: =-626+14106 -> 13480 | U45: -626 | V45: 3788 | AA45: =W45+X45+Y45+Z45 -> 0 | AF45: =AC45+AD45-AE45 -> 0 | AI45: =E45-U45-V45 -> 255271
B46: tỉnh Bắc Kạn | C46: =D46+E46 -> 54398 | D46: 2663 | E46: =F46+G46+H46+I46+J46+K46+L46+M46+N46+O46+R46+S46+T46 -> 51735 | J46: 294 | K46: =26980-531+310 -> 26759 | M46: 13934 | O46: =164+1566 -> 1730 | R46: =-461+10538-1059 -> 9018 | U46: -461 | W46: =-1059-531 -> -1590 | Y46: =164+310 -> 474 | AA46: =W46+X46+Y46+Z46 -> -1116 | AC46: 51735 | AF46: =AC46+AD46-AE46 -> 51735 | AG46: =E46-AF46 -> 0
A47: 12 | B47: Sở Nội vụ | C47: =C48+C49 -> 148010 | D47: =D48+D49 -> 2466 | E47: =E48+E49 -> 145544 | F47: =F48+F49 -> 1500 | G47: =G48+G49 -> 0 | H47: =H48+H49 -> 0 | I47: =I48+I49 -> 0 | J47: =J48+J49 -> 5600 | ... T47: =T48+T49 -> 2671 | AA47: =W47+X47+Y47+Z47 -> 0 | AF47: =AC47+AD47-AE47 -> 0
B48: tỉnh Thái Nguyên | C48: =D48+E48 -> 109439 | D48: 1191 | E48: =F48+G48+H48+I48+J48+K48+L48+M48+N48+O48+R48+S48+T48 -> 108248 | F48: 1500 | J48: 5600 | O48: 20462 | R48: =-752+60861 -> 60109 | S48: 20577 | U48: -752 | AA48: =W48+X48+Y48+Z48 -> 0 | AF48: =AC48+AD48-AE48 -> 0 | AI48: =E48-U48-V48 -> 109000
B49: tỉnh Bắc Kạn | C49: =D49+E49 -> 38571 | D49: 1275 | E49: =F49+G49+H49+I49+J49+K49+L49+M49+N49+O49+R49+S49+T49 -> 37296 | O49: =24+2024-197 -> 1851 | R49: =-418+25917-1628 -> 23871 | S49: 8903 | T49: =-61+2732 -> 2671 | U49: -418 | W49: =-1628-197-61 -> -1886 | AA49: =W49+X49+Y49+Z49 -> -1886 | AC49: 37272 | AD49: 24 | AF49: =AC49+AD49-AE49 -> 37296 | AG49: =E49-AF49 -> 0
A50: 13 | B50: Thanh tra tỉnh | C50: =C51+C52 -> 37555 | D50: =D51+D52 -> 287 | E50: =E51+E52 -> 37268 | F50: =F51+F52 -> 0 | G50: =G51+G52 -> 0 | H50: =H51+H52 -> 0 | I50: =I51+I52 -> 0 | J50: =J51+J52 -> 0 | ... T50: =T51+T52 -> 0 | AA50: =W50+X50+Y50+Z50 -> 0 | AF50: =AC50+AD50-AE50 -> 0
B51: tỉnh Thái Nguyên | C51: =D51+E51 -> 22387 | D51: 141 | E51: =F51+G51+H51+I51+J51+K51+L51+M51+N51+O51+R51+S51+T51 -> 22246 | R51: =8226+14020 -> 22246 | U51: =709+7517 -> 8226 | AA51: =W51+X51+Y51+Z51 -> 0 | AF51: =AC51+AD51-AE51 -> 0 | AI51: =E51-U51-V51 -> 14020
B52: tỉnh Bắc Kạn | C52: =D52+E52 -> 15168 | D52: 146 | E52: =F52+G52+H52+I52+J52+K52+L52+M52+N52+O52+R52+S52+T52 -> 15022 | R52: =6991+8573-401-141 -> 15022 | U52: 6991 | W52: =-141 -> -141 | AA52: =W52+X52+Y52+Z52 -> -141 | AC52: 15423 | AE52: 401 | AF52: =AC52+AD52-AE52 -> 15022 | AG52: =E52-AF52 -> 0
A53: 14 | B53: Sở Dân tộc và Tôn giáo | C53: =C54+C55 -> 20490 | D53: =D54+D55 -> 223 | E53: =E54+E55 -> 20267 | F53: =F54+F55 -> 0 | G53: =G54+G55 -> 0 | H53: =H54+H55 -> 0 | I53: =I54+I55 -> 0 | J53: =J54+J55 -> 0 | ... T53: =T54+T55 -> 0 | AA53: =W53+X53+Y53+Z53 -> 0 | AF53: =AC53+AD53-AE53 -> 0
B54: tỉnh Thái Nguyên | C54: =D54+E54 -> 13604 | D54: 66 | E54: =F54+G54+H54+I54+J54+K54+L54+M54+N54+O54+R54+S54+T54 -> 13538 | R54: =-321+13859 -> 13538 | U54: -321 | AA54: =W54+X54+Y54+Z54 -> 0 | AF54: =AC54+AD54-AE54 -> 0 | AI54: =E54-U54-V54 -> 13859
B55: tỉnh Bắc Kạn | C55: =D55+E55 -> 6886 | D55: 157 | E55: =F55+G55+H55+I55+J55+K55+L55+M55+N55+O55+R55+S55+T55 -> 6729 | R55: =-235+6964 -> 6729 | W55: =-235 -> -235 | AA55: =W55+X55+Y55+Z55 -> -235 | AC55: 6729 | AF55: =AC55+AD55-AE55 -> 6729 | AG55: =E55-AF55 -> 0
A56: 15 | B56: Ban Quản lý các khu công nghiệp | C56: =C57+C58 -> 22397 | D56: =D57+D58 -> 239 | E56: =E57+E58 -> 22158 | F56: =F57+F58 -> 379 | G56: =G57+G58 -> 0 | H56: =H57+H58 -> 0 | I56: =I57+I58 -> 0 | J56: =J57+J58 -> 0 | ... T56: =T57+T58 -> 0 | AA56: =W56+X56+Y56+Z56 -> 0 | AF56: =AC56+AD56-AE56 -> 0
B57: tỉnh Thái Nguyên | C57: =D57+E57 -> 16533 | D57: 141 | E57: =F57+G57+H57+I57+J57+K57+L57+M57+N57+O57+R57+S57+T57 -> 16392 | F57: 379 | O57: 6840 | R57: 9173 | AA57: =W57+X57+Y57+Z57 -> 0 | AF57: =AC57+AD57-AE57 -> 0 | AI57: =E57-U57-V57 -> 16392
B58: tỉnh Bắc Kạn | C58: =D58+E58 -> 5864 | D58: 98 | E58: =F58+G58+H58+I58+J58+K58+L58+M58+N58+O58+R58+S58+T58 -> 5766 | O58: 2836 | R58: =-191+3121 -> 2930 | W58: -191 | AA58: =W58+X58+Y58+Z58 -> -191 | AC58: 5766 | AF58: =AC58+AD58-AE58 -> 5766 | AG58: =E58-AF58 -> 0
A59: 16 | B59: BQL Vườn quốc gia Ba Bể | C59: =C60 -> 16988 | D59: =D60 -> 157 | E59: =E60 -> 16831 | F59: =F60 -> 0 | G59: =G60 -> 0 | H59: =H60 -> 0 | I59: =I60 -> 0 | J59: =J60 -> 0 | ... T59: =T60 -> 0 | AA59: =W59+X59+Y59+Z59 -> 0 | AF59: =AC59+AD59-AE59 -> 0
B60: tỉnh Bắc Kạn | C60: =D60+E60 -> 16988 | D60: 157 | E60: =F60+G60+H60+I60+J60+K60+L60+M60+N60+O60+R60+S60+T60 -> 16831 | N60: 11768 | O60: 5063 | AA60: =W60+X60+Y60+Z60 -> 0 | AC60: 16831 | AF60: =AC60+AD60-AE60 -> 16831 | AG60: =E60-AF60 -> 0
A61: 17 | B61: Ban An toàn giao thông | AA61: =W61+X61+Y61+Z61 -> 0 | AF61: =AC61+AD61-AE61 -> 0 | AG61: =E61-AF61 -> 0 | AI61: =E61-U61-V61 -> 0
B62: tỉnh Bắc Kạn | AA62: =W62+X62+Y62+Z62 -> 0 | AF62: =AC62+AD62-AE62 -> 0 | AG62: =E62-AF62 -> 0 | AI62: =E62-U62-V62 -> 0
A63: II | B63: KHỐI HỘI ĐOÀN THỂ | C63: =C64+C80+C83+C88+C91+C94+C97+C100+C103+C105+C108+C111+C114+C117+C120+C122+C124+C126+C128+C131 -> 127235 | D63: =D64+D80+D83+D88+D91+D94+D97+D100+D103+D105+D108+D111+D114+D117+D120+D122+D124+D126+D128+D131 -> 1404 | E63: =E64+E80+E83+E88+E91+E94+E97+E100+E103+E105+E108+E111+E114+E117+E120+E122+E124+E126+E128+E131 -> 125831 | F63: =F64+F80+F83+F88+F91+F94+F97+F100+F103+F105+F108+F111+F114+F117+F120+F122+F124+F126+F128+F131 -> 0 | G63: =G64+G80+G83+G88+G91+G94+G97+G100+G103+G105+G108+G111+G114+G117+G120+G122+G124+G126+G128+G131 -> 192 | H63: =H64+H80+H83+H88+H91+H94+H97+H100+H103+H105+H108+H111+H114+H117+H120+H122+H124+H126+H128+H131 -> 0 | I63: =I64+I80+I83+I88+I91+I94+I97+I100+I103+I105+I108+I111+I114+I117+I120+I122+I124+I126+I128+I131 -> 0 | J63: =J64+J80+J83+J88+J91+J94+J97+J100+J103+J105+J108+J111+J114+J117+J120+J122+J124+J126+J128+J131 -> 0 | ... V63: =V64+V80+V83+V88+V91+V94+V97+V100+V103+V105+V108+V111+V114+V117+V120+V122+V124+V126+V128+V131 -> 0 | AA63: =W63+X63+Y63+Z63 -> 0 | AF63: =AC63+AD63-AE63 -> 0 | AJ63: =SUM(AI64:AI132) -> 78793
A64: 1 | B64: Uỷ ban Mặt trận tổ quốc Việt Nam tỉnh Thái Nguyên | C64: =C65+C68+C71+C74+C77 -> 69284 | D64: =D65+D68+D71+D74+D77 -> 1017 | E64: =E65+E68+E71+E74+E77 -> 68267 | F64: =F65+F68+F71+F74+F77 -> 0 | G64: =G65+G68+G71+G74+G77 -> 192 | H64: =H65+H68+H71+H74+H77 -> 0 | I64: =I65+I68+I71+I74+I77 -> 0 | J64: =J65+J68+J71+J74+J77 -> 0 | ... T64: =T65+T68+T71+T74+T77 -> 0 | AA64: =W64+X64+Y64+Z64 -> 0 | AF64: =AC64+AD64-AE64 -> 0
A65: 1.1 | B65: Mặt trận Tổ quốc | C65: =C66+C67 -> 18351 | D65: =D66+D67 -> 209 | E65: =E66+E67 -> 18142 | F65: =F66+F67 -> 0 | G65: =G66+G67 -> 0 | H65: =H66+H67 -> 0 | I65: =I66+I67 -> 0 | J65: =J66+J67 -> 0 | ... T65: =T66+T67 -> 0 | AA65: =W65+X65+Y65+Z65 -> 0 | AF65: =AC65+AD65-AE65 -> 0
B66: tỉnh Thái Nguyên | C66: =D66+E66 -> 11805 | D66: 88 | E66: =F66+G66+H66+I66+J66+K66+L66+M66+N66+O66+R66+S66+T66 -> 11717 | O66: 700 | R66: 11017 | AA66: =W66+X66+Y66+Z66 -> 0 | AF66: =AC66+AD66-AE66 -> 0 | AI66: =E66-U66-V66 -> 11717
B67: tỉnh Bắc Kạn | C67: =D67+E67 -> 6546 | D67: 121 | E67: =F67+G67+H67+I67+J67+K67+L67+M67+N67+O67+R67+S67+T67 -> 6425 | O67: 3 | R67: =-333-216+6971 -> 6422 | W67: -333 | Z67: -216 | AA67: =W67+X67+Y67+Z67 -> -549 | AC67: 6422 | AD67: 3 | AF67: =AC67+AD67-AE67 -> 6425 | AG67: =E67-AF67 -> 0
A68: 1.2 | B68: Tỉnh Đoàn thanh niên | C68: =C69+C70 -> 13006 | D68: =D69+D70 -> 277 | E68: =E69+E70 -> 12729 | F68: =F69+F70 -> 0 | G68: =G69+G70 -> 192 | H68: =H69+H70 -> 0 | I68: =I69+I70 -> 0 | J68: =J69+J70 -> 0 | ... T68: =T69+T70 -> 0 | AA68: =W68+X68+Y68+Z68 -> 0 | AF68: =AC68+AD68-AE68 -> 0
B69: tỉnh Thái Nguyên | C69: =D69+E69 -> 7361 | D69: 88 | E69: =F69+G69+H69+I69+J69+K69+L69+M69+N69+O69+R69+S69+T69 -> 7273 | G69: 192 | R69: 7081 | AA69: =W69+X69+Y69+Z69 -> 0 | AF69: =AC69+AD69-AE69 -> 0 | AI69: =E69-U69-V69 -> 7273
B70: tỉnh Bắc Kạn | C70: =D70+E70 -> 5645 | D70: 189 | E70: =F70+G70+H70+I70+J70+K70+L70+M70+N70+O70+R70+S70+T70 -> 5456 | O70: 25 | R70: =-1309+6740 -> 5431 | W70: -1309 | AA70: =W70+X70+Y70+Z70 -> -1309 | AC70: 5431 | AD70: 25 | AF70: =AC70+AD70-AE70 -> 5456 | AG70: =E70-AF70 -> 0
A71: 1.3 | B71: Hội Liên hiệp Phụ nữ | C71: =C72+C73 -> 15355 | D71: =D72+D73 -> 219 | E71: =E72+E73 -> 15136 | F71: =F72+F73 -> 0 | G71: =G72+G73 -> 0 | H71: =H72+H73 -> 0 | I71: =I72+I73 -> 0 | J71: =J72+J73 -> 0 | ... T71: =T72+T73 -> 0 | AA71: =W71+X71+Y71+Z71 -> 0 | AF71: =AC71+AD71-AE71 -> 0
B72: tỉnh Thái Nguyên | C72: =D72+E72 -> 9997 | D72: 100 | E72: =F72+G72+H72+I72+J72+K72+L72+M72+N72+O72+R72+S72+T72 -> 9897 | R72: 9897 | AA72: =W72+X72+Y72+Z72 -> 0 | AF72: =AC72+AD72-AE72 -> 0 | AI72: =E72-U72-V72 -> 9897
B73: tỉnh Bắc Kạn | C73: =D73+E73 -> 5358 | D73: 119 | E73: =F73+G73+H73+I73+J73+K73+L73+M73+N73+O73+R73+S73+T73 -> 5239 | O73: 6 | R73: =-250+6818-1335 -> 5233 | W73: -1335 | AA73: =W73+X73+Y73+Z73 -> -1335 | AC73: 5483 | AD73: 6 | AE73: 250 | AF73: =AC73+AD73-AE73 -> 5239 | AG73: =E73-AF73 -> 0
A74: 1.4 | B74: Hội Nông dân | C74: =C75+C76 -> 15970 | D74: =D75+D76 -> 187 | E74: =E75+E76 -> 15783 | F74: =F75+F76 -> 0 | G74: =G75+G76 -> 0 | H74: =H75+H76 -> 0 | I74: =I75+I76 -> 0 | J74: =J75+J76 -> 0 | ... T74: =T75+T76 -> 0 | AA74: =W74+X74+Y74+Z74 -> 0 | AF74: =AC74+AD74-AE74 -> 0
B75: tỉnh Thái Nguyên | C75: =D75+E75 -> 9919 | D75: 82 | E75: =F75+G75+H75+I75+J75+K75+L75+M75+N75+O75+R75+S75+T75 -> 9837 | R75: 9837 | AA75: =W75+X75+Y75+Z75 -> 0 | AF75: =AC75+AD75-AE75 -> 0 | AI75: =E75-U75-V75 -> 9837
B76: tỉnh Bắc Kạn | C76: =D76+E76 -> 6051 | D76: 105 | E76: =F76+G76+H76+I76+J76+K76+L76+M76+N76+O76+R76+S76+T76 -> 5946 | O76: 9 | R76: =-1317+7254 -> 5937 | W76: -1317 | AA76: =W76+X76+Y76+Z76 -> -1317 | AC76: 5937 | AD76: 9 | AF76: =AC76+AD76-AE76 -> 5946 | AG76: =E76-AF76 -> 0
A77: 1.5 | B77: Hội Cựu chiến binh | C77: =C78+C79 -> 6602 | D77: =D78+D79 -> 125 | E77: =E78+E79 -> 6477 | F77: =F78+F79 -> 0 | G77: =G78+G79 -> 0 | H77: =H78+H79 -> 0 | I77: =I78+I79 -> 0 | J77: =J78+J79 -> 0 | ... T77: =T78+T79 -> 0 | AA77: =W77+X77+Y77+Z77 -> 0 | AF77: =AC77+AD77-AE77 -> 0
B78: tỉnh Thái Nguyên | C78: =D78+E78 -> 3116 | D78: 33 | E78: =F78+G78+H78+I78+J78+K78+L78+M78+N78+O78+R78+S78+T78 -> 3083 | R78: 3083 | AA78: =W78+X78+Y78+Z78 -> 0 | AF78: =AC78+AD78-AE78 -> 0 | AI78: =E78-U78-V78 -> 3083
B79: tỉnh Bắc Kạn | C79: =D79+E79 -> 3486 | D79: 92 | E79: =F79+G79+H79+I79+J79+K79+L79+M79+N79+O79+R79+S79+T79 -> 3394 | R79: =-189+3583 -> 3394 | W79: -189 | AA79: =W79+X79+Y79+Z79 -> -189 | AC79: 3394 | AF79: =AC79+AD79-AE79 -> 3394 | AG79: =E79-AF79 -> 0
A80: 2 | B80: Liên minh các hợp tác xã | C80: =C81+C82 -> 18761 | D80: =D81+D82 -> 102 | E80: =E81+E82 -> 18659 | F80: =F81+F82 -> 0 | G80: =G81+G82 -> 0 | H80: =H81+H82 -> 0 | I80: =I81+I82 -> 0 | J80: =J81+J82 -> 0 | ... T80: =T81+T82 -> 10304 | AA80: =W80+X80+Y80+Z80 -> 0 | AF80: =AC80+AD80-AE80 -> 0
B81: tỉnh Thái Nguyên | C81: =D81+E81 -> 10340 | D81: 36 | E81: =F81+G81+H81+I81+J81+K81+L81+M81+N81+O81+R81+S81+T81 -> 10304 | T81: 10304 | AA81: =W81+X81+Y81+Z81 -> 0 | AF81: =AC81+AD81-AE81 -> 0 | AI81: =E81-U81-V81 -> 10304
B82: tỉnh Bắc Kạn | C82: =D82+E82 -> 8421 | D82: 66 | E82: =F82+G82+H82+I82+J82+K82+L82+M82+N82+O82+R82+S82+T82 -> 8355 | O82: =12+6808-920 -> 5900 | R82: =-590+3045 -> 2455 | W82: -590 | AA82: =W82+X82+Y82+Z82 -> -590 | AC82: 9263 | AD82: 12 | AE82: 920 | AF82: =AC82+AD82-AE82 -> 8355 | AG82: =E82-AF82 -> 0
A83: 3 | B83: Liên hiệp các hội KHKT tỉnh | C83: =C84+C85 -> 3372 | D83: =D84+D85 -> 51 | E83: =E84+E85 -> 3321 | F83: =F84+F85 -> 0 | G83: =G84+G85 -> 0 | H83: =H84+H85 -> 0 | I83: =I84+I85 -> 0 | J83: =J84+J85 -> 0 | ... T83: =T84+T85 -> 2400 | AA83: =W83+X83+Y83+Z83 -> 0 | AF83: =AC83+AD83-AE83 -> 0
B84: tỉnh Thái Nguyên | C84: =D84+E84 -> 2408 | D84: 8 | E84: =F84+G84+H84+I84+J84+K84+L84+M84+N84+O84+R84+S84+T84 -> 2400 | T84: 2400 | AA84: =W84+X84+Y84+Z84 -> 0 | AF84: =AC84+AD84-AE84 -> 0 | AI84: =E84-U84-V84 -> 2400
B85: tỉnh Bắc Kạn | C85: =D85+E85 -> 964 | D85: 43 | E85: =F85+G85+H85+I85+J85+K85+L85+M85+N85+O85+R85+S85+T85 -> 921 | R85: 921 | AA85: =W85+X85+Y85+Z85 -> 0 | AC85: 921 | AF85: =AC85+AD85-AE85 -> 921 | AG85: =E85-AF85 -> 0
A86: 8 | B86: Liên hiệp các tổ chức hữu nghị | AA86: =W86+X86+Y86+Z86 -> 0 | AF86: =AC86+AD86-AE86 -> 0 | AG86: =E86-AF86 -> 0 | AI86: =E86-U86-V86 -> 0
B87: tỉnh Thái Nguyên | V87: -185 | AA87: =W87+X87+Y87+Z87 -> 0 | AB87: Giải thể Hội | AF87: =AC87+AD87-AE87 -> 0 | AG87: =E87-AF87 -> 0 | AI87: =E87-U87-V87 -> 185
A88: 4 | B88: Hội Văn học nghệ thuật | C88: =C89+C90 -> 11827 | D88: =D89+D90 -> 102 | E88: =E89+E90 -> 11725 | F88: =F89+F90 -> 0 | G88: =G89+G90 -> 0 | H88: =H89+H90 -> 0 | I88: =I89+I90 -> 0 | J88: =J89+J90 -> 0 | ... T88: =T89+T90 -> 9045 | AA88: =W88+X88+Y88+Z88 -> 0 | AF88: =AC88+AD88-AE88 -> 0
B89: tỉnh Thái Nguyên | C89: =D89+E89 -> 9071 | D89: 26 | E89: =F89+G89+H89+I89+J89+K89+L89+M89+N89+O89+R89+S89+T89 -> 9045 | T89: 9045 | AA89: =W89+X89+Y89+Z89 -> 0 | AF89: =AC89+AD89-AE89 -> 0 | AI89: =E89-U89-V89 -> 9045
B90: tỉnh Bắc Kạn | C90: =D90+E90 -> 2756 | D90: 76 | E90: =F90+G90+H90+I90+J90+K90+L90+M90+N90+O90+R90+S90+T90 -> 2680 | R90: =-428+3108 -> 2680 | AA90: =W90+X90+Y90+Z90 -> 0 | AC90: 3108 | AE90: 428 | AF90: =AC90+AD90-AE90 -> 2680 | AG90: =E90-AF90 -> 0
A91: 5 | B91: Hội Nhà báo | C91: =C92+C93 -> 3786 | D91: =D92+D93 -> 16 | E91: =E92+E93 -> 3770 | F91: =F92+F93 -> 0 | G91: =G92+G93 -> 0 | H91: =H92+H93 -> 0 | I91: =I92+I93 -> 0 | J91: =J92+J93 -> 0 | ... T91: =T92+T93 -> 2533 | AA91: =W91+X91+Y91+Z91 -> 0 | AF91: =AC91+AD91-AE91 -> 0
B92: tỉnh Thái Nguyên | C92: =D92+E92 -> 2549 | D92: 16 | E92: =F92+G92+H92+I92+J92+K92+L92+M92+N92+O92+R92+S92+T92 -> 2533 | T92: 2533 | AA92: =W92+X92+Y92+Z92 -> 0 | AF92: =AC92+AD92-AE92 -> 0 | AI92: =E92-U92-V92 -> 2533
B93: tỉnh Bắc Kạn | C93: =D93+E93 -> 1237 | E93: =F93+G93+H93+I93+J93+K93+L93+M93+N93+O93+R93+S93+T93 -> 1237 | R93: =-160+1397 -> 1237 | AA93: =W93+X93+Y93+Z93 -> 0 | AC93: 1397 | AE93: 160 | AF93: =AC93+AD93-AE93 -> 1237 | AG93: =E93-AF93 -> 0
A94: 6 | B94: Hội Luật gia | C94: =C95+C96 -> 494 | D94: =D95+D96 -> 0 | E94: =E95+E96 -> 494 | F94: =F95+F96 -> 0 | G94: =G95+G96 -> 0 | H94: =H95+H96 -> 0 | I94: =I95+I96 -> 0 | J94: =J95+J96 -> 0 | ... T94: =T95+T96 -> 214 | AA94: =W94+X94+Y94+Z94 -> 0 | AF94: =AC94+AD94-AE94 -> 0
B95: tỉnh Thái Nguyên | C95: =D95+E95 -> 214 | E95: =F95+G95+H95+I95+J95+K95+L95+M95+N95+O95+R95+S95+T95 -> 214 | T95: 214 | AA95: =W95+X95+Y95+Z95 -> 0 | AF95: =AC95+AD95-AE95 -> 0 | AI95: =E95-U95-V95 -> 214
B96: tỉnh Bắc Kạn | C96: =D96+E96 -> 280 | E96: =F96+G96+H96+I96+J96+K96+L96+M96+N96+O96+R96+S96+T96 -> 280 | R96: 280 | AA96: =W96+X96+Y96+Z96 -> 0 | AC96: 280 | AF96: =AC96+AD96-AE96 -> 280 | AG96: =E96-AF96 -> 0
A97: 7 | B97: Hội Chữ thập đỏ | C97: =C98+C99 -> 6080 | D97: =D98+D99 -> 39 | E97: =E98+E99 -> 6041 | F97: =F98+F99 -> 0 | G97: =G98+G99 -> 0 | H97: =H98+H99 -> 0 | I97: =I98+I99 -> 0 | J97: =J98+J99 -> 0 | ... T97: =T98+T99 -> 4471 | AA97: =W97+X97+Y97+Z97 -> 0 | AF97: =AC97+AD97-AE97 -> 0
B98: tỉnh Thái Nguyên | C98: =D98+E98 -> 4500 | D98: 29 | E98: =F98+G98+H98+I98+J98+K98+L98+M98+N98+O98+R98+S98+T98 -> 4471 | T98: 4471 | AA98: =W98+X98+Y98+Z98 -> 0 | AF98: =AC98+AD98-AE98 -> 0 | AI98: =E98-U98-V98 -> 4471
B99: tỉnh Bắc Kạn | C99: =D99+E99 -> 1580 | D99: 10 | E99: =F99+G99+H99+I99+J99+K99+L99+M99+N99+O99+R99+S99+T99 -> 1570 | R99: =-388+1958 -> 1570 | W99: -388 | AA99: =W99+X99+Y99+Z99 -> -388 | AC99: 1570 | AF99: =AC99+AD99-AE99 -> 1570 | AG99: =E99-AF99 -> 0
A100: 8 | B100: Hội Người cao tuổi | C100: =C101+C102 -> 1672 | D100: =D101+D102 -> 0 | E100: =E101+E102 -> 1672 | F100: =F101+F102 -> 0 | G100: =G101+G102 -> 0 | H100: =H101+H102 -> 0 | I100: =I101+I102 -> 0 | J100: =J101+J102 -> 0 | ... T100: =T101+T102 -> 871 | AA100: =W100+X100+Y100+Z100 -> 0 | AF100: =AC100+AD100-AE100 -> 0
B101: tỉnh Thái Nguyên | C101: =D101+E101 -> 871 | E101: =F101+G101+H101+I101+J101+K101+L101+M101+N101+O101+R101+S101+T101 -> 871 | T101: =115+756 -> 871 | V101: 115 | AA101: =W101+X101+Y101+Z101 -> 0 | AB101: Bổ sung thêm 115 triệu theo nhiệm vụ được giao tại QĐ 1080 ngày 11/4/2025 của UBND tỉnh | AF101: =AC101+AD101-AE101 -> 0 | AI101: =E101-U101-V101 -> 756
...

Sheet 37.02 TW
R1: Biểu mẫu số 37.1 NSTW
A2: DỰ TOÁN CHI THƯỜNG XUYÊN CỦA NGÂN SÁCH TRUNG ƯƠNG CHO TỪNG CƠ QUAN, TỔ CHỨC THEO LĨNH VỰC NĂM 2025
A3: (Dùng cho ngân sách các cấp chính quyền địa phương)
A4: (Kèm theo Công văn số /STC-HCSN ngày /7/2025 của Sở Tài chính)
B6: =E10-'[3]35 gửi NS'!G9 -> 205588.77 | E6: =E11-#REF! -> #REF! | R6: Đơn vị: Triệu đồng
A7: STT | B7: Tên đơn vị | C7: Tổng số chi ngân sách khối tỉnh | D7: Trừ tiết kiệm 10% chi thường xuyên | E7: Số được chi từ nguồn ngân sách nhà nước | F7: Chi giáo dục - đào tạo và dạy nghề | G7: Chi khoa học và công nghệ | H7: Chi quốc phòng | I7: Chi an ninh và trật tự an toàn xã hội | J7: Chi y tế, dân số và gia đình | K7: Chi văn hóa thông tin | L7: Chi phát thanh, truyền hình, thông tấn | M7: Chi thể dục thể thao | N7: Chi bảo vệ môi trường | O7: Chi các hoạt động kinh tế | P7: Trong đó | R7: Chi hoạt động của cơ quan quản lý nhà nước, đảng, đoàn thể | S7: Chi bảo đảm xã hội | T7: Chi thường xuyên khác
P8: Chi giao thông | Q8: Chi nông nghiệp, lâm nghiệp, thủy lợi, thủy sản
A9: A | B9: B | E9: 1 | F9: 2 | G9: 3 | H9: 4 | I9: 5 | J9: 6 | K9: 7 | L9: 8 | M9: 9 | N9: 10 | O9: 11 | P9: 12 | Q9: 13 | R9: 14 | S9: 15 | T9: 16
B10: TỔNG SỐ | C10: =C13+C16 -> 0 | D10: =D13+D16 -> 0 | E10: =E13+E16 -> 358312.77 | F10: =F13+F16 -> 39666 | G10: =G13+G16 -> 0 | H10: =H13+H16 -> 12800 | I10: =I13+I16 -> 9300 | J10: =J13+J16 -> 161498 | ... T10: =T13+T16 -> 0
B11: Chương trình mục tiêu xây dựng nông thôn mới | E11: =E14+E17 -> 31409.77 | F11: =F14+F17 -> 80 | G11: =G14+G17 -> 0 | H11: =H14+H17 -> 800 | I11: =I14+I17 -> 1500 | J11: =J14+J17 -> 103 | K11: =K14+K17 -> 994 | L11: =L14+L17 -> 0 | ... T11: =T14+T17 -> 0
B12: Bổ sung có mục tiêu từ NSTW | E12: =E15+E18 -> 326903 | F12: =F15+F18 -> 39586 | G12: =G15+G18 -> 0 | H12: =H15+H18 -> 12000 | I12: =I15+I18 -> 7800 | J12: =J15+J18 -> 161395 | K12: =K15+K18 -> 0 | L12: =L15+L18 -> 0 | ... T12: =T15+T18 -> 0
B13: tỉnh Thái Nguyên | E13: =F13+G13+H13+I13+J13+K13+L13+M13+N13+O13+R13+S13+T13 -> 94015.93 | F13: =F14+F15 -> 0 | G13: =G14+G15 -> 0 | H13: =H14+H15 -> 800 | I13: =I14+I15 -> 7729 | J13: =J14+J15 -> 92 | K13: =K14+K15 -> 950 | L13: =L14+L15 -> 0 | M13: =M14+M15 -> 0 | ... T13: =T14+T15 -> 0
B14: Chương trình mục tiêu xây dựng nông thôn mới | C14: =C19+C22 -> 0 | D14: =D19+D22 -> 0 | E14: =E24+E33+E42+E51+E60+E69+E78+E87+E96+E105+E129+E138+E147+E156+E165+E174+E185+E194+E203+E213+E116+E231+E240+E249+E222 -> 24253.93 | F14: =F24+F33+F42+F51+F60+F69+F78+F87+F96+F105+F129+F138+F147+F156+F165+F174+F185+F194+F203+F213+F116+F231+F240+F249+F222 -> 0 | G14: =G24+G33+G42+G51+G60+G69+G78+G87+G96+G105+G129+G138+G147+G156+G165+G174+G185+G194+G203+G213+G116+G231+G240+G249+G222 -> 0 | H14: =H24+H33+H42+H51+H60+H69+H78+H87+H96+H105+H129+H138+H147+H156+H165+H174+H185+H194+H203+H213+H116+H231+H240+H249+H222 -> 800 | I14: =I24+I33+I42+I51+I60+I69+I78+I87+I96+I105+I129+I138+I147+I156+I165+I174+I185+I194+I203+I213+I116+I231+I240+I249+I222 -> 1500 | J14: =J24+J33+J42+J51+J60+J69+J78+J87+J96+J105+J129+J138+J147+J156+J165+J174+J185+J194+J203+J213+J116+J231+J240+J249+J222 -> 0 | K14: =K24+K33+K42+K51+K60+K69+K78+K87+K96+K105+K129+K138+K147+K156+K165+K174+K185+K194+K203+K213+K116+K231+K240+K249+K222 -> 950 | L14: =L24+L33+L42+L51+L60+L69+L78+L87+L96+L105+L129+L138+L147+L156+L165+L174+L185+L194+L203+L213+L116+L231+L240+L249+L222 -> 0 | ... T14: =T24+T33+T42+T51+T60+T69+T78+T87+T96+T105+T129+T138+T147+T156+T165+T174+T185+T194+T203+T213+T116+T231+T240+T249+T222 -> 0
B15: Bổ sung có mục tiêu từ NSTW | C15: =C20+C23 -> 0 | D15: =D20+D23 -> 0 | E15: =E25+E34+E43+E52+E61+E70+E79+E88+E97+E106+E117+E130+E139+E148+E157+E166+E175+E186+E195+E204+E259 -> 69762 | F15: =F25+F34+F43+F52+F61+F70+F79+F88+F97+F106+F117+F130+F139+F148+F157+F166+F175+F186+F195+F204+F259 -> 0 | G15: =G25+G34+G43+G52+G61+G70+G79+G88+G97+G106+G117+G130+G139+G148+G157+G166+G175+G186+G195+G204+G259 -> 0 | H15: =H25+H34+H43+H52+H61+H70+H79+H88+H97+H106+H117+H130+H139+H148+H157+H166+H175+H186+H195+H204+H259 -> 0 | I15: =I25+I34+I43+I52+I61+I70+I79+I88+I97+I106+I117+I130+I139+I148+I157+I166+I175+I186+I195+I204+I259 -> 6229 | J15: =J25+J34+J43+J52+J61+J70+J79+J88+J97+J106+J117+J130+J139+J148+J157+J166+J175+J186+J195+J204+J259 -> 92 | K15: =K25+K34+K43+K52+K61+K70+K79+K88+K97+K106+K117+K130+K139+K148+K157+K166+K175+K186+K195+K204+K259 -> 0 | L15: =L25+L34+L43+L52+L61+L70+L79+L88+L97+L106+L117+L130+L139+L148+L157+L166+L175+L186+L195+L204+L259 -> 0 | ... T15: =T25+T34+T43+T52+T61+T70+T79+T88+T97+T106+T117+T130+T139+T148+T157+T166+T175+T186+T195+T204+T259 -> 0
B16: tỉnh Bắc Kạn | C16: =C17+C18 -> 0 | D16: =D17+D18 -> 0 | E16: =E17+E18 -> 264296.84 | F16: =F17+F18 -> 39666 | G16: =G17+G18 -> 0 | H16: =H17+H18 -> 12000 | I16: =I17+I18 -> 1571 | J16: =J17+J18 -> 161406 | ... T16: =T17+T18 -> 0
B17: Chương trình mục tiêu xây dựng nông thôn mới | C17: =C27+C36+C45+C54+C63+C72+C81+C90+C99+C108+C132+C141+C150+C159+C168+C177+C188+C197+C206 -> 0 | D17: =D27+D36+D45+D54+D63+D72+D81+D90+D99+D108+D132+D141+D150+D159+D168+D177+D188+D197+D206 -> 0 | E17: =E27+E36+E45+E54+E63+E72+E81+E90+E99+E108+E132+E141+E150+E159+E168+E177+E188+E197+E206+E216+E225+E234 -> 7155.84 | F17: =F27+F36+F45+F54+F63+F72+F81+F90+F99+F108+F132+F141+F150+F159+F168+F177+F188+F197+F206+F216+F225+F234 -> 80 | G17: =G27+G36+G45+G54+G63+G72+G81+G90+G99+G108+G132+G141+G150+G159+G168+G177+G188+G197+G206+G216+G225+G234 -> 0 | H17: =H27+H36+H45+H54+H63+H72+H81+H90+H99+H108+H132+H141+H150+H159+H168+H177+H188+H197+H206+H216+H225+H234 -> 0 | I17: =I27+I36+I45+I54+I63+I72+I81+I90+I99+I108+I132+I141+I150+I159+I168+I177+I188+I197+I206+I216+I225+I234 -> 0 | J17: =J27+J36+J45+J54+J63+J72+J81+J90+J99+J108+J132+J141+J150+J159+J168+J177+J188+J197+J206+J216+J225+J234 -> 103 | K17: =K27+K36+K45+K54+K63+K72+K81+K90+K99+K108+K132+K141+K150+K159+K168+K177+K188+K197+K206+K216+K225+K234 -> 44 | L17: =L27+L36+L45+L54+L63+L72+L81+L90+L99+L108+L132+L141+L150+L159+L168+L177+L188+L197+L206+L216+L225+L234 -> 0 | ... T17: =T27+T36+T45+T54+T63+T72+T81+T90+T99+T108+T132+T141+T150+T159+T168+T177+T188+T197+T206+T216+T225+T234 -> 0
B18: Bổ sung có mục tiêu từ NSTW | C18: =C28+C37+C46+C55+C64+C73+C82+C91+C100+C109+C133+C142+C151+C160+C169+C178+C189+C198+C207+C120 -> 0 | D18: =D28+D37+D46+D55+D64+D73+D82+D91+D100+D109+D133+D142+D151+D160+D169+D178+D189+D198+D207+D120 -> 0 | E18: =E28+E37+E46+E55+E64+E73+E82+E91+E100+E109+E133+E142+E151+E160+E169+E178+E189+E198+E207+E120+E226+E244+E253+E217+E235 -> 257141 | F18: =F28+F37+F46+F55+F64+F73+F82+F91+F100+F109+F133+F142+F151+F160+F169+F178+F189+F198+F207+F120+F226+F244+F253 -> 39586 | G18: =G28+G37+G46+G55+G64+G73+G82+G91+G100+G109+G133+G142+G151+G160+G169+G178+G189+G198+G207+G120+G226+G244+G253 -> 0 | H18: =H28+H37+H46+H55+H64+H73+H82+H91+H100+H109+H133+H142+H151+H160+H169+H178+H189+H198+H207+H120+H226+H244+H253 -> 12000 | I18: =I28+I37+I46+I55+I64+I73+I82+I91+I100+I109+I133+I142+I151+I160+I169+I178+I189+I198+I207+I120+I226+I244+I253 -> 1571 | J18: =J28+J37+J46+J55+J64+J73+J82+J91+J100+J109+J133+J142+J151+J160+J169+J178+J189+J198+J207+J120+J226+J244+J253 -> 161303 | K18: =K28+K37+K46+K55+K64+K73+K82+K91+K100+K109+K133+K142+K151+K160+K169+K178+K189+K198+K207+K120+K226+K244+K253 -> 0 | L18: =L28+L37+L46+L55+L64+L73+L82+L91+L100+L109+L133+L142+L151+L160+L169+L178+L189+L198+L207+L120+L226+L244+L253 -> 0 | M18: =M28+M37+M46+M55+M64+M73+M82+M91+M100+M109+M133+M142+M151+M160+M169+M178+M189+M198+M207+M120+M226+M244+M253 -> 0 | ... T18: =T28+T37+T46+T55+T64+T73+T82+T91+T100+T109+T133+T142+T151+T160+T169+T178+T189+T198+T207+T120+T226+T244+T253 -> 0
A19: I | B19: KHỐI QUẢN LÝ NHÀ NƯỚC | E19: =E20+E29+E38+E47+E56+E65+E74+E83+E92+E101+E112 -> 171665.77 | F19: =F20+F29+F38+F47+F56+F65+F74+F83+F92+F101+F112 -> 39666 | G19: =G20+G29+G38+G47+G56+G65+G74+G83+G92+G101+G112 -> 0 | H19: =H20+H29+H38+H47+H56+H65+H74+H83+H92+H101+H112 -> 0 | I19: =I20+I29+I38+I47+I56+I65+I74+I83+I92+I101+I112 -> 7160 | J19: =J20+J29+J38+J47+J56+J65+J74+J83+J92+J101+J112 -> 103 | K19: =K20+K29+K38+K47+K56+K65+K74+K83+K92+K101+K112 -> 994 | L19: =L20+L29+L38+L47+L56+L65+L74+L83+L92+L101+L112 -> 0 | ... U19: =U20+U29+U38+U47+U56+U65+U74+U83+U92+U101+U112 -> 0
A20: 1 | B20: Sở Nông nghiệp và Môi trường | C20: =C21+C22 -> 0 | D20: =D21+D22 -> 0 | E20: =F20+G20+H20+I20+J20+K20+L20+M20+N20+O20+R20+S20+T20 -> 19575.77 | F20: =F21+F22 -> 0 | G20: =G21+G22 -> 0 | H20: =H21+H22 -> 0 | I20: =I21+I22 -> 0 | J20: =J21+J22 -> 0 | K20: =K21+K22 -> 0 | L20: =L21+L22 -> 0 | M20: =M21+M22 -> 0 | ... T20: =T21+T22 -> 0
B21: Chương trình mục tiêu xây dựng nông thôn mới | C21: =C24+C27 -> 0 | D21: =D24+D27 -> 0 | E21: =F21+G21+H21+I21+J21+K21+L21+M21+N21+O21+R21+S21+T21 -> 19575.77 | F21: =F24+F27 -> 0 | G21: =G24+G27 -> 0 | H21: =H24+H27 -> 0 | I21: =I24+I27 -> 0 | J21: =J24+J27 -> 0 | K21: =K24+K27 -> 0 | L21: =L24+L27 -> 0 | M21: =M24+M27 -> 0 | ... T21: =T24+T27 -> 0
B22: Bổ sung có mục tiêu từ NSTW | C22: =C25+C28 -> 0 | D22: =D25+D28 -> 0 | E22: =F22+G22+H22+I22+J22+K22+L22+M22+N22+O22+R22+S22+T22 -> 0 | F22: =F25+F28 -> 0 | G22: =G25+G28 -> 0 | H22: =H25+H28 -> 0 | I22: =I25+I28 -> 0 | J22: =J25+J28 -> 0 | K22: =K25+K28 -> 0 | L22: =L25+L28 -> 0 | M22: =M25+M28 -> 0 | ... T22: =T25+T28 -> 0
B23: tỉnh Thái Nguyên | C23: =C24+C25 -> 0 | D23: =D24+D25 -> 0 | E23: =F23+G23+H23+I23+J23+K23+L23+M23+N23+O23+R23+S23+T23 -> 15303.93 | F23: =F24+F25 -> 0 | G23: =G24+G25 -> 0 | H23: =H24+H25 -> 0 | I23: =I24+I25 -> 0 | J23: =J24+J25 -> 0 | K23: =K24+K25 -> 0 | L23: =L24+L25 -> 0 | M23: =M24+M25 -> 0 | ... T23: =T24+T25 -> 0
B24: Chương trình mục tiêu xây dựng nông thôn mới | E24: =F24+G24+H24+I24+J24+K24+L24+M24+N24+O24+R24+S24+T24 -> 15303.93 | O24: ='[3]38.1TW'!K24 -> 15303.93
B25: Bổ sung có mục tiêu từ NSTW
B26: tỉnh Bắc Kạn | C26: =C27+C28 -> 0 | D26: =D27+D28 -> 0 | E26: =E27+E28 -> 4271.84 | F26: =F27+F28 -> 0 | G26: =G27+G28 -> 0 | H26: =H27+H28 -> 0 | I26: =I27+I28 -> 0 | J26: =J27+J28 -> 0 | ... T26: =T27+T28 -> 0
B27: Chương trình mục tiêu xây dựng nông thôn mới | E27: =F27+G27+H27+I27+J27+K27+L27+M27+N27+O27+R27+S27+T27 -> 4271.84 | O27: ='[3]38.1TW'!K25 -> 4271.84
B28: Bổ sung có mục tiêu từ NSTW | E28: =F28+G28+H28+I28+J28+K28+L28+M28+N28+O28+R28+S28+T28 -> 0
A29: 2 | B29: Sở Tư pháp | C29: =C30+C31 -> 0 | D29: =D30+D31 -> 0 | E29: =F29+G29+H29+I29+J29+K29+L29+M29+N29+O29+R29+S29+T29 -> 584 | F29: =F30+F31 -> 0 | G29: =G30+G31 -> 0 | H29: =H30+H31 -> 0 | I29: =I30+I31 -> 42 | J29: =J30+J31 -> 0 | K29: =K30+K31 -> 0 | L29: =L30+L31 -> 0 | M29: =M30+M31 -> 0 | ... T29: =T30+T31 -> 0
B30: Chương trình mục tiêu xây dựng nông thôn mới | C30: =C33+C36 -> 0 | D30: =D33+D36 -> 0 | E30: =F30+G30+H30+I30+J30+K30+L30+M30+N30+O30+R30+S30+T30 -> 542 | F30: =F33+F36 -> 0 | G30: =G33+G36 -> 0 | H30: =H33+H36 -> 0 | I30: =I33+I36 -> 0 | J30: =J33+J36 -> 0 | K30: =K33+K36 -> 0 | L30: =L33+L36 -> 0 | M30: =M33+M36 -> 0 | ... T30: =T33+T36 -> 0
B31: Bổ sung có mục tiêu từ NSTW | C31: =C34+C37 -> 0 | D31: =D34+D37 -> 0 | E31: =F31+G31+H31+I31+J31+K31+L31+M31+N31+O31+R31+S31+T31 -> 42 | F31: =F34+F37 -> 0 | G31: =G34+G37 -> 0 | H31: =H34+H37 -> 0 | I31: =I34+I37 -> 42 | J31: =J34+J37 -> 0 | K31: =K34+K37 -> 0 | L31: =L34+L37 -> 0 | M31: =M34+M37 -> 0 | ... T31: =T34+T37 -> 0
B32: tỉnh Thái Nguyên | C32: =C33+C34 -> 0 | D32: =D33+D34 -> 0 | E32: =F32+G32+H32+I32+J32+K32+L32+M32+N32+O32+R32+S32+T32 -> 342 | F32: =F33+F34 -> 0 | G32: =G33+G34 -> 0 | H32: =H33+H34 -> 0 | I32: =I33+I34 -> 42 | J32: =J33+J34 -> 0 | K32: =K33+K34 -> 0 | L32: =L33+L34 -> 0 | M32: =M33+M34 -> 0 | ... T32: =T33+T34 -> 0
B33: Chương trình mục tiêu xây dựng nông thôn mới | E33: =F33+G33+H33+I33+J33+K33+L33+M33+N33+O33+R33+S33+T33 -> 300 | O33: ='[3]38.1TW'!J21 -> 300
B34: Bổ sung có mục tiêu từ NSTW | E34: =F34+G34+H34+I34+J34+K34+L34+M34+N34+O34+R34+S34+T34 -> 42 | I34: 42
B35: tỉnh Bắc Kạn | C35: =C36+C37 -> 0 | D35: =D36+D37 -> 0 | E35: =E36+E37 -> 242 | F35: =F36+F37 -> 0 | G35: =G36+G37 -> 0 | H35: =H36+H37 -> 0 | I35: =I36+I37 -> 0 | J35: =J36+J37 -> 0 | ... T35: =T36+T37 -> 0
B36: Chương trình mục tiêu xây dựng nông thôn mới | E36: =F36+G36+H36+I36+J36+K36+L36+M36+N36+O36+R36+S36+T36 -> 242 | O36: 242
B37: Bổ sung có mục tiêu từ NSTW | E37: =F37+G37+H37+I37+J37+K37+L37+M37+N37+O37+R37+S37+T37 -> 0
A38: 3 | B38: Sở Công Thương | C38: =C39+C40 -> 0 | D38: =D39+D40 -> 0 | E38: =F38+G38+H38+I38+J38+K38+L38+M38+N38+O38+R38+S38+T38 -> 14 | F38: =F39+F40 -> 0 | G38: =G39+G40 -> 0 | H38: =H39+H40 -> 0 | I38: =I39+I40 -> 0 | J38: =J39+J40 -> 0 | K38: =K39+K40 -> 0 | L38: =L39+L40 -> 0 | M38: =M39+M40 -> 0 | ... T38: =T39+T40 -> 0
B39: Chương trình mục tiêu xây dựng nông thôn mới | C39: =C42+C45 -> 0 | D39: =D42+D45 -> 0 | E39: =F39+G39+H39+I39+J39+K39+L39+M39+N39+O39+R39+S39+T39 -> 14 | F39: =F42+F45 -> 0 | G39: =G42+G45 -> 0 | H39: =H42+H45 -> 0 | I39: =I42+I45 -> 0 | J39: =J42+J45 -> 0 | K39: =K42+K45 -> 0 | L39: =L42+L45 -> 0 | M39: =M42+M45 -> 0 | ... T39: =T42+T45 -> 0
B40: Bổ sung có mục tiêu từ NSTW | C40: =C43+C46 -> 0 | D40: =D43+D46 -> 0 | E40: =F40+G40+H40+I40+J40+K40+L40+M40+N40+O40+R40+S40+T40 -> 0 | F40: =F43+F46 -> 0 | G40: =G43+G46 -> 0 | H40: =H43+H46 -> 0 | I40: =I43+I46 -> 0 | J40: =J43+J46 -> 0 | K40: =K43+K46 -> 0 | L40: =L43+L46 -> 0 | M40: =M43+M46 -> 0 | ... T40: =T43+T46 -> 0
B41: tỉnh Thái Nguyên | C41: =C42+C43 -> 0 | D41: =D42+D43 -> 0 | E41: =F41+G41+H41+I41+J41+K41+L41+M41+N41+O41+R41+S41+T41 -> 0 | F41: =F42+F43 -> 0 | G41: =G42+G43 -> 0 | H41: =H42+H43 -> 0 | I41: =I42+I43 -> 0 | J41: =J42+J43 -> 0 | K41: =K42+K43 -> 0 | L41: =L42+L43 -> 0 | M41: =M42+M43 -> 0 | ... T41: =T42+T43 -> 0
B42: Chương trình mục tiêu xây dựng nông thôn mới | E42: =F42+G42+H42+I42+J42+K42+L42+M42+N42+O42+R42+S42+T42 -> 0
B43: Bổ sung có mục tiêu từ NSTW | E43: =F43+G43+H43+I43+J43+K43+L43+M43+N43+O43+R43+S43+T43 -> 0
B44: tỉnh Bắc Kạn | C44: =C45+C46 -> 0 | D44: =D45+D46 -> 0 | E44: =E45+E46 -> 14 | F44: =F45+F46 -> 0 | G44: =G45+G46 -> 0 | H44: =H45+H46 -> 0 | I44: =I45+I46 -> 0 | J44: =J45+J46 -> 0 | ... T44: =T45+T46 -> 0
B45: Chương trình mục tiêu xây dựng nông thôn mới | E45: =F45+G45+H45+I45+J45+K45+L45+M45+N45+O45+R45+S45+T45 -> 14 | O45: 14
B46: Bổ sung có mục tiêu từ NSTW | E46: =F46+G46+H46+I46+J46+K46+L46+M46+N46+O46+R46+S46+T46 -> 0
A47: 4 | B47: Sở Khoa học và Công nghệ | C47: =C48+C49 -> 0 | D47: =D48+D49 -> 0 | E47: =F47+G47+H47+I47+J47+K47+L47+M47+N47+O47+R47+S47+T47 -> 979 | F47: =F48+F49 -> 0 | G47: =G48+G49 -> 0 | H47: =H48+H49 -> 0 | I47: =I48+I49 -> 0 | J47: =J48+J49 -> 0 | K47: =K48+K49 -> 979 | L47: =L48+L49 -> 0 | M47: =M48+M49 -> 0 | ... T47: =T48+T49 -> 0
B48: Chương trình mục tiêu xây dựng nông thôn mới | C48: =C51+C54 -> 0 | D48: =D51+D54 -> 0 | E48: =F48+G48+H48+I48+J48+K48+L48+M48+N48+O48+R48+S48+T48 -> 979 | F48: =F51+F54 -> 0 | G48: =G51+G54 -> 0 | H48: =H51+H54 -> 0 | I48: =I51+I54 -> 0 | J48: =J51+J54 -> 0 | K48: =K51+K54 -> 979 | L48: =L51+L54 -> 0 | M48: =M51+M54 -> 0 | ... T48: =T51+T54 -> 0
B49: Bổ sung có mục tiêu từ NSTW | C49: =C52+C55 -> 0 | D49: =D52+D55 -> 0 | E49: =F49+G49+H49+I49+J49+K49+L49+M49+N49+O49+R49+S49+T49 -> 0 | F49: =F52+F55 -> 0 | G49: =G52+G55 -> 0 | H49: =H52+H55 -> 0 | I49: =I52+I55 -> 0 | J49: =J52+J55 -> 0 | K49: =K52+K55 -> 0 | L49: =L52+L55 -> 0 | M49: =M52+M55 -> 0 | ... T49: =T52+T55 -> 0
B50: tỉnh Thái Nguyên | C50: =C51+C52 -> 0 | D50: =D51+D52 -> 0 | E50: =F50+G50+H50+I50+J50+K50+L50+M50+N50+O50+R50+S50+T50 -> 950 | F50: =F51+F52 -> 0 | G50: =G51+G52 -> 0 | H50: =H51+H52 -> 0 | I50: =I51+I52 -> 0 | J50: =J51+J52 -> 0 | K50: =K51+K52 -> 950 | L50: =L51+L52 -> 0 | M50: =M51+M52 -> 0 | ... T50: =T51+T52 -> 0
B51: Chương trình mục tiêu xây dựng nông thôn mới | E51: =F51+G51+H51+I51+J51+K51+L51+M51+N51+O51+R51+S51+T51 -> 950 | K51: ='[3]38.1TW'!K15 -> 950
B52: Bổ sung có mục tiêu từ NSTW | E52: =F52+G52+H52+I52+J52+K52+L52+M52+N52+O52+R52+S52+T52 -> 0
B53: tỉnh Bắc Kạn | C53: =C54+C55 -> 0 | D53: =D54+D55 -> 0 | E53: =E54+E55 -> 29 | F53: =F54+F55 -> 0 | G53: =G54+G55 -> 0 | H53: =H54+H55 -> 0 | I53: =I54+I55 -> 0 | J53: =J54+J55 -> 0 | ... T53: =T54+T55 -> 0
B54: Chương trình mục tiêu xây dựng nông thôn mới | E54: =F54+G54+H54+I54+J54+K54+L54+M54+N54+O54+R54+S54+T54 -> 29 | K54: 29
B55: Bổ sung có mục tiêu từ NSTW | E55: =F55+G55+H55+I55+J55+K55+L55+M55+N55+O55+R55+S55+T55 -> 0
A56: 5 | B56: Sở Tài chính | C56: =C57+C58 -> 0 | D56: =D57+D58 -> 0 | E56: =F56+G56+H56+I56+J56+K56+L56+M56+N56+O56+R56+S56+T56 -> 1005 | F56: =F57+F58 -> 0 | G56: =G57+G58 -> 0 | H56: =H57+H58 -> 0 | I56: =I57+I58 -> 0 | J56: =J57+J58 -> 0 | K56: =K57+K58 -> 0 | L56: =L57+L58 -> 0 | M56: =M57+M58 -> 0 | ... T56: =T57+T58 -> 0
B57: Chương trình mục tiêu xây dựng nông thôn mới | C57: =C60+C63 -> 0 | D57: =D60+D63 -> 0 | E57: =F57+G57+H57+I57+J57+K57+L57+M57+N57+O57+R57+S57+T57 -> 15 | F57: =F60+F63 -> 0 | G57: =G60+G63 -> 0 | H57: =H60+H63 -> 0 | I57: =I60+I63 -> 0 | J57: =J60+J63 -> 0 | K57: =K60+K63 -> 0 | L57: =L60+L63 -> 0 | M57: =M60+M63 -> 0 | ... T57: =T60+T63 -> 0
B58: Bổ sung có mục tiêu từ NSTW | C58: =C61+C64 -> 0 | D58: =D61+D64 -> 0 | E58: =F58+G58+H58+I58+J58+K58+L58+M58+N58+O58+R58+S58+T58 -> 990 | F58: =F61+F64 -> 0 | G58: =G61+G64 -> 0 | H58: =H61+H64 -> 0 | I58: =I61+I64 -> 0 | J58: =J61+J64 -> 0 | K58: =K61+K64 -> 0 | L58: =L61+L64 -> 0 | M58: =M61+M64 -> 0 | ... T58: =T61+T64 -> 0
B59: tỉnh Thái Nguyên | C59: =C60+C61 -> 0 | D59: =D60+D61 -> 0 | E59: =F59+G59+H59+I59+J59+K59+L59+M59+N59+O59+R59+S59+T59 -> 0 | F59: =F60+F61 -> 0 | G59: =G60+G61 -> 0 | H59: =H60+H61 -> 0 | I59: =I60+I61 -> 0 | J59: =J60+J61 -> 0 | K59: =K60+K61 -> 0 | L59: =L60+L61 -> 0 | M59: =M60+M61 -> 0 | ... T59: =T60+T61 -> 0
B60: Chương trình mục tiêu xây dựng nông thôn mới | E60: =F60+G60+H60+I60+J60+K60+L60+M60+N60+O60+R60+S60+T60 -> 0
B61: Bổ sung có mục tiêu từ NSTW | E61: =F61+G61+H61+I61+J61+K61+L61+M61+N61+O61+R61+S61+T61 -> 0
B62: tỉnh Bắc Kạn | E62: =F62+G62+H62+I62+J62+K62+L62+M62+N62+O62+R62+S62+T62 -> 0
B63: Chương trình mục tiêu xây dựng nông thôn mới | E63: =F63+G63+H63+I63+J63+K63+L63+M63+N63+O63+R63+S63+T63 -> 15 | O63: 15
B64: Bổ sung có mục tiêu từ NSTW | E64: =F64+G64+H64+I64+J64+K64+L64+M64+N64+O64+R64+S64+T64 -> 990 | O64: 990
A65: 6 | B65: Sở Xây dựng | C65: =C66+C67 -> 0 | D65: =D66+D67 -> 0 | E65: =F65+G65+H65+I65+J65+K65+L65+M65+N65+O65+R65+S65+T65 -> 108637 | F65: =F66+F67 -> 0 | G65: =G66+G67 -> 0 | H65: =H66+H67 -> 0 | I65: =I66+I67 -> 6717 | J65: =J66+J67 -> 0 | K65: =K66+K67 -> 0 | L65: =L66+L67 -> 0 | M65: =M66+M67 -> 0 | ... T65: =T66+T67 -> 0
B66: Chương trình mục tiêu xây dựng nông thôn mới | C66: =C69+C72 -> 0 | D66: =D69+D72 -> 0 | E66: =F66+G66+H66+I66+J66+K66+L66+M66+N66+O66+R66+S66+T66 -> 30 | F66: =F69+F72 -> 0 | G66: =G69+G72 -> 0 | H66: =H69+H72 -> 0 | I66: =I69+I72 -> 0 | J66: =J69+J72 -> 0 | K66: =K69+K72 -> 0 | L66: =L69+L72 -> 0 | M66: =M69+M72 -> 0 | ... T66: =T69+T72 -> 0
B67: Bổ sung có mục tiêu từ NSTW | C67: =C70+C73 -> 0 | D67: =D70+D73 -> 0 | E67: =F67+G67+H67+I67+J67+K67+L67+M67+N67+O67+R67+S67+T67 -> 108607 | F67: =F70+F73 -> 0 | G67: =G70+G73 -> 0 | H67: =H70+H73 -> 0 | I67: =I70+I73 -> 6717 | J67: =J70+J73 -> 0 | K67: =K70+K73 -> 0 | L67: =L70+L73 -> 0 | M67: =M70+M73 -> 0 | ... T67: =T70+T73 -> 0
B68: tỉnh Thái Nguyên | C68: =C69+C70 -> 0 | D68: =D69+D70 -> 0 | E68: =F68+G68+H68+I68+J68+K68+L68+M68+N68+O68+R68+S68+T68 -> 68204 | F68: =F69+F70 -> 0 | G68: =G69+G70 -> 0 | H68: =H69+H70 -> 0 | I68: =I69+I70 -> 5547 | J68: =J69+J70 -> 0 | K68: =K69+K70 -> 0 | L68: =L69+L70 -> 0 | M68: =M69+M70 -> 0 | ... T68: =T69+T70 -> 0
B69: Chương trình mục tiêu xây dựng nông thôn mới | E69: =F69+G69+H69+I69+J69+K69+L69+M69+N69+O69+R69+S69+T69 -> 0
B70: Bổ sung có mục tiêu từ NSTW | E70: =F70+G70+H70+I70+J70+K70+L70+M70+N70+O70+R70+S70+T70 -> 68204 | I70: =4266+1281 -> 5547 | O70: =62657 -> 62657
B71: tỉnh Bắc Kạn | C71: =C72+C73 -> 0 | D71: =D72+D73 -> 0 | E71: =E72+E73 -> 40433 | F71: =F72+F73 -> 0 | G71: =G72+G73 -> 0 | H71: =H72+H73 -> 0 | I71: =I72+I73 -> 1170 | J71: =J72+J73 -> 0 | ... T71: =T72+T73 -> 0
B72: Chương trình mục tiêu xây dựng nông thôn mới | E72: =F72+G72+H72+I72+J72+K72+L72+M72+N72+O72+R72+S72+T72 -> 30 | O72: 30
B73: Bổ sung có mục tiêu từ NSTW | E73: =F73+G73+H73+I73+J73+K73+L73+M73+N73+O73+R73+S73+T73 -> 40403 | I73: 1170 | O73: =39233 -> 39233
A74: 7 | B74: Sở Giáo dục và Đào tạo | C74: =C75+C76 -> 0 | D74: =D75+D76 -> 0 | E74: =F74+G74+H74+I74+J74+K74+L74+M74+N74+O74+R74+S74+T74 -> 39666 | F74: =F75+F76 -> 39666 | G74: =G75+G76 -> 0 | H74: =H75+H76 -> 0 | I74: =I75+I76 -> 0 | J74: =J75+J76 -> 0 | K74: =K75+K76 -> 0 | L74: =L75+L76 -> 0 | M74: =M75+M76 -> 0 | ... T74: =T75+T76 -> 0
B75: Chương trình mục tiêu xây dựng nông thôn mới | C75: =C78+C81 -> 0 | D75: =D78+D81 -> 0 | E75: =F75+G75+H75+I75+J75+K75+L75+M75+N75+O75+R75+S75+T75 -> 80 | F75: =F78+F81 -> 80 | G75: =G78+G81 -> 0 | H75: =H78+H81 -> 0 | I75: =I78+I81 -> 0 | J75: =J78+J81 -> 0 | K75: =K78+K81 -> 0 | L75: =L78+L81 -> 0 | M75: =M78+M81 -> 0 | ... T75: =T78+T81 -> 0
B76: Bổ sung có mục tiêu từ NSTW | C76: =C79+C82 -> 0 | D76: =D79+D82 -> 0 | E76: =F76+G76+H76+I76+J76+K76+L76+M76+N76+O76+R76+S76+T76 -> 39586 | F76: =F79+F82 -> 39586 | G76: =G79+G82 -> 0 | H76: =H79+H82 -> 0 | I76: =I79+I82 -> 0 | J76: =J79+J82 -> 0 | K76: =K79+K82 -> 0 | L76: =L79+L82 -> 0 | M76: =M79+M82 -> 0 | ... T76: =T79+T82 -> 0
B77: tỉnh Thái Nguyên | C77: =C78+C79 -> 0 | D77: =D78+D79 -> 0 | E77: =F77+G77+H77+I77+J77+K77+L77+M77+N77+O77+R77+S77+T77 -> 0 | F77: =F78+F79 -> 0 | G77: =G78+G79 -> 0 | H77: =H78+H79 -> 0 | I77: =I78+I79 -> 0 | J77: =J78+J79 -> 0 | K77: =K78+K79 -> 0 | L77: =L78+L79 -> 0 | M77: =M78+M79 -> 0 | ... T77: =T78+T79 -> 0
B78: Chương trình mục tiêu xây dựng nông thôn mới | E78: =F78+G78+H78+I78+J78+K78+L78+M78+N78+O78+R78+S78+T78 -> 0
B79: Bổ sung có mục tiêu từ NSTW | E79: =F79+G79+H79+I79+J79+K79+L79+M79+N79+O79+R79+S79+T79 -> 0
B80: tỉnh Bắc Kạn | C80: =C81+C82 -> 0 | D80: =D81+D82 -> 0 | E80: =E81+E82 -> 39666 | F80: =F81+F82 -> 39666 | G80: =G81+G82 -> 0 | H80: =H81+H82 -> 0 | I80: =I81+I82 -> 0 | J80: =J81+J82 -> 0 | ... T80: =T81+T82 -> 0
B81: Chương trình mục tiêu xây dựng nông thôn mới | E81: =F81+G81+H81+I81+J81+K81+L81+M81+N81+O81+R81+S81+T81 -> 80 | F81: 80
B82: Bổ sung có mục tiêu từ NSTW | E82: =F82+G82+H82+I82+J82+K82+L82+M82+N82+O82+R82+S82+T82 -> 39586 | F82: 39586
A83: 8 | B83: Sở Y tế | C83: =C84+C85 -> 0 | D83: =D84+D85 -> 0 | E83: =F83+G83+H83+I83+J83+K83+L83+M83+N83+O83+R83+S83+T83 -> 103 | F83: =F84+F85 -> 0 | G83: =G84+G85 -> 0 | H83: =H84+H85 -> 0 | I83: =I84+I85 -> 0 | J83: =J84+J85 -> 103 | K83: =K84+K85 -> 0 | L83: =L84+L85 -> 0 | M83: =M84+M85 -> 0 | ... T83: =T84+T85 -> 0
B84: Chương trình mục tiêu xây dựng nông thôn mới | C84: =C87+C90 -> 0 | D84: =D87+D90 -> 0 | E84: =F84+G84+H84+I84+J84+K84+L84+M84+N84+O84+R84+S84+T84 -> 103 | F84: =F87+F90 -> 0 | G84: =G87+G90 -> 0 | H84: =H87+H90 -> 0 | I84: =I87+I90 -> 0 | J84: =J87+J90 -> 103 | K84: =K87+K90 -> 0 | L84: =L87+L90 -> 0 | M84: =M87+M90 -> 0 | ... T84: =T87+T90 -> 0
B85: Bổ sung có mục tiêu từ NSTW | C85: =C88+C91 -> 0 | D85: =D88+D91 -> 0 | E85: =F85+G85+H85+I85+J85+K85+L85+M85+N85+O85+R85+S85+T85 -> 0 | F85: =F88+F91 -> 0 | G85: =G88+G91 -> 0 | H85: =H88+H91 -> 0 | I85: =I88+I91 -> 0 | J85: =J88+J91 -> 0 | K85: =K88+K91 -> 0 | L85: =L88+L91 -> 0 | M85: =M88+M91 -> 0 | ... T85: =T88+T91 -> 0
B86: tỉnh Thái Nguyên | C86: =C87+C88 -> 0 | D86: =D87+D88 -> 0 | E86: =F86+G86+H86+I86+J86+K86+L86+M86+N86+O86+R86+S86+T86 -> 0 | F86: =F87+F88 -> 0 | G86: =G87+G88 -> 0 | H86: =H87+H88 -> 0 | I86: =I87+I88 -> 0 | J86: =J87+J88 -> 0 | K86: =K87+K88 -> 0 | L86: =L87+L88 -> 0 | M86: =M87+M88 -> 0 | ... T86: =T87+T88 -> 0
B87: Chương trình mục tiêu xây dựng nông thôn mới | E87: =F87+G87+H87+I87+J87+K87+L87+M87+N87+O87+R87+S87+T87 -> 0
B88: Bổ sung có mục tiêu từ NSTW | E88: =F88+G88+H88+I88+J88+K88+L88+M88+N88+O88+R88+S88+T88 -> 0
B89: tỉnh Bắc Kạn | C89: =C90+C91 -> 0 | D89: =D90+D91 -> 0 | E89: =E90+E91 -> 103 | F89: =F90+F91 -> 0 | G89: =G90+G91 -> 0 | H89: =H90+H91 -> 0 | I89: =I90+I91 -> 0 | J89: =J90+J91 -> 103 | ... T89: =T90+T91 -> 0
B90: Chương trình mục tiêu xây dựng nông thôn mới | E90: =F90+G90+H90+I90+J90+K90+L90+M90+N90+O90+R90+S90+T90 -> 103 | J90: 103
B91: Bổ sung có mục tiêu từ NSTW | E91: =F91+G91+H91+I91+J91+K91+L91+M91+N91+O91+R91+S91+T91 -> 0
A92: 9 | B92: Sở Văn hoá, Thể thao và Du lịch | C92: =C93+C94 -> 0 | D92: =D93+D94 -> 0 | E92: =F92+G92+H92+I92+J92+K92+L92+M92+N92+O92+R92+S92+T92 -> 15 | F92: =F93+F94 -> 0 | G92: =G93+G94 -> 0 | H92: =H93+H94 -> 0 | I92: =I93+I94 -> 0 | J92: =J93+J94 -> 0 | K92: =K93+K94 -> 15 | L92: =L93+L94 -> 0 | M92: =M93+M94 -> 0 | ... T92: =T93+T94 -> 0
B93: Chương trình mục tiêu xây dựng nông thôn mới | C93: =C96+C99 -> 0 | D93: =D96+D99 -> 0 | E93: =F93+G93+H93+I93+J93+K93+L93+M93+N93+O93+R93+S93+T93 -> 15 | F93: =F96+F99 -> 0 | G93: =G96+G99 -> 0 | H93: =H96+H99 -> 0 | I93: =I96+I99 -> 0 | J93: =J96+J99 -> 0 | K93: =K96+K99 -> 15 | L93: =L96+L99 -> 0 | M93: =M96+M99 -> 0 | ... T93: =T96+T99 -> 0
B94: Bổ sung có mục tiêu từ NSTW | C94: =C97+C100 -> 0 | D94: =D97+D100 -> 0 | E94: =F94+G94+H94+I94+J94+K94+L94+M94+N94+O94+R94+S94+T94 -> 0 | F94: =F97+F100 -> 0 | G94: =G97+G100 -> 0 | H94: =H97+H100 -> 0 | I94: =I97+I100 -> 0 | J94: =J97+J100 -> 0 | K94: =K97+K100 -> 0 | L94: =L97+L100 -> 0 | M94: =M97+M100 -> 0 | ... T94: =T97+T100 -> 0
B95: tỉnh Thái Nguyên | C95: =C96+C97 -> 0 | D95: =D96+D97 -> 0 | E95: =F95+G95+H95+I95+J95+K95+L95+M95+N95+O95+R95+S95+T95 -> 0 | F95: =F96+F97 -> 0 | G95: =G96+G97 -> 0 | H95: =H96+H97 -> 0 | I95: =I96+I97 -> 0 | J95: =J96+J97 -> 0 | K95: =K96+K97 -> 0 | L95: =L96+L97 -> 0 | M95: =M96+M97 -> 0 | ... T95: =T96+T97 -> 0
B96: Chương trình mục tiêu xây dựng nông thôn mới | E96: =F96+G96+H96+I96+J96+K96+L96+M96+N96+O96+R96+S96+T96 -> 0
B97: Bổ sung có mục tiêu từ NSTW | E97: =F97+G97+H97+I97+J97+K97+L97+M97+N97+O97+R97+S97+T97 -> 0
B98: tỉnh Bắc Kạn | C98: =C99+C100 -> 0 | D98: =D99+D100 -> 0 | E98: =E99+E100 -> 15 | F98: =F99+F100 -> 0 | G98: =G99+G100 -> 0 | H98: =H99+H100 -> 0 | I98: =I99+I100 -> 0 | J98: =J99+J100 -> 0 | ... T98: =T99+T100 -> 0
B99: Chương trình mục tiêu xây dựng nông thôn mới | E99: =F99+G99+H99+I99+J99+K99+L99+M99+N99+O99+R99+S99+T99 -> 15 | K99: 15
B100: Bổ sung có mục tiêu từ NSTW | E100: =F100+G100+H100+I100+J100+K100+L100+M100+N100+O100+R100+S100+T100 -> 0
A101: 10 | B101: Sở Nội vụ | C101: =C102+C103 -> 0 | D101: =D102+D103 -> 0 | E101: =F101+G101+H101+I101+J101+K101+L101+M101+N101+O101+R101+S101+T101 -> 686 | F101: =F102+F103 -> 0 | G101: =G102+G103 -> 0 | H101: =H102+H103 -> 0 | I101: =I102+I103 -> 0 | J101: =J102+J103 -> 0 | K101: =K102+K103 -> 0 | L101: =L102+L103 -> 0 | M101: =M102+M103 -> 0 | ... T101: =T102+T103 -> 0
...

Sheet chi tiết đơn vị (IN)
O1: Phụ biểu số: 04
A2: DỰ TOÁN CHI THƯỜNG XUYÊN CHO TỪNG ĐƠN VỊ THEO LĨNH VỰC NĂM 2025 SAU ĐIỀU CHỈNH
A3: =#REF! -> #REF!
D6: =87333000000-D11 -> #REF! | J6: =50000000-J60 -> 0 | O6: Đơn vị: đồng
A7: STT | B7: Đơn vị/Nội dung | C7: Số được chi từ nguồn ngân sách nhà nước | D7: Tổng dự toán lần 2 | E7: Chi giáo dục - đào tạo và dạy nghề | F7: Chi quốc phòng | G7: Chi an ninh và trật tự an toàn xã hội | H7: Chi văn hóa thông tin, thể thao | I7: Chi sự nghiệp khác | J7: Chi đầu tư từ nguồn thu tiền sử dụng đất | K7: Chi dự phòng | L7: Chi các hoạt động kinh tế | M7: Trong đó | O7: Chi hoạt động của cơ quan quản lý nhà nước, đảng, đoàn thể | P7: Chi bảo đảm xã hội | Q7: Chi chương trình mục tiêu | AB7: Số được chi từ nguồn ngân sách nhà nước
M8: Chi giao thông | N8: Chi nông nghiệp, lâm nghiệp, thủy lợi, thủy sản | R8: =9*12 -> 108
A9: A | B9: B | C9: 1 | E9: 2 | F9: 4 | G9: 5 | H9: 7 | I9: 10 | J9: 11 | K9: 12 | L9: 13 | M9: 14 | N9: 15 | O9: 14 | P9: 15 | AB9: 1
C10: =C14+C76+C122+C141+C142 -> #REF! | E10: =E14+E76+E122+E141+E142 -> 40580008000 | F10: =F14+F76+F122+F141+F142 -> 2298090000 | G10: =G14+G76+G122+G141+G142 -> 1374540000 | H10: =H14+H76+H122+H141+H142 -> 327700000 | I10: =I14+I76+I122+I141+I142 -> 776000000 | J10: =J14+J76+J122+J141+J142 -> 1637000000 | K10: =K14+K76+K122+K141+K142 -> 2171000000 | L10: =L14+L76+L122+L141+L142 -> 4932650000 | ... P10: =P14+P76+P122+P141+P142 -> 3059400736
B11: TỔNG SỐ | C11: =C14+C76+C122+C141+C142 -> #REF! | D11: =D14+D76+D122+D141+D142 -> #REF! | E11: =E14+E76+E122+E141+E142 -> 40580008000 | F11: =F14+F76+F122+F141+F142 -> 2298090000 | G11: =G14+G76+G122+G141+G142 -> 1374540000 | H11: =H14+H76+H122+H141+H142 -> 327700000 | I11: =I14+I76+I122+I141+I142 -> 776000000 | J11: =J14+J76+J122+J141+J142 -> 1637000000 | K11: =K14+K142 -> 2171000000 | L11: =L14+L76+L122+L141 -> 4932650000 | M11: =M14+M76+M122+M141 -> 0 | N11: =N14+N76+N122+N141 -> 0 | O11: =O14+O76+O122+O141+O142 -> #REF! | P11: =P14+P76+P122+P141 -> 3059400736 | Q11: =Q14+Q76+Q122+Q141 -> 4312730000 | R11: =D11-E11-F11-G11-H11-I11-J11-K11-L11-O11-P11-Q11 -> #REF! | S11: 0 | T11: 10802 | U11: 6 | V11: 197771 | W11: 108691 | X11: 132716 | Y11: 13630 | Z11: 708475.93 | AB11: 3888526.2 | AC11: 51311 | AD11: 819842 | AE11: 84011 | AF11: 46995
B12: tỉnh Thái Nguyên | Q12: =#REF!+#REF!+#REF!+#REF!+#REF!+#REF!+#REF!+#REF!+#REF!+#REF!+#REF!+#REF!+#REF!+#REF!+#REF!+Q91+Q94+Q97+#REF!+#REF!+#REF!+#REF!+#REF!+#REF!+#REF!+Q99+Q101+#REF!+#REF!+#REF!+Q103+#REF!+#REF!+#REF!+#REF!+#REF!+#REF!+#REF!+Q105+Q133+Q136+#REF!+#REF!+#REF!+#REF!+#REF!+#REF!+#REF!+#REF!+#REF!+#REF!+#REF! -> #REF! | R12: =D12-E12-F12-G12-H12-I12-J12-K12-L12-O12-P12-Q12 -> #REF! | S12: =#REF!+#REF!+#REF!+#REF!+#REF!+#REF!+#REF!+#REF!+#REF!+#REF!+#REF!+#REF!+#REF!+#REF!+#REF!+S91+S94+S97+#REF!+#REF!+#REF!+#REF!+#REF!+#REF!+#REF!+S99+S101+#REF!+#REF!+#REF!+S103+#REF!+#REF!+#REF!+#REF!+#REF!+#REF!+#REF!+S105+S133+S136+#REF!+#REF!+#REF!+#REF!+#REF!+#REF!+#REF!+#REF!+#REF!+#REF!+#REF! -> #REF! | T12: =#REF!+#REF!+#REF!+#REF!+#REF!+#REF!+#REF!+#REF!+#REF!+#REF!+#REF!+#REF!+#REF!+#REF!+#REF!+T91+T94+T97+#REF!+#REF!+#REF!+#REF!+#REF!+#REF!+#REF!+T99+T101+#REF!+#REF!+#REF!+T103+#REF!+#REF!+#REF!+#REF!+#REF!+#REF!+#REF!+T105+T133+T136+#REF!+#REF!+#REF!+#REF!+#REF!+#REF!+#REF!+#REF!+#REF!+#REF!+#REF! -> #REF! | U12: =#REF!+#REF!+#REF!+#REF!+#REF!+#REF!+#REF!+#REF!+#REF!+#REF!+#REF!+#REF!+#REF!+#REF!+#REF!+U91+U94+U97+#REF!+#REF!+#REF!+#REF!+#REF!+#REF!+#REF!+U99+U101+#REF!+#REF!+#REF!+U103+#REF!+#REF!+#REF!+#REF!+#REF!+#REF!+#REF!+U105+U133+U136+#REF!+#REF!+#REF!+#REF!+#REF!+#REF!+#REF!+#REF!+#REF!+#REF!+#REF! -> #REF! | V12: =#REF!+#REF!+#REF!+#REF!+#REF!+#REF!+#REF!+#REF!+#REF!+#REF!+#REF!+#REF!+#REF!+#REF!+#REF!+V91+V94+V97+#REF!+#REF!+#REF!+#REF!+#REF!+#REF!+#REF!+V99+V101+#REF!+#REF!+#REF!+V103+#REF!+#REF!+#REF!+#REF!+#REF!+#REF!+#REF!+V105+V133+V136+#REF!+#REF!+#REF!+#REF!+#REF!+#REF!+#REF!+#REF!+#REF!+#REF!+#REF! -> #REF! | W12: =#REF!+#REF!+#REF!+#REF!+#REF!+#REF!+#REF!+#REF!+#REF!+#REF!+#REF!+#REF!+#REF!+#REF!+#REF!+W91+W94+W97+#REF!+#REF!+#REF!+#REF!+#REF!+#REF!+#REF!+W99+W101+#REF!+#REF!+#REF!+W103+#REF!+#REF!+#REF!+#REF!+#REF!+#REF!+#REF!+W105+W133+W136+#REF!+#REF!+#REF!+#REF!+#REF!+#REF!+#REF!+#REF!+#REF!+#REF!+#REF! -> #REF! | X12: =#REF!+#REF!+#REF!+#REF!+#REF!+#REF!+#REF!+#REF!+#REF!+#REF!+#REF!+#REF!+#REF!+#REF!+#REF!+X91+X94+X97+#REF!+#REF!+#REF!+#REF!+#REF!+#REF!+#REF!+X99+X101+#REF!+#REF!+#REF!+X103+#REF!+#REF!+#REF!+#REF!+#REF!+#REF!+#REF!+X105+X133+X136+#REF!+#REF!+#REF!+#REF!+#REF!+#REF!+#REF!+#REF!+#REF!+#REF!+#REF! -> #REF! | Y12: =#REF!+#REF!+#REF!+#REF!+#REF!+#REF!+#REF!+#REF!+#REF!+#REF!+#REF!+#REF!+#REF!+#REF!+#REF!+Y91+Y94+Y97+#REF!+#REF!+#REF!+#REF!+#REF!+#REF!+#REF!+Y99+Y101+#REF!+#REF!+#REF!+Y103+#REF!+#REF!+#REF!+#REF!+#REF!+#REF!+#REF!+Y105+Y133+Y136+#REF!+#REF!+#REF!+#REF!+#REF!+#REF!+#REF!+#REF!+#REF!+#REF!+#REF! -> #REF! | Z12: =#REF!+#REF!+#REF!+#REF!+#REF!+#REF!+#REF!+#REF!+#REF!+#REF!+#REF!+#REF!+#REF!+#REF!+#REF!+Z91+Z94+Z97+#REF!+#REF!+#REF!+#REF!+#REF!+#REF!+#REF!+Z99+Z101+#REF!+#REF!+#REF!+Z103+#REF!+#REF!+#REF!+#REF!+#REF!+#REF!+#REF!+Z105+Z133+Z136+#REF!+#REF!+#REF!+#REF!+#REF!+#REF!+#REF!+#REF!+#REF!+#REF!+#REF! -> #REF! | ... AF12: =#REF!+#REF!+#REF!+#REF!+#REF!+#REF!+#REF!+#REF!+#REF!+#REF!+#REF!+#REF!+#REF!+#REF!+#REF!+AF91+AF94+AF97+#REF!+#REF!+#REF!+#REF!+#REF!+#REF!+#REF!+AF99+AF101+#REF!+#REF!+#REF!+AF103+#REF!+#REF!+#REF!+#REF!+#REF!+#REF!+#REF!+AF105+AF133+AF136+#REF!+#REF!+#REF!+#REF!+#REF!+#REF!+#REF!+#REF!+#REF!+#REF!+#REF! -> #REF!
B13: tỉnh Bắc Kạn | Q13: 380455 | R13: =D13-E13-F13-G13-H13-I13-J13-K13-L13-O13-P13-Q13 -> -380455 | S13: 0 | T13: 4573 | U13: 259737 | V13: 38582 | W13: 29396 | X13: 13934 | Y13: 13630 | Z13: 245376 | AB13: 1170247.2 | AC13: 51311 | AD13: 317574 | AE13: 19156 | AF13: 9989
A14: I | B14: KHỐI QUẢN LÝ NHÀ NƯỚC | C14: =C15+C35+C49+C72 -> #REF! | D14: =D15+D35+D49+D72 -> #REF! | E14: =E15+E35+E49+E72 -> 2304000000 | F14: =F15+F35+F49+F72 -> 2298090000 | G14: =G15+G35+G49+G72 -> 1374540000 | H14: =H15+H35+H49+H72 -> 237700000 | I14: =I15+I35+I49+I72 -> 30000000 | J14: =J15+J35+J49+J72 -> 375000000 | K14: =K34 -> 66584450 | L14: =L15+L35+L49+L72 -> 4932650000 | M14: =M15+M35+M49+M72 -> 0 | N14: =N15+N35+N49+N72 -> 0 | O14: =O15+O35+O49+O72 -> #REF! | P14: =P15+P35+P49+P72 -> 3059400736 | Q14: =Q15+Q35+Q49+Q72 -> 1554730000 | R14: =D14-E14-F14-G14-H14-I14-J14-K14-L14-O14-P14-Q14 -> #REF! | S14: 0 | T14: 10162 | U14: 727567 | V14: 197771 | W14: 15735 | X14: 132716 | Y14: 13630 | Z14: 672979.93
A15: 1 | B15: Văn phòng HĐND và UBND | C15: =#REF!+C33 -> #REF! | D15: =D16+D25+D26+D27+D28+D29+D30+D31+D32+D33+D34 -> #REF! | E15: =E16+E25+E26+E27+E28+E29+E30+E31+E32+E33+E34 -> 0 | F15: =F16+F25+F26+F27+F28+F29+F30+F31+F32+F33+F34 -> 2298090000 | G15: =G16+G25+G26+G27+G28+G29+G30+G31+G32+G33+G34 -> 1374540000 | H15: =H16+H25+H26+H27+H28+H29+H30+H31+H32+H33+H34 -> 107753380 | I15: =I16+I25+I26+I27+I28+I29+I30+I31+I32+I33+I34 -> 0 | J15: =J16+J25+J26+J27+J28+J29+J30+J31+J32+J33+J34 -> 264084237 | K15: =K16+K25+K26+K27+K28+K29+K30+K31+K32+K33+K34 -> 66584450 | ... Q15: =Q16+Q25+Q26+Q27+Q28+Q29+Q30+Q31+Q32+Q33+Q34 -> 285640000 | R15: =D15-E15-F15-G15-H15-I15-J15-K15-L15-O15-P15-Q15 -> #REF! | AB15: 54803 | AC15: =C15-AB15 -> #REF!
A16: - | B16: KP tiền lương, phụ cấp, tiền thưởng, hoạt động, PC đại biểu HĐND, PC cán bộ không chuyên trách, hưu xã … | D16: =SUM(D17:D24) -> #REF! | E16: =SUM(E17:E24) -> 0 | F16: =SUM(F17:F24) -> 0 | G16: =SUM(G17:G24) -> 0 | H16: =SUM(H17:H24) -> 0 | I16: =SUM(I17:I24) -> 0 | J16: =SUM(J17:J24) -> 0 | K16: =SUM(K17:K24) -> 0 | ... Q16: =SUM(Q17:Q24) -> 0
A17: + | B17: KP tiền lương, phụ cấp, tiền thưởng, hoạt động | C17: =E17+F17+G17+H17+#REF!+I17+J17+K17+L17+O17+P17 -> #REF! | D17: =SUM(E17:P17) -> 2228909958 | O17: =2062000000+150000000+17825721-915763 -> 2228909958 | R17: =D17-E17-F17-G17-H17-I17-J17-K17-L17-O17-P17-Q17 -> 0
A18: + | B18: Hoạt động biên chế | D18: =SUM(E18:P18) -> 252000000 | O18: =21*12000000 -> 252000000 | R18: =D18-E18-F18-G18-H18-I18-J18-K18-L18-O18-P18-Q18 -> 0
A19: + | B19: Phụ cấp Cán bộ không chuyên trách | D19: =SUM(E19:P19) -> 116000000 | O19: 116000000 | R19: =D19-E19-F19-G19-H19-I19-J19-K19-L19-O19-P19-Q19 -> 0
A20: + | B20: Chế độ, chính sách cho đại biểu HĐND (Phụ cấp ĐBHĐND) | C20: =E20+F20+G20+H20+#REF!+I20+J20+K20+L20+O20+P20 -> #REF! | D20: =SUM(E20:P20) -> 274411800 | O20: 274411800 | R20: =D20-E20-F20-G20-H20-I20-J20-K20-L20-O20-P20-Q20 -> 0
A21: + | B21: Hợp đồng 111 (Lan Anh + Cường) | D21: =SUM(E21:P21) -> 121000000 | O21: =110000000+11000000 -> 121000000 | R21: =D21-E21-F21-G21-H21-I21-J21-K21-L21-O21-P21-Q21 -> 0
A22: + | B22: Phụ cấp TX, phó xóm, bảo hiểm TX | D22: =SUM(E22:P22) -> #REF! | O22: =#REF! -> #REF! | R22: =D22-E22-F22-G22-H22-I22-J22-K22-L22-O22-P22-Q22 -> #REF!
A23: + | B23: Chế độ KCT (Y tế thôn bản thôn bản nghỉ theo NQ 05/2020/NQ-HĐND) | D23: =SUM(E23:P23) -> 8640000 | O23: =8640000 -> 8640000 | R23: =D23-E23-F23-G23-H23-I23-J23-K23-L23-O23-P23-Q23 -> 0 | T23: 4054954888
A24: + | B24: Đảm bảo xã hội (trợ cấp cho CB xã đã nghỉ việc) | C24: =E24+F24+G24+H24+#REF!+I24+J24+K24+L24+O24+P24 -> #REF! | D24: =SUM(E24:P24) -> 85263600 | P24: 85263600 | R24: =D24-E24-F24-G24-H24-I24-J24-K24-L24-O24-P24-Q24 -> 0
A25: - | B25: Hoạt động HĐND và các kỳ họp | C25: =E25+F25+G25+H25+#REF!+I25+J25+K25+L25+O25+P25 -> #REF! | D25: =SUM(E25:P25) -> 150000000 | O25: 150000000 | R25: =D25-E25-F25-G25-H25-I25-J25-K25-L25-O25-P25-Q25 -> 0
A26: - | B26: Tiền báo ĐB HĐND | D26: =SUM(E26:P26) -> 79462500 | O26: 79462500 | R26: =D26-E26-F26-G26-H26-I26-J26-K26-L26-O26-P26-Q26 -> 0
A27: - | B27: Hoạt động UBND, công tác sáp nhập | C27: =E27+F27+G27+H27+#REF!+I27+J27+K27+L27+O27+P27 -> #REF! | D27: =O27 -> 300000000 | O27: 300000000 | R27: =D27-E27-F27-G27-H27-I27-J27-K27-L27-O27-P27-Q27 -> 0
A28: - | B28: Nghị quyết số 06/2023/NQ-HĐND, ngày 10/5/2023 (hỗ trợ cai nghiện ma túy cộng đồng) | C28: =E28+F28+G28+H28+#REF!+I28+J28+K28+L28+O28+P28 -> #REF! | D28: =SUM(E28:P28) -> 21060000 | O28: 21060000 | R28: =D28-E28-F28-G28-H28-I28-J28-K28-L28-O28-P28-Q28 -> 0
A29: - | B29: Kinh phí Đại hội chi bộ Công an, quân sự, UBND xã (công an: 5.382.000đ, quân sự: 936.000đ, cơ quan UBND xã: 9.360.000đ) | C29: =E29+F29+G29+H29+#REF!+I29+J29+K29+L29+O29+P29 -> #REF! | D29: =SUM(E29:P29) -> 15678000 | O29: 15678000 | R29: =D29-E29-F29-G29-H29-I29-J29-K29-L29-O29-P29-Q29 -> 0
A30: - | B30: Chi quốc phòng | C30: =E30+F30+G30+H30+#REF!+I30+J30+K30+L30+O30+P30 -> #REF! | D30: =SUM(E30:P30) -> 1055786900 | F30: =2298090000-F34 -> 1055786900 | R30: =D30-E30-F30-G30-H30-I30-J30-K30-L30-O30-P30-Q30 -> 0
A31: - | B31: Chi an ninh | C31: =E31+G31+#REF!+H31+#REF!+I31+J31+K31+L31+O31+P31 -> #REF! | D31: =SUM(E31:P31) -> 823972044 | G31: =1374540000-G34 -> 823972044 | R31: =D31-E31-F31-G31-H31-I31-J31-K31-L31-O31-P31-Q31 -> 0
A32: - | B32: Chi mua sắm, sửa chữa phục vụ công tác sáp nhập | D32: =O32 -> 500000000 | O32: 500000000 | R32: =D32-E32-F32-G32-H32-I32-J32-K32-L32-O32-P32-Q32 -> 0
A33: - | B33: Tiếp nhận sự nghiệp khác (03 xã cũ) | D33: =SUM(E33:P33) -> 102900000 | L33: 102900000 | R33: =D33-E33-F33-G33-H33-I33-J33-K33-L33-O33-P33-Q33 -> 0 | T33: 4530611325
A34: - | B34: Tiếp nhận số đã chi 03 xã cũ | D34: =SUM(E34:Q34) -> 12867064121 | F34: 1242303100 | G34: =505567956+45000000 -> 550567956 | H34: =59196000+48557380 -> 107753380 | J34: 264084237 | K34: 66584450 | L34: 152000000 | O34: =10018952051+21000000+314875584-264084237 -> 10090743398 | P34: 107387600 | Q34: 285640000 | R34: =D34-E34-F34-G34-H34-I34-J34-K34-L34-O34-P34-Q34 -> 0 | T34: =4351497908-70000000 -> 4281497908
A35: 2 | B35: Phòng Văn hoá - Xã hội | C35: =SUM(E35:P35) -> 4878598620 | D35: =D36+D39+D40+D41+D42+D43+D44+D45+D46+D47+D48 -> 5310688620 | E35: =E36+E39+E40+E41+E42+E43+E44+E45+E46+E47+E48 -> 0 | F35: =F36+F39+F40+F41+F42+F43+F44+F45+F46+F47+F48 -> 0 | G35: =G36+G39+G40+G41+G42+G43+G44+G45+G46+G47+G48 -> 0 | H35: =H36+H39+H40+H41+H42+H43+H44+H45+H46+H47+H48 -> 129946620 | I35: =I36+I39+I40+I41+I42+I43+I44+I45+I46+I47+I48 -> 0 | J35: =J36+J39+J40+J41+J42+J43+J44+J45+J46+J47+J48 -> 0 | K35: =K36+K39+K40+K41+K42+K43+K44+K45+K46+K47+K48 -> 0 | ... Q35: =Q36+Q39+Q40+Q41+Q42+Q43+Q44+Q45+Q46+Q47+Q48 -> 432090000 | R35: =D35-E35-F35-G35-H35-I35-J35-K35-L35-O35-P35-Q35 -> 0 | T35: =SUM(T23:T34) -> 12867064121
A36: - | B36: KP tiền lương, hoạt động, tiền thưởng, cộng tác viên dân số, y tế thôn bản | D36: =D37+D38 -> 1085400000 | E36: =E37+E38 -> 0 | F36: =F37+F38 -> 0 | G36: =G37+G38 -> 0 | H36: =H37+H38 -> 0 | I36: =I37+I38 -> 0 | J36: =J37+J38 -> 0 | K36: =K37+K38 -> 0 | ... Q36: =Q37+Q38 -> 0
A37: + | B37: KP tiền lương, hoạt động, tiền thưởng | C37: =E37+F37+G37+H37+#REF!+I37+J37+K37+L37+O37+P37 -> #REF! | D37: =O37 -> 945000000 | O37: =737000000+(9*12000000)+100000000 -> 945000000 | R37: =D37-E37-F37-G37-H37-I37-J37-K37-L37-O37-P37-Q37 -> 0 | T37: =T35-D34 -> 0
A38: + | B38: Cộng tác viên dân số, y tế thôn bản | C38: =E38+F38+G38+H38+#REF!+I38+J38+K38+L38+O38+P38 -> #REF! | D38: 140400000 | O38: 140400000 | R38: =D38-E38-F38-G38-H38-I38-J38-K38-L38-O38-P38-Q38 -> 0
A39: - | B39: Đảm bảo xã hội | C39: =E39+F39+G39+H39+#REF!+I39+J39+K39+L39+O39+P39 -> #REF! | D39: =P39 -> 2803252000 | P39: =3139400736-P24-P49-600-107387000-80000000 -> 2803252000 | R39: =D39-E39-F39-G39-H39-I39-J39-K39-L39-O39-P39-Q39 -> 0
A40: - | B40: Kinh phí CT MT vùng ĐB DTTS | D40: =Q40 -> 432090000 | Q40: =259590000+172500000 -> 432090000 | R40: =D40-E40-F40-G40-H40-I40-J40-K40-L40-O40-P40-Q40 -> 0
A41: - | B41: Sửa chữa nhà văn hóa xóm | D41: =L41 -> 150000000 | L41: 150000000 | R41: =D41-E41-F41-G41-H41-I41-J41-K41-L41-O41-P41-Q41 -> 0
A42: - | B42: Công tác thi đua khen thưởng | D42: =O42 -> 300000000 | O42: 300000000 | R42: =D42-E42-F42-G42-H42-I42-J42-K42-L42-O42-P42-Q42 -> 0
A43: - | B43: Sự nghiệp văn hoá thông tin, TDTT | C43: =E43+F43+G43+H43+#REF!+I43+J43+K43+L43+O43+P43 -> #REF! | D43: =H43 -> 100946620 | H43: =258700000-H34-50000000 -> 100946620 | R43: =D43-E43-F43-G43-H43-I43-J43-K43-L43-O43-P43-Q43 -> 0
A44: - | B44: Công tác Dân tộc, tôn giáo | D44: 10000000 | O44: 10000000 | R44: =D44-E44-F44-G44-H44-I44-J44-K44-L44-O44-P44-Q44 -> 0
A45: - | B45: Kinh phí thuê, quản lý dịch vụ công nghệ thông tin: Hội nghị truyền hình, TSL ) | D45: =H45 -> 29000000 | H45: 29000000 | R45: =D45-E45-F45-G45-H45-I45-J45-K45-L45-O45-P45-Q45 -> 0
A46: - | B46: Hoạt động công tác y tế, việc làm, giáo dục, Ban vì tiến bộ phụ nữ … | D46: =O46 -> 50000000 | O46: 50000000 | R46: =D46-E46-F46-G46-H46-I46-J46-K46-L46-O46-P46-Q46 -> 0
A47: - | B47: Tổ chức Trung thu | D47: =O47 -> 100000000 | O47: 100000000 | R47: =D47-E47-F47-G47-H47-I47-J47-K47-L47-O47-P47-Q47 -> 0
A48: - | B48: Chuyển đổi số, KHCN, CCHC | D48: =O48 -> 250000000 | O48: =200000000+50000000 -> 250000000 | R48: =D48-E48-F48-G48-H48-I48-J48-K48-L48-O48-P48-Q48 -> 0
A49: 3 | B49: Phòng Kinh tế | C49: =SUM(E49:P49) -> 8477707499 | D49: =D50+D51+D52+D53+D54+D55+D56+D57+D58+D59+D60+D61+D62+D63+D64+D65+D66+D67+D68+D69+D70+D71 -> 9314707499 | E49: =E50+E51+E52+E53+E54+E55+E56+E57+E58+E59+E60+E61+E62+E63+E64+E65+E66+E67+E68+E69+E70+E71 -> 2304000000 | F49: =F50+F51+F52+F53+F54+F55+F56+F57+F58+F59+F60+F61+F62+F63+F64+F65+F66+F67+F68+F69+F70+F71 -> 0 | G49: =G50+G51+G52+G53+G54+G55+G56+G57+G58+G59+G60+G61+G62+G63+G64+G65+G66+G67+G68+G69+G70+G71 -> 0 | H49: =H50+H51+H52+H53+H54+H55+H56+H57+H58+H59+H60+H61+H62+H63+H64+H65+H66+H67+H68+H69+H70+H71 -> 0 | I49: =I50+I51+I52+I53+I54+I55+I56+I57+I58+I59+I60+I61+I62+I63+I64+I65+I66+I67+I68+I69+I70+I71 -> 30000000 | J49: =J50+J51+J52+J53+J54+J55+J56+J57+J58+J59+J60+J61+J62+J63+J64+J65+J66+J67+J68+J69+J70+J71 -> 110915763 | K49: =K50+K51+K52+K53+K54+K55+K56+K57+K58+K59+K60+K61+K62+K63+K64+K65+K66+K67+K68+K69+K70+K71 -> 0 | ... Q49: =Q50+Q51+Q52+Q53+Q54+Q55+Q56+Q57+Q58+Q59+Q60+Q61+Q62+Q63+Q64+Q65+Q66+Q67+Q68+Q69+Q70+Q71 -> 837000000 | R49: =D49-E49-F49-G49-H49-I49-J49-K49-L49-O49-P49-Q49 -> 0
A50: - | B50: KP tiền lương, hoạt động, tiền thưởng | C50: =E50+F50+G50+H50+#REF!+I50+J50+K50+L50+O50 -> #REF! | D50: =O50 -> 1173544200 | O50: =903544200+120000000+150000000 -> 1173544200 | R50: =D50-E50-F50-G50-H50-I50-J50-K50-L50-O50-P50-Q50 -> 0
A51: - | B51: KP phát triển nông nghiệp | D51: =L51 -> 58750000 | L51: =33750000+25000000 -> 58750000 | R51: =D51-E51-F51-G51-H51-I51-J51-K51-L51-O51-P51-Q51 -> 0
A52: - | B52: KP phòng chống thiên tai | D52: =L52 -> 40000000 | L52: 40000000 | R52: =D52-E52-F52-G52-H52-I52-J52-K52-L52-O52-P52-Q52 -> 0
A53: - | B53: Kinh phí hoạt động nông thôn mới (trong đó: Hỗ trợ xóm Bản Đông hoàn thiện các tiêu chí xóm NTM kiểu mẫu: 100 triệu) | D53: =L53 -> 206000000 | L53: =296000000-90000000 -> 206000000 | R53: =D53-E53-F53-G53-H53-I53-J53-K53-L53-O53-P53-Q53 -> 0
A54: - | B54: Chi phí tổ thuỷ lợi cơ sở và hoạt động của BCĐ năm 2025 | D54: 46000000 | L54: 46000000 | R54: =D54-E54-F54-G54-H54-I54-J54-K54-L54-O54-P54-Q54 -> 0
A55: - | B55: Hỗ trợ phát triển cây chè | D55: =L55 -> 350000000 | L55: 350000000 | R55: =D55-E55-F55-G55-H55-I55-J55-K55-L55-O55-P55-Q55 -> 0
A56: - | B56: Kinh phí thực hiện công tác quản lý nhà nước bảo vệ môi trường | D56: =L56 -> 100000000 | L56: 100000000 | R56: =D56-E56-F56-G56-H56-I56-J56-K56-L56-O56-P56-Q56 -> 0
A57: - | B57: Nâng cao năng lực cạnh tranh cấp xã, đối thoại doanh nghiệp, thu hút đầu tư…. | D57: =L57 -> 90000000 | L57: 90000000 | R57: =D57-E57-F57-G57-H57-I57-J57-K57-L57-O57-P57-Q57 -> 0
A58: - | B58: Chi lĩnh vực công thương, đăng ký kinh doanh | D58: =SUM(E58:Q58) -> 68000000 | O58: 68000000 | R58: =D58-E58-F58-G58-H58-I58-J58-K58-L58-O58-P58-Q58 -> 0
A59: - | B59: Lĩnh vực tài chính đầu tư | D59: =SUM(E59:Q59) -> 95000000 | O59: 95000000 | R59: =D59-E59-F59-G59-H59-I59-J59-K59-L59-O59-P59-Q59 -> 0
A60: - | B60: Công tác Kiểm kê đất đai | D60: =SUM(E60:Q60) -> 50000000 | J60: 50000000 | R60: =D60-E60-F60-G60-H60-I60-J60-K60-L60-O60-P60-Q60 -> 0
A61: - | B61: Thống kê đất đai, lập KH sử dụng đất | D61: =SUM(E61:Q61) -> 60915763 | J61: =100000000-39084237 -> 60915763 | R61: =D61-E61-F61-G61-H61-I61-J61-K61-L61-O61-P61-Q61 -> 0
A62: - | B62: Công tác giảm nghèo | D62: =SUM(E62:Q62) -> 65000000 | O62: 65000000 | R62: =D62-E62-F62-G62-H62-I62-J62-K62-L62-O62-P62-Q62 -> 0
A63: - | B63: Đảm bảo xã hội (Tiền điện hộ nghèo, chính sách) | D63: =SUM(E63:Q63) -> 63497536 | P63: 63497536 | R63: =D63-E63-F63-G63-H63-I63-J63-K63-L63-O63-P63-Q63 -> 0
A64: - | B64: KP Chương trình MTQG giảm nghèo bền vững | D64: =SUM(E64:Q64) -> 837000000 | Q64: =1009500000-172500000 -> 837000000 | R64: =D64-E64-F64-G64-H64-I64-J64-K64-L64-O64-P64-Q64 -> 0
A65: - | B65: Chuyển đổi số | D65: =SUM(E65:Q65) -> 40000000 | O65: 40000000 | R65: =D65-E65-F65-G65-H65-I65-J65-K65-L65-O65-P65-Q65 -> 0
A66: - | B66: Kinh phí Cứu trợ ban Cứu trợ tỉnh bão YAGI (CT: Xây dựng Tường rào UBND xã Ôn Lương) | D66: =I66 -> 30000000 | I66: 30000000 | R66: =D66-E66-F66-G66-H66-I66-J66-K66-L66-O66-P66-Q66 -> 0
A67: - | B67: Sự nghiệp giáo dục sửa chữa các công trình | D67: 2304000000 | E67: 2304000000 | R67: =D67-E67-F67-G67-H67-I67-J67-K67-L67-O67-P67-Q67 -> 0
A68: - | B68: Sự nghiệp giao thông | D68: =L68 -> 1652000000 | L68: =1804000000-152000000 -> 1652000000 | R68: =D68-E68-F68-G68-H68-I68-J68-K68-L68-O68-P68-Q68 -> 0
A69: - | B69: Hợ bảo vệ, phát triển đất trồng lúa | D69: =L69 -> 672000000 | L69: =702000000-30000000 -> 672000000 | R69: =D69-E69-F69-G69-H69-I69-J69-K69-L69-O69-P69-Q69 -> 0
A70: - | B70: Sự nghiệp thủy lợi | D70: =L70 -> 535000000 | L70: =550000000-15000000 -> 535000000 | R70: =D70-E70-F70-G70-H70-I70-J70-K70-L70-O70-P70-Q70 -> 0
A71: - | B71: Kinh phí Thủy lợi phí | D71: =L71 -> 778000000 | L71: =824000000-46000000 -> 778000000 | R71: =D71-E71-F71-G71-H71-I71-J71-K71-L71-O71-P71-Q71 -> 0
A72: 4 | B72: Trung tâm phục vụ hành chính công | C72: =C73 -> #REF! | D72: =D73+D75 -> 716000000 | E72: =E73+E74+E75 -> 0 | F72: =F73+F74+F75 -> 0 | G72: =G73+G74+G75 -> 0 | H72: =H73+H74+H75 -> 0 | I72: =I73+I74+I75 -> 0 | J72: =J73+J74+J75 -> 0 | K72: =K73+K74+K75 -> 0 | L72: =L73+L74+L75 -> 0 | ... N72: =N73+N74+N75 -> 0 | O72: =O73+O75 -> 716000000 | R72: =D72-E72-F72-G72-H72-I72-J72-K72-L72-O72-P72-Q72 -> 0
A73: - | B73: KP tiền lương, hoạt động, tiền thưởng, phụ cấp CB ko chuyên trách | C73: =E73+F73+G73+H73+#REF!+I73+J73+K73+L73+O73 -> #REF! | D73: =536000000+(6*12000000)+D74 -> 666000000 | O73: =D73 -> 666000000 | R73: =D73-E73-F73-G73-H73-I73-J73-K73-L73-O73-P73-Q73 -> 0
A74: + | B74: Phụ cấp Cán bộ không chuyên trách | D74: 58000000 | O74: 58000000 | R74: =D74-E74-F74-G74-H74-I74-J74-K74-L74-O74-P74-Q74 -> 0
A75: - | B75: Mua sắm VT VP, chuyên môn | D75: =O75 -> 50000000 | O75: 50000000 | R75: =D75-E75-F75-G75-H75-I75-J75-K75-L75-O75-P75-Q75 -> 0
A76: II | B76: KHỐI ĐẢNG, ĐOÀN THỂ | C76: =C77+C87 -> #REF! | D76: =D77+D87 -> #REF! | E76: =E77+E87 -> 0 | F76: =F77+F87 -> 0 | G76: =G77+G87 -> 0 | H76: =H77+H87 -> 0 | I76: =I77+I87 -> 0 | L76: =L77+L87 -> 0 | M76: =M77+M87 -> 0 | N76: =N77+N87 -> 0 | O76: =O77+O87 -> #REF! | R76: =D76-E76-F76-G76-H76-I76-J76-K76-L76-O76-P76-Q76 -> #REF! | W76: =C76-V76 -> #REF! | AB76: 125831 | AC76: =C76-AB76 -> #REF!
A77: 1 | B77: Văn phòng Đảng uỷ | C77: =O77 -> #REF! | D77: =D78+D80+D81+D82+D83+D84+D85+D86 -> #REF! | E77: =E78+E80+E81+E82+E83+E84+E85+E86 -> 0 | F77: =F78+F80+F81+F82+F83+F84+F85+F86 -> 0 | G77: =G78+G80+G81+G82+G83+G84+G85+G86 -> 0 | H77: =H78+H80+H81+H82+H83+H84+H85+H86 -> 0 | I77: =I78+I80+I81+I82+I83+I84+I85+I86 -> 0 | J77: =J78+J80+J81+J82+J83+J84+J85+J86 -> 0 | K77: =K78+K80+K81+K82+K83+K84+K85+K86 -> 0 | ... O77: =O78+O80+O81+O82+O83+O84+O85+O86 -> #REF! | R77: =D77-E77-F77-G77-H77-I77-J77-K77-L77-O77-P77-Q77 -> #REF!
A78: - | B78: KP tiền lương, tiền thưởng, HĐ biên chế, CB không chuyên trách | C78: =E78+F78+G78+H78+#REF!+I78+J78+K78+L78+O78 -> #REF! | D78: =O78 -> 2667000000 | O78: =2274000000+(21*12000000)+30000000+O79 -> 2667000000 | R78: =D78-E78-F78-G78-H78-I78-J78-K78-L78-O78-P78-Q78 -> 0
A79: + | B79: Phụ cấp cán bộ không chuyên trách (04 người) | C79: =E79+F79+G79+H79+#REF!+I79+J79+K79+L79+O79 -> #REF! | D79: 111000000 | O79: 111000000 | R79: =D79-E79-F79-G79-H79-I79-J79-K79-L79-O79-P79-Q79 -> 0
A80: - | B80: Phụ cấp + bảo hiểm Bí thư chi bộ | C80: =E80+F80+G80+H80+#REF!+I80+J80+K80+L80+O80 -> #REF! | D80: =O80 -> #REF! | O80: =#REF! -> #REF! | R80: =D80-E80-F80-G80-H80-I80-J80-K80-L80-O80-P80-Q80 -> #REF!
A81: - | B81: Phụ cấp cấp ủy | C81: =E81+F81+G81+H81+#REF!+I81+J81+K81+L81+O81 -> #REF! | D81: =O81 -> #REF! | O81: =#REF! -> #REF! | R81: =D81-E81-F81-G81-H81-I81-J81-K81-L81-O81-P81-Q81 -> #REF!
A82: - | B82: Hoạt động cấp uỷ, công tác sáp nhập | C82: =E82+F82+G82+H82+#REF!+I82+J82+K82+L82+O82 -> #REF! | D82: =O82 -> 300000000 | O82: 300000000 | R82: =D82-E82-F82-G82-H82-I82-J82-K82-L82-O82-P82-Q82 -> 0
A83: - | B83: Kinh phí Đại hội Đảng bộ xã, đại hội chi bộ cơ quan Đảng | C83: =E83+F83+G83+H83+#REF!+I83+J83+K83+L83+O83 -> #REF! | D83: 785000000 | O83: 785000000 | R83: =D83-E83-F83-G83-H83-I83-J83-K83-L83-O83-P83-Q83 -> 0
A84: - | B84: Tiền công, BH hợp đồng theo Nghị định 111 | C84: =E84+F84+G84+H84+#REF!+I84+J84+K84+L84+O84 -> #REF! | D84: =O84 -> 81000000 | O84: 81000000 | R84: =D84-E84-F84-G84-H84-I84-J84-K84-L84-O84-P84-Q84 -> 0
A85: - | B85: Chế độ CB nghỉ chờ đủ tuổi nghỉ hưu | C85: =E85+F85+G85+H85+#REF!+I85+J85+K85+L85+O85 -> #REF! | D85: 77000000 | O85: 77000000 | R85: =D85-E85-F85-G85-H85-I85-J85-K85-L85-O85-P85-Q85 -> 0
A86: - | B86: Hỗ trợ các Ban đảng + UB kiểm tra Đảng (20 triệu/ban) | D86: =O86 -> 40000000 | O86: 40000000 | R86: =D86-E86-F86-G86-H86-I86-J86-K86-L86-O86-P86-Q86 -> 0
A87: 2 | B87: Uỷ ban MTTQ xã | C87: =C88+C89+C90+C93+C96+C107+C108+C109 -> 2304677432 | D87: =SUM(D110:D121) -> #REF! | E87: =SUM(E110:E119) -> 0 | F87: =SUM(F110:F119) -> 0 | G87: =SUM(G110:G119) -> 0 | H87: =SUM(H110:H119) -> 0 | I87: =SUM(I110:I119) -> 0 | J87: =SUM(J110:J119) -> 0 | K87: =SUM(K110:K119) -> 0 | L87: =SUM(L110:L119) -> 0 | ... N87: =SUM(N110:N119) -> 0 | O87: =SUM(O110:O121) -> #REF! | R87: =D87-E87-F87-G87-H87-I87-J87-K87-L87-O87-P87-Q87 -> #REF!
B88: - MTTQ xã | C88: =O88 -> 794726102 | O88: 794726102 | R88: =D88-E88-F88-G88-H88-I88-J88-K88-L88-O88-P88-Q88 -> -794726102
B89: - Đoàn TNCS Hồ Chí Minh xã | C89: =SUM(E89:P89) -> 435071912 | O89: 435071912 | R89: =D89-E89-F89-G89-H89-I89-J89-K89-L89-O89-P89-Q89 -> -435071912
B90: - Hội Liên hiệp PN xã | C90: =SUM(E90:P90) -> 310736214 | O90: 310736214 | R90: =D90-E90-F90-G90-H90-I90-J90-K90-L90-O90-P90-Q90 -> -310736214
C91: =SUM(E91:P91) -> 0 | R91: =D91-E91-F91-G91-H91-I91-J91-K91-L91-O91-P91-Q91 -> 0
C92: =SUM(E92:P92) -> 0 | R92: =D92-E92-F92-G92-H92-I92-J92-K92-L92-O92-P92-Q92 -> 0
B93: - Hội Nông dân xã | C93: =SUM(E93:P93) -> 276380154 | O93: 276380154 | R93: =D93-E93-F93-G93-H93-I93-J93-K93-L93-O93-P93-Q93 -> -276380154
C94: =SUM(E94:P94) -> 0 | R94: =D94-E94-F94-G94-H94-I94-J94-K94-L94-O94-P94-Q94 -> 0
C95: =SUM(E95:P95) -> 0 | R95: =D95-E95-F95-G95-H95-I95-J95-K95-L95-O95-P95-Q95 -> 0
B96: - Hội Cựu chiến binh xã | C96: =SUM(E96:P96) -> 357854650 | O96: 357854650 | R96: =D96-E96-F96-G96-H96-I96-J96-K96-L96-O96-P96-Q96 -> -357854650
C97: =SUM(E97:P97) -> 0 | R97: =D97-E97-F97-G97-H97-I97-J97-K97-L97-O97-P97-Q97 -> 0
C98: =SUM(E98:P98) -> 0 | R98: =D98-E98-F98-G98-H98-I98-J98-K98-L98-O98-P98-Q98 -> 0
C99: =SUM(E99:P99) -> 0 | R99: =D99-E99-F99-G99-H99-I99-J99-K99-L99-O99-P99-Q99 -> 0
C100: =SUM(E100:P100) -> 0 | R100: =D100-E100-F100-G100-H100-I100-J100-K100-L100-O100-P100-Q100 -> 0
C101: =SUM(E101:P101) -> 0 | R101: =D101-E101-F101-G101-H101-I101-J101-K101-L101-O101-P101-Q101 -> 0
C102: =SUM(E102:P102) -> 0 | R102: =D102-E102-F102-G102-H102-I102-J102-K102-L102-O102-P102-Q102 -> 0
...

Sheet chi tiết đơn vị (Hop)
O1: Phụ biểu số: 04
A2: DỰ TOÁN CHI THƯỜNG XUYÊN CHO TỪNG ĐƠN VỊ THEO LĨNH VỰC NĂM 2025 SAU ĐIỀU CHỈNH
A3: =#REF! -> #REF!
D6: =87333000000-D11 -> #REF! | J6: =50000000-J64 -> 0 | O6: Đơn vị: đồng
A7: STT | B7: Đơn vị/Nội dung | C7: Số được chi từ nguồn ngân sách nhà nước | D7: Tổng dự toán lần 2 | E7: Chi giáo dục - đào tạo và dạy nghề | F7: Chi quốc phòng | G7: Chi an ninh và trật tự an toàn xã hội | H7: Chi văn hóa thông tin, thể thao | I7: Chi sự nghiệp khác | J7: Chi đầu tư từ nguồn thu tiền sử dụng đất | K7: Chi dự phòng | L7: Chi các hoạt động kinh tế | M7: Trong đó | O7: Chi hoạt động của cơ quan quản lý nhà nước, đảng, đoàn thể | P7: Chi bảo đảm xã hội | Q7: Chi chương trình mục tiêu | AB7: Số được chi từ nguồn ngân sách nhà nước
M8: Chi giao thông | N8: Chi nông nghiệp, lâm nghiệp, thủy lợi, thủy sản
A9: A | B9: B | C9: 1 | E9: 2 | F9: 4 | G9: 5 | H9: 7 | I9: 10 | J9: 11 | K9: 12 | L9: 13 | M9: 14 | N9: 15 | O9: 14 | P9: 15 | AB9: 1
C10: =C14+C80+C126+C145+C146 -> #REF! | E10: =E14+E80+E126+E145+E146 -> 40580008000 | F10: =F14+F80+F126+F145+F146 -> 2298090000 | G10: =G14+G80+G126+G145+G146 -> 1374540000 | H10: =H14+H80+H126+H145+H146 -> 327700000 | I10: =I14+I80+I126+I145+I146 -> 776000000 | J10: =J14+J80+J126+J145+J146 -> 1637000000 | K10: =K14+K80+K126+K145+K146 -> 2171000000 | L10: =L14+L80+L126+L145+L146 -> 4932650000 | ... P10: =P14+P80+P126+P145+P146 -> 3059400736
B11: TỔNG SỐ | C11: =C14+C80+C126+C145+C146 -> #REF! | D11: =D14+D80+D126+D145+D146 -> #REF! | E11: =E14+E80+E126+E145+E146 -> 40580008000 | F11: =F14+F80+F126+F145+F146 -> 2298090000 | G11: =G14+G80+G126+G145+G146 -> 1374540000 | H11: =H14+H80+H126+H145+H146 -> 327700000 | I11: =I14+I80+I126+I145+I146 -> 776000000 | J11: =J14+J80+J126+J145+J146 -> 1637000000 | K11: =K14+K146 -> 2171000000 | L11: =L14+L80+L126+L145 -> 4932650000 | M11: =M14+M80+M126+M145 -> 0 | N11: =N14+N80+N126+N145 -> 0 | O11: =O14+O80+O126+O145+O146 -> #REF! | P11: =P14+P80+P126+P145 -> 3059400736 | Q11: =Q14+Q80+Q126+Q145 -> 4312730000 | R11: =D11-E11-F11-G11-H11-I11-J11-K11-L11-O11-P11-Q11 -> #REF! | S11: 0 | T11: 10802 | U11: 6 | V11: 197771 | W11: 108691 | X11: 132716 | Y11: 13630 | Z11: 708475.93 | AB11: 3888526.2 | AC11: 51311 | AD11: 819842 | AE11: 84011 | AF11: 46995
B12: tỉnh Thái Nguyên | Q12: =#REF!+#REF!+Q16+#REF!+#REF!+#REF!+#REF!+#REF!+Q18+#REF!+#REF!+#REF!+#REF!+#REF!+#REF!+Q95+Q98+Q101+#REF!+#REF!+#REF!+#REF!+#REF!+#REF!+#REF!+Q103+Q105+#REF!+#REF!+#REF!+Q107+#REF!+#REF!+#REF!+#REF!+#REF!+#REF!+#REF!+Q109+Q137+Q140+#REF!+#REF!+#REF!+#REF!+#REF!+#REF!+#REF!+#REF!+#REF!+#REF!+#REF! -> #REF! | R12: =D12-E12-F12-G12-H12-I12-J12-K12-L12-O12-P12-Q12 -> #REF! | S12: =#REF!+#REF!+S16+#REF!+#REF!+#REF!+#REF!+#REF!+S18+#REF!+#REF!+#REF!+#REF!+#REF!+#REF!+S95+S98+S101+#REF!+#REF!+#REF!+#REF!+#REF!+#REF!+#REF!+S103+S105+#REF!+#REF!+#REF!+S107+#REF!+#REF!+#REF!+#REF!+#REF!+#REF!+#REF!+S109+S137+S140+#REF!+#REF!+#REF!+#REF!+#REF!+#REF!+#REF!+#REF!+#REF!+#REF!+#REF! -> #REF! | T12: =#REF!+#REF!+T16+#REF!+#REF!+#REF!+#REF!+#REF!+T18+#REF!+#REF!+#REF!+#REF!+#REF!+#REF!+T95+T98+T101+#REF!+#REF!+#REF!+#REF!+#REF!+#REF!+#REF!+T103+T105+#REF!+#REF!+#REF!+T107+#REF!+#REF!+#REF!+#REF!+#REF!+#REF!+#REF!+T109+T137+T140+#REF!+#REF!+#REF!+#REF!+#REF!+#REF!+#REF!+#REF!+#REF!+#REF!+#REF! -> #REF! | U12: =#REF!+#REF!+U16+#REF!+#REF!+#REF!+#REF!+#REF!+U18+#REF!+#REF!+#REF!+#REF!+#REF!+#REF!+U95+U98+U101+#REF!+#REF!+#REF!+#REF!+#REF!+#REF!+#REF!+U103+U105+#REF!+#REF!+#REF!+U107+#REF!+#REF!+#REF!+#REF!+#REF!+#REF!+#REF!+U109+U137+U140+#REF!+#REF!+#REF!+#REF!+#REF!+#REF!+#REF!+#REF!+#REF!+#REF!+#REF! -> #REF! | V12: =#REF!+#REF!+V16+#REF!+#REF!+#REF!+#REF!+#REF!+V18+#REF!+#REF!+#REF!+#REF!+#REF!+#REF!+V95+V98+V101+#REF!+#REF!+#REF!+#REF!+#REF!+#REF!+#REF!+V103+V105+#REF!+#REF!+#REF!+V107+#REF!+#REF!+#REF!+#REF!+#REF!+#REF!+#REF!+V109+V137+V140+#REF!+#REF!+#REF!+#REF!+#REF!+#REF!+#REF!+#REF!+#REF!+#REF!+#REF! -> #REF! | W12: =#REF!+#REF!+W16+#REF!+#REF!+#REF!+#REF!+#REF!+W18+#REF!+#REF!+#REF!+#REF!+#REF!+#REF!+W95+W98+W101+#REF!+#REF!+#REF!+#REF!+#REF!+#REF!+#REF!+W103+W105+#REF!+#REF!+#REF!+W107+#REF!+#REF!+#REF!+#REF!+#REF!+#REF!+#REF!+W109+W137+W140+#REF!+#REF!+#REF!+#REF!+#REF!+#REF!+#REF!+#REF!+#REF!+#REF!+#REF! -> #REF! | X12: =#REF!+#REF!+X16+#REF!+#REF!+#REF!+#REF!+#REF!+X18+#REF!+#REF!+#REF!+#REF!+#REF!+#REF!+X95+X98+X101+#REF!+#REF!+#REF!+#REF!+#REF!+#REF!+#REF!+X103+X105+#REF!+#REF!+#REF!+X107+#REF!+#REF!+#REF!+#REF!+#REF!+#REF!+#REF!+X109+X137+X140+#REF!+#REF!+#REF!+#REF!+#REF!+#REF!+#REF!+#REF!+#REF!+#REF!+#REF! -> #REF! | Y12: =#REF!+#REF!+Y16+#REF!+#REF!+#REF!+#REF!+#REF!+Y18+#REF!+#REF!+#REF!+#REF!+#REF!+#REF!+Y95+Y98+Y101+#REF!+#REF!+#REF!+#REF!+#REF!+#REF!+#REF!+Y103+Y105+#REF!+#REF!+#REF!+Y107+#REF!+#REF!+#REF!+#REF!+#REF!+#REF!+#REF!+Y109+Y137+Y140+#REF!+#REF!+#REF!+#REF!+#REF!+#REF!+#REF!+#REF!+#REF!+#REF!+#REF! -> #REF! | Z12: =#REF!+#REF!+Z16+#REF!+#REF!+#REF!+#REF!+#REF!+Z18+#REF!+#REF!+#REF!+#REF!+#REF!+#REF!+Z95+Z98+Z101+#REF!+#REF!+#REF!+#REF!+#REF!+#REF!+#REF!+Z103+Z105+#REF!+#REF!+#REF!+Z107+#REF!+#REF!+#REF!+#REF!+#REF!+#REF!+#REF!+Z109+Z137+Z140+#REF!+#REF!+#REF!+#REF!+#REF!+#REF!+#REF!+#REF!+#REF!+#REF!+#REF! -> #REF! | ... AF12: =#REF!+#REF!+AF16+#REF!+#REF!+#REF!+#REF!+#REF!+AF18+#REF!+#REF!+#REF!+#REF!+#REF!+#REF!+AF95+AF98+AF101+#REF!+#REF!+#REF!+#REF!+#REF!+#REF!+#REF!+AF103+AF105+#REF!+#REF!+#REF!+AF107+#REF!+#REF!+#REF!+#REF!+#REF!+#REF!+#REF!+AF109+AF137+AF140+#REF!+#REF!+#REF!+#REF!+#REF!+#REF!+#REF!+#REF!+#REF!+#REF!+#REF! -> #REF!
B13: tỉnh Bắc Kạn | Q13: 380455 | R13: =D13-E13-F13-G13-H13-I13-J13-K13-L13-O13-P13-Q13 -> -380455 | S13: 0 | T13: 4573 | U13: 259737 | V13: 38582 | W13: 29396 | X13: 13934 | Y13: 13630 | Z13: 245376 | AB13: 1170247.2 | AC13: 51311 | AD13: 317574 | AE13: 19156 | AF13: 9989
A14: I | B14: KHỐI QUẢN LÝ NHÀ NƯỚC | C14: =C15+C39+C53+C76 -> #REF! | D14: =D15+D39+D53+D76 -> #REF! | E14: =E15+E39+E53+E76 -> 2304000000 | F14: =F15+F39+F53+F76 -> 2298090000 | G14: =G15+G39+G53+G76 -> 1374540000 | H14: =H15+H39+H53+H76 -> 237700000 | I14: =I15+I39+I53+I76 -> 30000000 | J14: =J15+J39+J53+J76 -> 375000000 | K14: =K38 -> 66584450 | L14: =L15+L39+L53+L76 -> 4932650000 | M14: =M15+M39+M53+M76 -> 0 | N14: =N15+N39+N53+N76 -> 0 | O14: =O15+O39+O53+O76 -> #REF! | P14: =P15+P39+P53+P76 -> 3059400736 | Q14: =Q15+Q39+Q53+Q76 -> 1554730000 | R14: =D14-E14-F14-G14-H14-I14-J14-K14-L14-O14-P14-Q14 -> #REF! | S14: 0 | T14: 10162 | U14: 727567 | V14: 197771 | W14: 15735 | X14: 132716 | Y14: 13630 | Z14: 672979.93
A15: 1 | B15: Văn phòng HĐND và UBND | C15: =#REF!+C37 -> #REF! | D15: =D20+D29+D30+D31+D32+D33+D34+D35+D36+D37+D38 -> #REF! | E15: =E20+E29+E30+E31+E32+E33+E34+E35+E36+E37+E38 -> 0 | F15: =F20+F29+F30+F31+F32+F33+F34+F35+F36+F37+F38 -> 2298090000 | G15: =G20+G29+G30+G31+G32+G33+G34+G35+G36+G37+G38 -> 1374540000 | H15: =H20+H29+H30+H31+H32+H33+H34+H35+H36+H37+H38 -> 107753380 | I15: =I20+I29+I30+I31+I32+I33+I34+I35+I36+I37+I38 -> 0 | J15: =J20+J29+J30+J31+J32+J33+J34+J35+J36+J37+J38 -> 264084237 | K15: =K20+K29+K30+K31+K32+K33+K34+K35+K36+K37+K38 -> 66584450 | ... Q15: =Q20+Q29+Q30+Q31+Q32+Q33+Q34+Q35+Q36+Q37+Q38 -> 285640000 | R15: =D15-E15-F15-G15-H15-I15-J15-K15-L15-O15-P15-Q15 -> #REF! | AB15: 54803 | AC15: =C15-AB15 -> #REF!
B16: tỉnh Thái Nguyên | C16: =C37+C39 -> 4878598620 | E16: ='37.01 ĐP'!F21+'37.02 TW'!F23 -> 0 | F16: ='37.01 ĐP'!H21+'37.02 TW'!H23 -> 0 | G16: ='37.01 ĐP'!I21+'37.02 TW'!I23 -> 0 | H16: ='37.01 ĐP'!K21+'37.02 TW'!K23 -> 0 | I16: ='37.01 ĐP'!N21+'37.02 TW'!N23 -> 40000 | L16: ='37.01 ĐP'!O21+'37.02 TW'!O23 -> 250828.93 | M16: ='37.01 ĐP'!P21+'37.02 TW'!P23 -> 0 | N16: ='37.01 ĐP'!Q21+'37.02 TW'!Q23 -> 0 | O16: ='37.01 ĐP'!R21+'37.02 TW'!R23 -> 90846 | P16: ='37.01 ĐP'!S21+'37.02 TW'!S23 -> 0 | Q16: =C16-#REF! -> #REF! | R16: =D16-E16-F16-G16-H16-I16-J16-K16-L16-O16-P16-Q16 -> #REF! | AB16: 326371 | AC16: =C16-AB16 -> 4878272249
B17: tỉnh Bắc Kạn | C17: =C39+C53 -> 13356306119 | E17: ='37.01 ĐP'!F22+'37.02 TW'!F26 -> 0 | F17: ='37.01 ĐP'!H22+'37.02 TW'!H26 -> 0 | G17: ='37.01 ĐP'!I22+'37.02 TW'!I26 -> 0 | H17: ='37.01 ĐP'!K22+'37.02 TW'!K26 -> 0 | I17: ='37.01 ĐP'!N22+'37.02 TW'!N26 -> 16266 | L17: ='37.01 ĐP'!O22+'37.02 TW'!O26 -> 85038 | M17: ='37.01 ĐP'!P22+'37.02 TW'!P26 -> 0 | N17: ='37.01 ĐP'!Q22+'37.02 TW'!Q26 -> 51311 | O17: ='37.01 ĐP'!R22+'37.02 TW'!R26 -> 85271 | P17: ='37.01 ĐP'!S22+'37.02 TW'!S26 -> 0 | Q17: =C17-#REF! -> #REF! | R17: =D17-E17-F17-G17-H17-I17-J17-K17-L17-O17-P17-Q17 -> #REF! | AB17: 167899.16 | AC17: =C17-AB17 -> 1.3356138e+10
B18: tỉnh Thái Nguyên | C18: =C53+C76 -> #REF! | E18: ='37.01 ĐP'!F39+'37.02 TW'!F77 -> 766032 | F18: ='37.01 ĐP'!H39+'37.02 TW'!H77 -> 0 | G18: ='37.01 ĐP'!I39+'37.02 TW'!I77 -> 0 | H18: ='37.01 ĐP'!K39+'37.02 TW'!K77 -> 0 | I18: ='37.01 ĐP'!N39+'37.02 TW'!N77 -> 0 | L18: ='37.01 ĐP'!O39+'37.02 TW'!O77 -> 0 | M18: ='37.01 ĐP'!P39+'37.02 TW'!P77 -> 0 | N18: ='37.01 ĐP'!Q39+'37.02 TW'!Q77 -> 0 | O18: ='37.01 ĐP'!R39+'37.02 TW'!R77 -> 15150 | P18: ='37.01 ĐP'!S39+'37.02 TW'!S77 -> 0 | Q18: =C18-#REF! -> #REF! | R18: =D18-E18-F18-G18-H18-I18-J18-K18-L18-O18-P18-Q18 -> #REF! | W18: =C18-V18 -> #REF! | AB18: 724478 | AC18: =C18-AB18 -> #REF!
B19: tỉnh Bắc Kạn | C19: =C76+C80 -> #REF! | E19: ='37.01 ĐP'!F40+'37.02 TW'!F80 -> 302978 | F19: ='37.01 ĐP'!H40+'37.02 TW'!H80 -> 0 | G19: ='37.01 ĐP'!I40+'37.02 TW'!I80 -> 0 | H19: ='37.01 ĐP'!K40+'37.02 TW'!K80 -> 0 | I19: ='37.01 ĐP'!N40+'37.02 TW'!N80 -> 0 | L19: ='37.01 ĐP'!O40+'37.02 TW'!O80 -> 0 | M19: ='37.01 ĐP'!P40+'37.02 TW'!P80 -> 0 | N19: ='37.01 ĐP'!Q40+'37.02 TW'!Q80 -> 0 | O19: ='37.01 ĐP'!R40+'37.02 TW'!R80 -> 11714 | P19: ='37.01 ĐP'!S40+'37.02 TW'!S80 -> 0 | Q19: =C19-#REF! -> #REF! | R19: =D19-E19-F19-G19-H19-I19-J19-K19-L19-O19-P19-Q19 -> #REF! | W19: =C19-V19 -> #REF! | AB19: 275026 | AC19: =C19-AB19 -> #REF!
A20: - | B20: KP tiền lương, phụ cấp, tiền thưởng, hoạt động, PC đại biểu HĐND, PC cán bộ không chuyên trách, hưu xã … | D20: =SUM(D21:D28) -> #REF! | E20: =SUM(E21:E28) -> 0 | F20: =SUM(F21:F28) -> 0 | G20: =SUM(G21:G28) -> 0 | H20: =SUM(H21:H28) -> 0 | I20: =SUM(I21:I28) -> 0 | J20: =SUM(J21:J28) -> 0 | K20: =SUM(K21:K28) -> 0 | ... Q20: =SUM(Q21:Q28) -> 0
A21: + | B21: KP tiền lương, phụ cấp, tiền thưởng, hoạt động | C21: =E21+F21+G21+H21+#REF!+I21+J21+K21+L21+O21+P21 -> #REF! | D21: =SUM(E21:P21) -> 2228909958 | O21: =2062000000+150000000+17825721-915763 -> 2228909958 | R21: =D21-E21-F21-G21-H21-I21-J21-K21-L21-O21-P21-Q21 -> 0
A22: + | B22: Hoạt động biên chế | D22: =SUM(E22:P22) -> 252000000 | O22: =21*12000000 -> 252000000 | R22: =D22-E22-F22-G22-H22-I22-J22-K22-L22-O22-P22-Q22 -> 0
A23: + | B23: Phụ cấp Cán bộ không chuyên trách | D23: =SUM(E23:P23) -> 116000000 | O23: 116000000 | R23: =D23-E23-F23-G23-H23-I23-J23-K23-L23-O23-P23-Q23 -> 0
A24: + | B24: Chế độ, chính sách cho đại biểu HĐND (Phụ cấp ĐBHĐND) | C24: =E24+F24+G24+H24+#REF!+I24+J24+K24+L24+O24+P24 -> #REF! | D24: =SUM(E24:P24) -> 274411800 | O24: 274411800 | R24: =D24-E24-F24-G24-H24-I24-J24-K24-L24-O24-P24-Q24 -> 0
A25: + | B25: Hợp đồng 111 (Lan Anh + Cường) | D25: =SUM(E25:P25) -> 121000000 | O25: =110000000+11000000 -> 121000000 | R25: =D25-E25-F25-G25-H25-I25-J25-K25-L25-O25-P25-Q25 -> 0
A26: + | B26: Phụ cấp TX, phó xóm, bảo hiểm TX | D26: =SUM(E26:P26) -> #REF! | O26: =#REF! -> #REF! | R26: =D26-E26-F26-G26-H26-I26-J26-K26-L26-O26-P26-Q26 -> #REF!
A27: + | B27: Chế độ KCT (Y tế thôn bản thôn bản nghỉ theo NQ 05/2020/NQ-HĐND) | D27: =SUM(E27:P27) -> 8640000 | O27: =8640000 -> 8640000 | R27: =D27-E27-F27-G27-H27-I27-J27-K27-L27-O27-P27-Q27 -> 0 | T27: 4054954888
A28: + | B28: Đảm bảo xã hội (trợ cấp cho CB xã đã nghỉ việc) | C28: =E28+F28+G28+H28+#REF!+I28+J28+K28+L28+O28+P28 -> #REF! | D28: =SUM(E28:P28) -> 85263600 | P28: 85263600 | R28: =D28-E28-F28-G28-H28-I28-J28-K28-L28-O28-P28-Q28 -> 0
A29: - | B29: Hoạt động HĐND và các kỳ họp | C29: =E29+F29+G29+H29+#REF!+I29+J29+K29+L29+O29+P29 -> #REF! | D29: =SUM(E29:P29) -> 150000000 | O29: 150000000 | R29: =D29-E29-F29-G29-H29-I29-J29-K29-L29-O29-P29-Q29 -> 0
A30: - | B30: Tiền báo ĐB HĐND | D30: =SUM(E30:P30) -> 79462500 | O30: 79462500 | R30: =D30-E30-F30-G30-H30-I30-J30-K30-L30-O30-P30-Q30 -> 0
A31: - | B31: Hoạt động UBND, công tác sáp nhập | C31: =E31+F31+G31+H31+#REF!+I31+J31+K31+L31+O31+P31 -> #REF! | D31: =O31 -> 300000000 | O31: 300000000 | R31: =D31-E31-F31-G31-H31-I31-J31-K31-L31-O31-P31-Q31 -> 0
A32: - | B32: Nghị quyết số 06/2023/NQ-HĐND, ngày 10/5/2023 (hỗ trợ cai nghiện ma túy cộng đồng) | C32: =E32+F32+G32+H32+#REF!+I32+J32+K32+L32+O32+P32 -> #REF! | D32: =SUM(E32:P32) -> 21060000 | O32: 21060000 | R32: =D32-E32-F32-G32-H32-I32-J32-K32-L32-O32-P32-Q32 -> 0
A33: - | B33: Kinh phí Đại hội chi bộ Công an, quân sự, UBND xã (công an: 5.382.000đ, quân sự: 936.000đ, cơ quan UBND xã: 9.360.000đ) | C33: =E33+F33+G33+H33+#REF!+I33+J33+K33+L33+O33+P33 -> #REF! | D33: =SUM(E33:P33) -> 15678000 | O33: 15678000 | R33: =D33-E33-F33-G33-H33-I33-J33-K33-L33-O33-P33-Q33 -> 0
A34: - | B34: Chi quốc phòng | C34: =E34+F34+G34+H34+#REF!+I34+J34+K34+L34+O34+P34 -> #REF! | D34: =SUM(E34:P34) -> 1055786900 | F34: =2298090000-F38 -> 1055786900 | R34: =D34-E34-F34-G34-H34-I34-J34-K34-L34-O34-P34-Q34 -> 0
A35: - | B35: Chi an ninh | C35: =E35+G35+#REF!+H35+#REF!+I35+J35+K35+L35+O35+P35 -> #REF! | D35: =SUM(E35:P35) -> 823972044 | G35: =1374540000-G38 -> 823972044 | R35: =D35-E35-F35-G35-H35-I35-J35-K35-L35-O35-P35-Q35 -> 0
A36: - | B36: Chi mua sắm, sửa chữa phục vụ công tác sáp nhập | D36: =O36 -> 500000000 | O36: 500000000 | R36: =D36-E36-F36-G36-H36-I36-J36-K36-L36-O36-P36-Q36 -> 0
A37: - | B37: Tiếp nhận sự nghiệp khác (03 xã cũ) | D37: =SUM(E37:P37) -> 102900000 | L37: 102900000 | R37: =D37-E37-F37-G37-H37-I37-J37-K37-L37-O37-P37-Q37 -> 0 | T37: 4530611325
A38: - | B38: Tiếp nhận số đã chi 03 xã cũ | D38: =SUM(E38:Q38) -> 12867064121 | F38: 1242303100 | G38: =505567956+45000000 -> 550567956 | H38: =59196000+48557380 -> 107753380 | J38: 264084237 | K38: 66584450 | L38: 152000000 | O38: =10018952051+21000000+314875584-264084237 -> 10090743398 | P38: 107387600 | Q38: 285640000 | R38: =D38-E38-F38-G38-H38-I38-J38-K38-L38-O38-P38-Q38 -> 0 | T38: =4351497908-70000000 -> 4281497908
A39: 2 | B39: Phòng Văn hoá - Xã hội | C39: =SUM(E39:P39) -> 4878598620 | D39: =D40+D43+D44+D45+D46+D47+D48+D49+D50+D51+D52 -> 5138188620 | E39: =E40+E43+E44+E45+E46+E47+E48+E49+E50+E51+E52 -> 0 | F39: =F40+F43+F44+F45+F46+F47+F48+F49+F50+F51+F52 -> 0 | G39: =G40+G43+G44+G45+G46+G47+G48+G49+G50+G51+G52 -> 0 | H39: =H40+H43+H44+H45+H46+H47+H48+H49+H50+H51+H52 -> 129946620 | I39: =I40+I43+I44+I45+I46+I47+I48+I49+I50+I51+I52 -> 0 | J39: =J40+J43+J44+J45+J46+J47+J48+J49+J50+J51+J52 -> 0 | K39: =K40+K43+K44+K45+K46+K47+K48+K49+K50+K51+K52 -> 0 | ... Q39: =Q40+Q43+Q44+Q45+Q46+Q47+Q48+Q49+Q50+Q51+Q52 -> 259590000 | R39: =D39-E39-F39-G39-H39-I39-J39-K39-L39-O39-P39-Q39 -> 0 | T39: =SUM(T27:T38) -> 12867064121
A40: - | B40: KP tiền lương, hoạt động, tiền thưởng, cộng tác viên dân số, y tế thôn bản | D40: =D41+D42 -> 1085400000 | E40: =E41+E42 -> 0 | F40: =F41+F42 -> 0 | G40: =G41+G42 -> 0 | H40: =H41+H42 -> 0 | I40: =I41+I42 -> 0 | J40: =J41+J42 -> 0 | K40: =K41+K42 -> 0 | ... Q40: =Q41+Q42 -> 0
A41: + | B41: KP tiền lương, hoạt động, tiền thưởng | C41: =E41+F41+G41+H41+#REF!+I41+J41+K41+L41+O41+P41 -> #REF! | D41: =O41 -> 945000000 | O41: =737000000+(9*12000000)+100000000 -> 945000000 | R41: =D41-E41-F41-G41-H41-I41-J41-K41-L41-O41-P41-Q41 -> 0 | T41: =T39-D38 -> 0
A42: + | B42: Cộng tác viên dân số, y tế thôn bản | C42: =E42+F42+G42+H42+#REF!+I42+J42+K42+L42+O42+P42 -> #REF! | D42: 140400000 | O42: 140400000 | R42: =D42-E42-F42-G42-H42-I42-J42-K42-L42-O42-P42-Q42 -> 0
A43: - | B43: Đảm bảo xã hội | C43: =E43+F43+G43+H43+#REF!+I43+J43+K43+L43+O43+P43 -> #REF! | D43: =P43 -> 2803252000 | P43: =3139400736-P28-P53-600-107387000-80000000 -> 2803252000 | R43: =D43-E43-F43-G43-H43-I43-J43-K43-L43-O43-P43-Q43 -> 0
A44: - | B44: Kinh phí CT MT vùng ĐB DTTS | D44: =Q44 -> 259590000 | Q44: 259590000 | R44: =D44-E44-F44-G44-H44-I44-J44-K44-L44-O44-P44-Q44 -> 0
A45: - | B45: Sửa chữa nhà văn hóa xóm | D45: =L45 -> 150000000 | L45: 150000000 | R45: =D45-E45-F45-G45-H45-I45-J45-K45-L45-O45-P45-Q45 -> 0
A46: - | B46: Công tác thi đua khen thưởng | D46: =O46 -> 300000000 | O46: 300000000 | R46: =D46-E46-F46-G46-H46-I46-J46-K46-L46-O46-P46-Q46 -> 0
A47: - | B47: Sự nghiệp văn hoá thông tin, TDTT | C47: =E47+F47+G47+H47+#REF!+I47+J47+K47+L47+O47+P47 -> #REF! | D47: =H47 -> 100946620 | H47: =258700000-H38-50000000 -> 100946620 | R47: =D47-E47-F47-G47-H47-I47-J47-K47-L47-O47-P47-Q47 -> 0
A48: - | B48: Công tác Dân tộc, tôn giáo | D48: 10000000 | O48: 10000000 | R48: =D48-E48-F48-G48-H48-I48-J48-K48-L48-O48-P48-Q48 -> 0
A49: - | B49: Kinh phí thuê, quản lý dịch vụ công nghệ thông tin: Hội nghị truyền hình, TSL ) | D49: =H49 -> 29000000 | H49: 29000000 | R49: =D49-E49-F49-G49-H49-I49-J49-K49-L49-O49-P49-Q49 -> 0
A50: - | B50: Hoạt động công tác y tế, việc làm, giáo dục, Ban vì tiến bộ phụ nữ … | D50: =O50 -> 50000000 | O50: 50000000 | R50: =D50-E50-F50-G50-H50-I50-J50-K50-L50-O50-P50-Q50 -> 0
A51: - | B51: Tổ chức Trung thu | D51: =O51 -> 100000000 | O51: 100000000 | R51: =D51-E51-F51-G51-H51-I51-J51-K51-L51-O51-P51-Q51 -> 0
A52: - | B52: Chuyển đổi số, KHCN, CCHC | D52: =O52 -> 250000000 | O52: =200000000+50000000 -> 250000000 | R52: =D52-E52-F52-G52-H52-I52-J52-K52-L52-O52-P52-Q52 -> 0
A53: 3 | B53: Phòng Kinh tế | C53: =SUM(E53:P53) -> 8477707499 | D53: =D54+D55+D56+D57+D58+D59+D60+D61+D62+D63+D64+D65+D66+D67+D68+D69+D70+D71+D72+D73+D74+D75 -> 9487207499 | E53: =E54+E55+E56+E57+E58+E59+E60+E61+E62+E63+E64+E65+E66+E67+E68+E69+E70+E71+E72+E73+E74+E75 -> 2304000000 | F53: =F54+F55+F56+F57+F58+F59+F60+F61+F62+F63+F64+F65+F66+F67+F68+F69+F70+F71+F72+F73+F74+F75 -> 0 | G53: =G54+G55+G56+G57+G58+G59+G60+G61+G62+G63+G64+G65+G66+G67+G68+G69+G70+G71+G72+G73+G74+G75 -> 0 | H53: =H54+H55+H56+H57+H58+H59+H60+H61+H62+H63+H64+H65+H66+H67+H68+H69+H70+H71+H72+H73+H74+H75 -> 0 | I53: =I54+I55+I56+I57+I58+I59+I60+I61+I62+I63+I64+I65+I66+I67+I68+I69+I70+I71+I72+I73+I74+I75 -> 30000000 | J53: =J54+J55+J56+J57+J58+J59+J60+J61+J62+J63+J64+J65+J66+J67+J68+J69+J70+J71+J72+J73+J74+J75 -> 110915763 | K53: =K54+K55+K56+K57+K58+K59+K60+K61+K62+K63+K64+K65+K66+K67+K68+K69+K70+K71+K72+K73+K74+K75 -> 0 | ... Q53: =Q54+Q55+Q56+Q57+Q58+Q59+Q60+Q61+Q62+Q63+Q64+Q65+Q66+Q67+Q68+Q69+Q70+Q71+Q72+Q73+Q74+Q75 -> 1009500000 | R53: =D53-E53-F53-G53-H53-I53-J53-K53-L53-O53-P53-Q53 -> 0
A54: - | B54: KP tiền lương, hoạt động, tiền thưởng | C54: =E54+F54+G54+H54+#REF!+I54+J54+K54+L54+O54 -> #REF! | D54: =O54 -> 1173544200 | O54: =903544200+120000000+150000000 -> 1173544200 | R54: =D54-E54-F54-G54-H54-I54-J54-K54-L54-O54-P54-Q54 -> 0
A55: - | B55: KP phát triển nông nghiệp | D55: =L55 -> 58750000 | L55: =33750000+25000000 -> 58750000 | R55: =D55-E55-F55-G55-H55-I55-J55-K55-L55-O55-P55-Q55 -> 0
A56: - | B56: KP phòng chống thiên tai | D56: =L56 -> 40000000 | L56: 40000000 | R56: =D56-E56-F56-G56-H56-I56-J56-K56-L56-O56-P56-Q56 -> 0
A57: - | B57: Kinh phí hoạt động nông thôn mới (trong đó: Hỗ trợ xóm Bản Đông hoàn thiện các tiêu chí xóm NTM kiểu mẫu: 100 triệu) | D57: =L57 -> 206000000 | L57: =296000000-90000000 -> 206000000 | R57: =D57-E57-F57-G57-H57-I57-J57-K57-L57-O57-P57-Q57 -> 0
A58: - | B58: Chi phí tổ thuỷ lợi cơ sở và hoạt động của BCĐ năm 2025 | D58: 46000000 | L58: 46000000 | R58: =D58-E58-F58-G58-H58-I58-J58-K58-L58-O58-P58-Q58 -> 0
A59: - | B59: Hỗ trợ phát triển cây chè | D59: =L59 -> 350000000 | L59: 350000000 | R59: =D59-E59-F59-G59-H59-I59-J59-K59-L59-O59-P59-Q59 -> 0
A60: - | B60: Kinh phí thực hiện công tác quản lý nhà nước bảo vệ môi trường | D60: =L60 -> 100000000 | L60: 100000000 | R60: =D60-E60-F60-G60-H60-I60-J60-K60-L60-O60-P60-Q60 -> 0
A61: - | B61: Nâng cao năng lực cạnh tranh cấp xã, đối thoại doanh nghiệp, thu hút đầu tư…. | D61: =L61 -> 90000000 | L61: 90000000 | R61: =D61-E61-F61-G61-H61-I61-J61-K61-L61-O61-P61-Q61 -> 0
A62: - | B62: Chi lĩnh vực công thương, đăng ký kinh doanh | D62: =SUM(E62:Q62) -> 68000000 | O62: 68000000 | R62: =D62-E62-F62-G62-H62-I62-J62-K62-L62-O62-P62-Q62 -> 0
A63: - | B63: Lĩnh vực tài chính đầu tư | D63: =SUM(E63:Q63) -> 95000000 | O63: 95000000 | R63: =D63-E63-F63-G63-H63-I63-J63-K63-L63-O63-P63-Q63 -> 0
A64: - | B64: Công tác Kiểm kê đất đai | D64: =SUM(E64:Q64) -> 50000000 | J64: 50000000 | R64: =D64-E64-F64-G64-H64-I64-J64-K64-L64-O64-P64-Q64 -> 0
A65: - | B65: Thống kê đất đai, lập KH sử dụng đất | D65: =SUM(E65:Q65) -> 60915763 | J65: =100000000-39084237 -> 60915763 | R65: =D65-E65-F65-G65-H65-I65-J65-K65-L65-O65-P65-Q65 -> 0
A66: - | B66: Công tác giảm nghèo | D66: =SUM(E66:Q66) -> 65000000 | O66: 65000000 | R66: =D66-E66-F66-G66-H66-I66-J66-K66-L66-O66-P66-Q66 -> 0
A67: - | B67: Đảm bảo xã hội (Tiền điện hộ nghèo, chính sách) | D67: =SUM(E67:Q67) -> 63497536 | P67: 63497536 | R67: =D67-E67-F67-G67-H67-I67-J67-K67-L67-O67-P67-Q67 -> 0
A68: - | B68: KP Chương trình MTQG giảm nghèo bền vững | D68: =SUM(E68:Q68) -> 1009500000 | Q68: 1009500000 | R68: =D68-E68-F68-G68-H68-I68-J68-K68-L68-O68-P68-Q68 -> 0
A69: - | B69: Chuyển đổi số | D69: =SUM(E69:Q69) -> 40000000 | O69: 40000000 | R69: =D69-E69-F69-G69-H69-I69-J69-K69-L69-O69-P69-Q69 -> 0
A70: - | B70: Kinh phí Cứu trợ ban Cứu trợ tỉnh bão YAGI (CT: Xây dựng Tường rào UBND xã Ôn Lương) | D70: =I70 -> 30000000 | I70: 30000000 | R70: =D70-E70-F70-G70-H70-I70-J70-K70-L70-O70-P70-Q70 -> 0
A71: - | B71: Sự nghiệp giáo dục sửa chữa các công trình | D71: 2304000000 | E71: 2304000000 | R71: =D71-E71-F71-G71-H71-I71-J71-K71-L71-O71-P71-Q71 -> 0
A72: - | B72: Sự nghiệp giao thông | D72: =L72 -> 1652000000 | L72: =1804000000-152000000 -> 1652000000 | R72: =D72-E72-F72-G72-H72-I72-J72-K72-L72-O72-P72-Q72 -> 0
A73: - | B73: Hợ bảo vệ, phát triển đất trồng lúa | D73: =L73 -> 672000000 | L73: =702000000-30000000 -> 672000000 | R73: =D73-E73-F73-G73-H73-I73-J73-K73-L73-O73-P73-Q73 -> 0
A74: - | B74: Sự nghiệp thủy lợi | D74: =L74 -> 535000000 | L74: =550000000-15000000 -> 535000000 | R74: =D74-E74-F74-G74-H74-I74-J74-K74-L74-O74-P74-Q74 -> 0
A75: - | B75: Kinh phí Thủy lợi phí | D75: =L75 -> 778000000 | L75: =824000000-46000000 -> 778000000 | R75: =D75-E75-F75-G75-H75-I75-J75-K75-L75-O75-P75-Q75 -> 0
A76: 4 | B76: Trung tâm phục vụ hành chính công | C76: =C77 -> #REF! | D76: =D77+D79 -> 716000000 | E76: =E77+E78+E79 -> 0 | F76: =F77+F78+F79 -> 0 | G76: =G77+G78+G79 -> 0 | H76: =H77+H78+H79 -> 0 | I76: =I77+I78+I79 -> 0 | J76: =J77+J78+J79 -> 0 | K76: =K77+K78+K79 -> 0 | L76: =L77+L78+L79 -> 0 | ... N76: =N77+N78+N79 -> 0 | O76: =O77+O79 -> 716000000 | R76: =D76-E76-F76-G76-H76-I76-J76-K76-L76-O76-P76-Q76 -> 0
A77: - | B77: KP tiền lương, hoạt động, tiền thưởng, phụ cấp CB ko chuyên trách | C77: =E77+F77+G77+H77+#REF!+I77+J77+K77+L77+O77 -> #REF! | D77: =536000000+(6*12000000)+D78 -> 666000000 | O77: =D77 -> 666000000 | R77: =D77-E77-F77-G77-H77-I77-J77-K77-L77-O77-P77-Q77 -> 0
A78: + | B78: Phụ cấp Cán bộ không chuyên trách | D78: 58000000 | O78: 58000000 | R78: =D78-E78-F78-G78-H78-I78-J78-K78-L78-O78-P78-Q78 -> 0
A79: - | B79: Mua sắm VT VP, chuyên môn | D79: =O79 -> 50000000 | O79: 50000000 | R79: =D79-E79-F79-G79-H79-I79-J79-K79-L79-O79-P79-Q79 -> 0
A80: II | B80: KHỐI ĐẢNG, ĐOÀN THỂ | C80: =C81+C91 -> #REF! | D80: =D81+D91 -> #REF! | E80: =E81+E91 -> 0 | F80: =F81+F91 -> 0 | G80: =G81+G91 -> 0 | H80: =H81+H91 -> 0 | I80: =I81+I91 -> 0 | L80: =L81+L91 -> 0 | M80: =M81+M91 -> 0 | N80: =N81+N91 -> 0 | O80: =O81+O91 -> #REF! | R80: =D80-E80-F80-G80-H80-I80-J80-K80-L80-O80-P80-Q80 -> #REF! | W80: =C80-V80 -> #REF! | AB80: 125831 | AC80: =C80-AB80 -> #REF!
A81: 1 | B81: Văn phòng Đảng uỷ | C81: =O81 -> #REF! | D81: =D82+D84+D85+D86+D87+D88+D89+D90 -> #REF! | E81: =E82+E84+E85+E86+E87+E88+E89+E90 -> 0 | F81: =F82+F84+F85+F86+F87+F88+F89+F90 -> 0 | G81: =G82+G84+G85+G86+G87+G88+G89+G90 -> 0 | H81: =H82+H84+H85+H86+H87+H88+H89+H90 -> 0 | I81: =I82+I84+I85+I86+I87+I88+I89+I90 -> 0 | J81: =J82+J84+J85+J86+J87+J88+J89+J90 -> 0 | K81: =K82+K84+K85+K86+K87+K88+K89+K90 -> 0 | ... O81: =O82+O84+O85+O86+O87+O88+O89+O90 -> #REF! | R81: =D81-E81-F81-G81-H81-I81-J81-K81-L81-O81-P81-Q81 -> #REF!
A82: - | B82: KP tiền lương, tiền thưởng, HĐ biên chế, CB không chuyên trách | C82: =E82+F82+G82+H82+#REF!+I82+J82+K82+L82+O82 -> #REF! | D82: =O82 -> 2667000000 | O82: =2274000000+(21*12000000)+30000000+O83 -> 2667000000 | R82: =D82-E82-F82-G82-H82-I82-J82-K82-L82-O82-P82-Q82 -> 0
A83: + | B83: Phụ cấp cán bộ không chuyên trách (04 người) | C83: =E83+F83+G83+H83+#REF!+I83+J83+K83+L83+O83 -> #REF! | D83: 111000000 | O83: 111000000 | R83: =D83-E83-F83-G83-H83-I83-J83-K83-L83-O83-P83-Q83 -> 0
A84: - | B84: Phụ cấp + bảo hiểm Bí thư chi bộ | C84: =E84+F84+G84+H84+#REF!+I84+J84+K84+L84+O84 -> #REF! | D84: =O84 -> #REF! | O84: =#REF! -> #REF! | R84: =D84-E84-F84-G84-H84-I84-J84-K84-L84-O84-P84-Q84 -> #REF!
A85: - | B85: Phụ cấp cấp ủy | C85: =E85+F85+G85+H85+#REF!+I85+J85+K85+L85+O85 -> #REF! | D85: =O85 -> #REF! | O85: =#REF! -> #REF! | R85: =D85-E85-F85-G85-H85-I85-J85-K85-L85-O85-P85-Q85 -> #REF!
A86: - | B86: Hoạt động cấp uỷ, công tác sáp nhập | C86: =E86+F86+G86+H86+#REF!+I86+J86+K86+L86+O86 -> #REF! | D86: =O86 -> 300000000 | O86: 300000000 | R86: =D86-E86-F86-G86-H86-I86-J86-K86-L86-O86-P86-Q86 -> 0
A87: - | B87: Kinh phí Đại hội Đảng bộ xã, đại hội chi bộ cơ quan Đảng | C87: =E87+F87+G87+H87+#REF!+I87+J87+K87+L87+O87 -> #REF! | D87: 785000000 | O87: 785000000 | R87: =D87-E87-F87-G87-H87-I87-J87-K87-L87-O87-P87-Q87 -> 0
A88: - | B88: Tiền công, BH hợp đồng theo Nghị định 111 | C88: =E88+F88+G88+H88+#REF!+I88+J88+K88+L88+O88 -> #REF! | D88: =O88 -> 81000000 | O88: 81000000 | R88: =D88-E88-F88-G88-H88-I88-J88-K88-L88-O88-P88-Q88 -> 0
A89: - | B89: Chế độ CB nghỉ chờ đủ tuổi nghỉ hưu | C89: =E89+F89+G89+H89+#REF!+I89+J89+K89+L89+O89 -> #REF! | D89: 77000000 | O89: 77000000 | R89: =D89-E89-F89-G89-H89-I89-J89-K89-L89-O89-P89-Q89 -> 0
A90: - | B90: Hỗ trợ các Ban đảng + UB kiểm tra Đảng (20 triệu/ban) | D90: =O90 -> 40000000 | O90: 40000000 | R90: =D90-E90-F90-G90-H90-I90-J90-K90-L90-O90-P90-Q90 -> 0
A91: 2 | B91: Uỷ ban MTTQ xã | C91: =C92+C93+C94+C97+C100+C111+C112+C113 -> 2304677432 | D91: =SUM(D114:D125) -> #REF! | E91: =SUM(E114:E123) -> 0 | F91: =SUM(F114:F123) -> 0 | G91: =SUM(G114:G123) -> 0 | H91: =SUM(H114:H123) -> 0 | I91: =SUM(I114:I123) -> 0 | J91: =SUM(J114:J123) -> 0 | K91: =SUM(K114:K123) -> 0 | L91: =SUM(L114:L123) -> 0 | ... N91: =SUM(N114:N123) -> 0 | O91: =SUM(O114:O125) -> #REF! | R91: =D91-E91-F91-G91-H91-I91-J91-K91-L91-O91-P91-Q91 -> #REF!
B92: - MTTQ xã | C92: =O92 -> 794726102 | O92: 794726102 | R92: =D92-E92-F92-G92-H92-I92-J92-K92-L92-O92-P92-Q92 -> -794726102
B93: - Đoàn TNCS Hồ Chí Minh xã | C93: =SUM(E93:P93) -> 435071912 | O93: 435071912 | R93: =D93-E93-F93-G93-H93-I93-J93-K93-L93-O93-P93-Q93 -> -435071912
B94: - Hội Liên hiệp PN xã | C94: =SUM(E94:P94) -> 310736214 | O94: 310736214 | R94: =D94-E94-F94-G94-H94-I94-J94-K94-L94-O94-P94-Q94 -> -310736214
C95: =SUM(E95:P95) -> 0 | R95: =D95-E95-F95-G95-H95-I95-J95-K95-L95-O95-P95-Q95 -> 0
C96: =SUM(E96:P96) -> 0 | R96: =D96-E96-F96-G96-H96-I96-J96-K96-L96-O96-P96-Q96 -> 0
B97: - Hội Nông dân xã | C97: =SUM(E97:P97) -> 276380154 | O97: 276380154 | R97: =D97-E97-F97-G97-H97-I97-J97-K97-L97-O97-P97-Q97 -> -276380154
C98: =SUM(E98:P98) -> 0 | R98: =D98-E98-F98-G98-H98-I98-J98-K98-L98-O98-P98-Q98 -> 0
C99: =SUM(E99:P99) -> 0 | R99: =D99-E99-F99-G99-H99-I99-J99-K99-L99-O99-P99-Q99 -> 0
B100: - Hội Cựu chiến binh xã | C100: =SUM(E100:P100) -> 357854650 | O100: 357854650 | R100: =D100-E100-F100-G100-H100-I100-J100-K100-L100-O100-P100-Q100 -> -357854650
C101: =SUM(E101:P101) -> 0 | R101: =D101-E101-F101-G101-H101-I101-J101-K101-L101-O101-P101-Q101 -> 0
C102: =SUM(E102:P102) -> 0 | R102: =D102-E102-F102-G102-H102-I102-J102-K102-L102-O102-P102-Q102 -> 0
...

Sheet chi tiết đơn vị (gốc)
O1: Phụ biểu số: 04
A2: DỰ TOÁN CHI THƯỜNG XUYÊN CỦA CHO TỪNG ĐƠN VỊ THEO LĨNH VỰC NĂM 2025 SAU ĐIỀU CHỈNH
A3: =#REF! -> #REF!
O5: Đơn vị: đồng
D7: =87333000000-D12 -> #REF! | J7: =50000000-J65 -> 0
A8: STT | B8: Đơn vị/Nội dung | C8: Số được chi từ nguồn ngân sách nhà nước | D8: Tổng dự toán lần 2 | E8: Chi giáo dục - đào tạo và dạy nghề | F8: Chi quốc phòng | G8: Chi an ninh và trật tự an toàn xã hội | H8: Chi văn hóa thông tin, thể thao | I8: Chi sự nghiệp khác | J8: Chi đầu tư từ nguồn thu tiền sử dụng đất | K8: Chi dự phòng | L8: Chi các hoạt động kinh tế | M8: Trong đó | O8: Chi hoạt động của cơ quan quản lý nhà nước, đảng, đoàn thể | P8: Chi bảo đảm xã hội | Q8: Chi chương trình mục tiêu | AB8: Số được chi từ nguồn ngân sách nhà nước
M9: Chi giao thông | N9: Chi nông nghiệp, lâm nghiệp, thủy lợi, thủy sản
A10: A | B10: B | C10: 1 | E10: 2 | F10: 4 | G10: 5 | H10: 7 | I10: 10 | J10: 11 | K10: 12 | L10: 13 | M10: 14 | N10: 15 | O10: 14 | P10: 15 | AB10: 1
C11: =C15+C80+C127+C148+C149 -> #REF! | E11: =E15+E80+E127+E148+E149 -> 40580008000 | F11: =F15+F80+F127+F148+F149 -> 2298090000 | G11: =G15+G80+G127+G148+G149 -> 1374540000 | H11: =H15+H80+H127+H148+H149 -> 377700000 | I11: =I15+I80+I127+I148+I149 -> 776000000 | J11: =J15+J80+J127+J148+J149 -> 1637000000 | K11: =K15+K80+K127+K148+K149 -> 2171000000 | L11: =L15+L80+L127+L148+L149 -> 5110650000 | ... P11: =P15+P80+P127+P148+P149 -> 3059400736
B12: TỔNG SỐ | C12: =C15+C80+C127+C148+C149 -> #REF! | D12: =D15+D80+D127+D148+D149 -> #REF! | E12: =E15+E80+E127+E148+E149 -> 40580008000 | F12: =F15+F80+F127+F148+F149 -> 2298090000 | G12: =G15+G80+G127+G148+G149 -> 1374540000 | H12: =H15+H80+H127+H148+H149 -> 377700000 | I12: =I15+I80+I127+I148+I149 -> 776000000 | J12: =J15+J80+J127+J148+J149 -> 1637000000 | K12: =K15+K149 -> 2171000000 | L12: =L15+L80+L127+L148 -> 5110650000 | M12: =M15+M80+M127+M148 -> 0 | N12: =N15+N80+N127+N148 -> 0 | O12: =O15+O80+O127+O148+O149 -> #REF! | P12: =P15+P80+P127+P148 -> 3059400736 | Q12: =Q15+Q80+Q127+Q148 -> 4312730000 | R12: =D12-E12-F12-G12-H12-I12-J12-K12-L12-O12-P12-Q12 -> #REF! | S12: 0 | T12: 10802 | U12: 6 | V12: 197771 | W12: 108691 | X12: 132716 | Y12: 13630 | Z12: 708475.93 | AB12: 3888526.2 | AC12: 51311 | AD12: 819842 | AE12: 84011 | AF12: 46995
B13: tỉnh Thái Nguyên | Q13: =#REF!+#REF!+Q17+#REF!+#REF!+#REF!+#REF!+#REF!+Q19+#REF!+#REF!+#REF!+#REF!+#REF!+#REF!+Q95+Q98+Q101+#REF!+#REF!+#REF!+#REF!+#REF!+#REF!+#REF!+Q103+Q105+#REF!+#REF!+#REF!+Q107+#REF!+#REF!+#REF!+#REF!+#REF!+#REF!+#REF!+Q109+Q137+Q140+#REF!+#REF!+#REF!+#REF!+#REF!+#REF!+#REF!+#REF!+#REF!+#REF!+#REF! -> #REF! | R13: =D13-E13-F13-G13-H13-I13-J13-K13-L13-O13-P13-Q13 -> #REF! | S13: =#REF!+#REF!+S17+#REF!+#REF!+#REF!+#REF!+#REF!+S19+#REF!+#REF!+#REF!+#REF!+#REF!+#REF!+S95+S98+S101+#REF!+#REF!+#REF!+#REF!+#REF!+#REF!+#REF!+S103+S105+#REF!+#REF!+#REF!+S107+#REF!+#REF!+#REF!+#REF!+#REF!+#REF!+#REF!+S109+S137+S140+#REF!+#REF!+#REF!+#REF!+#REF!+#REF!+#REF!+#REF!+#REF!+#REF!+#REF! -> #REF! | T13: =#REF!+#REF!+T17+#REF!+#REF!+#REF!+#REF!+#REF!+T19+#REF!+#REF!+#REF!+#REF!+#REF!+#REF!+T95+T98+T101+#REF!+#REF!+#REF!+#REF!+#REF!+#REF!+#REF!+T103+T105+#REF!+#REF!+#REF!+T107+#REF!+#REF!+#REF!+#REF!+#REF!+#REF!+#REF!+T109+T137+T140+#REF!+#REF!+#REF!+#REF!+#REF!+#REF!+#REF!+#REF!+#REF!+#REF!+#REF! -> #REF! | U13: =#REF!+#REF!+U17+#REF!+#REF!+#REF!+#REF!+#REF!+U19+#REF!+#REF!+#REF!+#REF!+#REF!+#REF!+U95+U98+U101+#REF!+#REF!+#REF!+#REF!+#REF!+#REF!+#REF!+U103+U105+#REF!+#REF!+#REF!+U107+#REF!+#REF!+#REF!+#REF!+#REF!+#REF!+#REF!+U109+U137+U140+#REF!+#REF!+#REF!+#REF!+#REF!+#REF!+#REF!+#REF!+#REF!+#REF!+#REF! -> #REF! | V13: =#REF!+#REF!+V17+#REF!+#REF!+#REF!+#REF!+#REF!+V19+#REF!+#REF!+#REF!+#REF!+#REF!+#REF!+V95+V98+V101+#REF!+#REF!+#REF!+#REF!+#REF!+#REF!+#REF!+V103+V105+#REF!+#REF!+#REF!+V107+#REF!+#REF!+#REF!+#REF!+#REF!+#REF!+#REF!+V109+V137+V140+#REF!+#REF!+#REF!+#REF!+#REF!+#REF!+#REF!+#REF!+#REF!+#REF!+#REF! -> #REF! | W13: =#REF!+#REF!+W17+#REF!+#REF!+#REF!+#REF!+#REF!+W19+#REF!+#REF!+#REF!+#REF!+#REF!+#REF!+W95+W98+W101+#REF!+#REF!+#REF!+#REF!+#REF!+#REF!+#REF!+W103+W105+#REF!+#REF!+#REF!+W107+#REF!+#REF!+#REF!+#REF!+#REF!+#REF!+#REF!+W109+W137+W140+#REF!+#REF!+#REF!+#REF!+#REF!+#REF!+#REF!+#REF!+#REF!+#REF!+#REF! -> #REF! | X13: =#REF!+#REF!+X17+#REF!+#REF!+#REF!+#REF!+#REF!+X19+#REF!+#REF!+#REF!+#REF!+#REF!+#REF!+X95+X98+X101+#REF!+#REF!+#REF!+#REF!+#REF!+#REF!+#REF!+X103+X105+#REF!+#REF!+#REF!+X107+#REF!+#REF!+#REF!+#REF!+#REF!+#REF!+#REF!+X109+X137+X140+#REF!+#REF!+#REF!+#REF!+#REF!+#REF!+#REF!+#REF!+#REF!+#REF!+#REF! -> #REF! | Y13: =#REF!+#REF!+Y17+#REF!+#REF!+#REF!+#REF!+#REF!+Y19+#REF!+#REF!+#REF!+#REF!+#REF!+#REF!+Y95+Y98+Y101+#REF!+#REF!+#REF!+#REF!+#REF!+#REF!+#REF!+Y103+Y105+#REF!+#REF!+#REF!+Y107+#REF!+#REF!+#REF!+#REF!+#REF!+#REF!+#REF!+Y109+Y137+Y140+#REF!+#REF!+#REF!+#REF!+#REF!+#REF!+#REF!+#REF!+#REF!+#REF!+#REF! -> #REF! | Z13: =#REF!+#REF!+Z17+#REF!+#REF!+#REF!+#REF!+#REF!+Z19+#REF!+#REF!+#REF!+#REF!+#REF!+#REF!+Z95+Z98+Z101+#REF!+#REF!+#REF!+#REF!+#REF!+#REF!+#REF!+Z103+Z105+#REF!+#REF!+#REF!+Z107+#REF!+#REF!+#REF!+#REF!+#REF!+#REF!+#REF!+Z109+Z137+Z140+#REF!+#REF!+#REF!+#REF!+#REF!+#REF!+#REF!+#REF!+#REF!+#REF!+#REF! -> #REF! | ... AF13: =#REF!+#REF!+AF17+#REF!+#REF!+#REF!+#REF!+#REF!+AF19+#REF!+#REF!+#REF!+#REF!+#REF!+#REF!+AF95+AF98+AF101+#REF!+#REF!+#REF!+#REF!+#REF!+#REF!+#REF!+AF103+AF105+#REF!+#REF!+#REF!+AF107+#REF!+#REF!+#REF!+#REF!+#REF!+#REF!+#REF!+AF109+AF137+AF140+#REF!+#REF!+#REF!+#REF!+#REF!+#REF!+#REF!+#REF!+#REF!+#REF!+#REF! -> #REF!
B14: tỉnh Bắc Kạn | Q14: 380455 | R14: =D14-E14-F14-G14-H14-I14-J14-K14-L14-O14-P14-Q14 -> -380455 | S14: 0 | T14: 4573 | U14: 259737 | V14: 38582 | W14: 29396 | X14: 13934 | Y14: 13630 | Z14: 245376 | AB14: 1170247.2 | AC14: 51311 | AD14: 317574 | AE14: 19156 | AF14: 9989
A15: I | B15: KHỐI QUẢN LÝ NHÀ NƯỚC | C15: =C16+C40+C54+C76 -> #REF! | D15: =D16+D40+D54+D76 -> #REF! | E15: =E16+E40+E54+E76 -> 2304000000 | F15: =F16+F40+F54+F76 -> 2298090000 | G15: =G16+G40+G54+G76 -> 1374540000 | H15: =H16+H40+H54+H76 -> 287700000 | I15: =I16+I40+I54+I76 -> 30000000 | J15: =J16+J40+J54+J76 -> 375000000 | K15: =K39 -> 66584450 | L15: =L16+L40+L54+L76 -> 5110650000 | M15: =M16+M40+M54+M76 -> 0 | N15: =N16+N40+N54+N76 -> 0 | O15: =O16+O40+O54+O76 -> #REF! | P15: =P16+P40+P54+P76 -> 3059400736 | Q15: =Q16+Q40+Q54+Q76 -> 1554730000 | R15: =D15-E15-F15-G15-H15-I15-J15-K15-L15-O15-P15-Q15 -> #REF! | S15: 0 | T15: 10162 | U15: 727567 | V15: 197771 | W15: 15735 | X15: 132716 | Y15: 13630 | Z15: 672979.93
A16: 1 | B16: Văn phòng HĐND và UBND | C16: =#REF!+C38 -> #REF! | D16: =SUM(D22:D39) -> #REF! | E16: =SUM(E22:E38) -> 0 | F16: =SUM(F22:F39) -> 2298090000 | G16: =SUM(G22:G39) -> 1374540000 | H16: =SUM(H22:H39) -> 107753380 | I16: =SUM(I22:I39) -> 0 | J16: =SUM(J22:J39) -> 264084237 | K16: =SUM(K22:K39) -> 66584450 | L16: =SUM(L22:L39) -> 254900000 | M16: =SUM(M22:M39) -> 0 | ... Q16: =SUM(Q22:Q39) -> 285640000 | R16: =D16-E16-F16-G16-H16-I16-J16-K16-L16-O16-P16-Q16 -> #REF! | AB16: 54803 | AC16: =C16-AB16 -> #REF!
B17: tỉnh Thái Nguyên | C17: =C38+C40 -> 4963598620 | E17: ='37.01 ĐP'!F21+'37.02 TW'!F23 -> 0 | F17: ='37.01 ĐP'!H21+'37.02 TW'!H23 -> 0 | G17: ='37.01 ĐP'!I21+'37.02 TW'!I23 -> 0 | H17: ='37.01 ĐP'!K21+'37.02 TW'!K23 -> 0 | I17: ='37.01 ĐP'!N21+'37.02 TW'!N23 -> 40000 | L17: ='37.01 ĐP'!O21+'37.02 TW'!O23 -> 250828.93 | M17: ='37.01 ĐP'!P21+'37.02 TW'!P23 -> 0 | N17: ='37.01 ĐP'!Q21+'37.02 TW'!Q23 -> 0 | O17: ='37.01 ĐP'!R21+'37.02 TW'!R23 -> 90846 | P17: ='37.01 ĐP'!S21+'37.02 TW'!S23 -> 0 | Q17: =C17-#REF! -> #REF! | R17: =D17-E17-F17-G17-H17-I17-J17-K17-L17-O17-P17-Q17 -> #REF! | AB17: 326371 | AC17: =C17-AB17 -> 4963272249
B18: tỉnh Bắc Kạn | C18: =C40+C54 -> 13456306119 | E18: ='37.01 ĐP'!F22+'37.02 TW'!F26 -> 0 | F18: ='37.01 ĐP'!H22+'37.02 TW'!H26 -> 0 | G18: ='37.01 ĐP'!I22+'37.02 TW'!I26 -> 0 | H18: ='37.01 ĐP'!K22+'37.02 TW'!K26 -> 0 | I18: ='37.01 ĐP'!N22+'37.02 TW'!N26 -> 16266 | L18: ='37.01 ĐP'!O22+'37.02 TW'!O26 -> 85038 | M18: ='37.01 ĐP'!P22+'37.02 TW'!P26 -> 0 | N18: ='37.01 ĐP'!Q22+'37.02 TW'!Q26 -> 51311 | O18: ='37.01 ĐP'!R22+'37.02 TW'!R26 -> 85271 | P18: ='37.01 ĐP'!S22+'37.02 TW'!S26 -> 0 | Q18: =C18-#REF! -> #REF! | R18: =D18-E18-F18-G18-H18-I18-J18-K18-L18-O18-P18-Q18 -> #REF! | AB18: 167899.16 | AC18: =C18-AB18 -> 1.3456138e+10
B19: tỉnh Thái Nguyên | C19: =C54+C76 -> #REF! | E19: ='37.01 ĐP'!F39+'37.02 TW'!F77 -> 766032 | F19: ='37.01 ĐP'!H39+'37.02 TW'!H77 -> 0 | G19: ='37.01 ĐP'!I39+'37.02 TW'!I77 -> 0 | H19: ='37.01 ĐP'!K39+'37.02 TW'!K77 -> 0 | I19: ='37.01 ĐP'!N39+'37.02 TW'!N77 -> 0 | L19: ='37.01 ĐP'!O39+'37.02 TW'!O77 -> 0 | M19: ='37.01 ĐP'!P39+'37.02 TW'!P77 -> 0 | N19: ='37.01 ĐP'!Q39+'37.02 TW'!Q77 -> 0 | O19: ='37.01 ĐP'!R39+'37.02 TW'!R77 -> 15150 | P19: ='37.01 ĐP'!S39+'37.02 TW'!S77 -> 0 | Q19: =C19-#REF! -> #REF! | R19: =D19-E19-F19-G19-H19-I19-J19-K19-L19-O19-P19-Q19 -> #REF! | W19: =C19-V19 -> #REF! | AB19: 724478 | AC19: =C19-AB19 -> #REF!
B20: tỉnh Bắc Kạn | C20: =C76+C80 -> #REF! | E20: ='37.01 ĐP'!F40+'37.02 TW'!F80 -> 302978 | F20: ='37.01 ĐP'!H40+'37.02 TW'!H80 -> 0 | G20: ='37.01 ĐP'!I40+'37.02 TW'!I80 -> 0 | H20: ='37.01 ĐP'!K40+'37.02 TW'!K80 -> 0 | I20: ='37.01 ĐP'!N40+'37.02 TW'!N80 -> 0 | L20: ='37.01 ĐP'!O40+'37.02 TW'!O80 -> 0 | M20: ='37.01 ĐP'!P40+'37.02 TW'!P80 -> 0 | N20: ='37.01 ĐP'!Q40+'37.02 TW'!Q80 -> 0 | O20: ='37.01 ĐP'!R40+'37.02 TW'!R80 -> 11714 | P20: ='37.01 ĐP'!S40+'37.02 TW'!S80 -> 0 | Q20: =C20-#REF! -> #REF! | R20: =D20-E20-F20-G20-H20-I20-J20-K20-L20-O20-P20-Q20 -> #REF! | W20: =C20-V20 -> #REF! | AB20: 275026 | AC20: =C20-AB20 -> #REF!
A21: - | B21: KP tiền lương, phụ cấp, tiền thưởng, hoạt động, PC đại biểu HĐND, PC cán bộ không chuyên trách | D21: =D22+D23+D24+D25+D26+D27 -> #REF!
A22: + | B22: KP tiền lương, phụ cấp, tiền thưởng, hoạt động | C22: =E22+F22+G22+H22+#REF!+I22+J22+K22+L22+O22+P22 -> #REF! | D22: =SUM(E22:P22) -> 2228909958 | O22: =2062000000+150000000+17825721-915763 -> 2228909958 | R22: =D22-E22-F22-G22-H22-I22-J22-K22-L22-O22-P22-Q22 -> 0
A23: + | B23: Hoạt động biên chế | D23: =SUM(E23:P23) -> 252000000 | O23: =21*12000000 -> 252000000 | R23: =D23-E23-F23-G23-H23-I23-J23-K23-L23-O23-P23-Q23 -> 0
A24: + | B24: Phụ cấp Cán bộ không chuyên trách | D24: =SUM(E24:P24) -> 116000000 | O24: 116000000 | R24: =D24-E24-F24-G24-H24-I24-J24-K24-L24-O24-P24-Q24 -> 0
A25: + | B25: Chế độ, chính sách cho đại biểu HĐND (Phụ cấp ĐBHĐND) | C25: =E25+F25+G25+H25+#REF!+I25+J25+K25+L25+O25+P25 -> #REF! | D25: =SUM(E25:P25) -> 274411800 | O25: 274411800 | R25: =D25-E25-F25-G25-H25-I25-J25-K25-L25-O25-P25-Q25 -> 0
A26: + | B26: Hợp đồng 111 (Lan Anh + Cường) | D26: =SUM(E26:P26) -> 121000000 | O26: =110000000+11000000 -> 121000000 | R26: =D26-E26-F26-G26-H26-I26-J26-K26-L26-O26-P26-Q26 -> 0
A27: + | B27: Phụ cấp TX, phó xóm, bảo hiểm TX | D27: =SUM(E27:P27) -> #REF! | O27: =#REF! -> #REF! | R27: =D27-E27-F27-G27-H27-I27-J27-K27-L27-O27-P27-Q27 -> #REF!
A28: - | B28: Hoạt động HĐND và các kỳ họp | C28: =E28+F28+G28+H28+#REF!+I28+J28+K28+L28+O28+P28 -> #REF! | D28: =SUM(E28:P28) -> 150000000 | O28: 150000000 | R28: =D28-E28-F28-G28-H28-I28-J28-K28-L28-O28-P28-Q28 -> 0
A29: - | B29: Tiền báo ĐB HĐND | D29: =SUM(E29:P29) -> 79462500 | O29: 79462500 | R29: =D29-E29-F29-G29-H29-I29-J29-K29-L29-O29-P29-Q29 -> 0
A30: - | B30: Hoạt động UBND, công tác sáp nhập | C30: =E30+F30+G30+H30+#REF!+I30+J30+K30+L30+O30+P30 -> #REF! | D30: =O30 -> 300000000 | O30: 300000000 | R30: =D30-E30-F30-G30-H30-I30-J30-K30-L30-O30-P30-Q30 -> 0
A31: - | B31: Nghị quyết số 06/2023/NQ-HĐND, ngày 10/5/2023 | C31: =E31+F31+G31+H31+#REF!+I31+J31+K31+L31+O31+P31 -> #REF! | D31: =SUM(E31:P31) -> 21060000 | O31: 21060000 | R31: =D31-E31-F31-G31-H31-I31-J31-K31-L31-O31-P31-Q31 -> 0
A32: - | B32: Kinh phí Đại hội chi bộ Công an, quân sự, UBND xã (công an: 5.382.000đ, quân sự: 936.000đ, cơ quan UBND xã: 9.360.000đ) | C32: =E32+F32+G32+H32+#REF!+I32+J32+K32+L32+O32+P32 -> #REF! | D32: =SUM(E32:P32) -> 15678000 | O32: 15678000 | R32: =D32-E32-F32-G32-H32-I32-J32-K32-L32-O32-P32-Q32 -> 0
A33: - | B33: Đảm bảo xã hội (trợ cấp cho CB xã đã nghỉ việc) | C33: =E33+F33+G33+H33+#REF!+I33+J33+K33+L33+O33+P33 -> #REF! | D33: =SUM(E33:P33) -> 85263600 | P33: 85263600 | R33: =D33-E33-F33-G33-H33-I33-J33-K33-L33-O33-P33-Q33 -> 0
A34: - | B34: Chi quốc phòng | C34: =E34+F34+G34+H34+#REF!+I34+J34+K34+L34+O34+P34 -> #REF! | D34: =SUM(E34:P34) -> 1055786900 | F34: =2298090000-F39 -> 1055786900 | R34: =D34-E34-F34-G34-H34-I34-J34-K34-L34-O34-P34-Q34 -> 0
A35: - | B35: Chi an ninh | C35: =E35+G35+#REF!+H35+#REF!+I35+J35+K35+L35+O35+P35 -> #REF! | D35: =SUM(E35:P35) -> 823972044 | G35: =1374540000-G39 -> 823972044 | R35: =D35-E35-F35-G35-H35-I35-J35-K35-L35-O35-P35-Q35 -> 0
A36: - | B36: Chi mua sắm, sửa chữa phục vụ công tác sáp nhập | D36: 500000000 | O36: 1000000000 | R36: =D36-E36-F36-G36-H36-I36-J36-K36-L36-O36-P36-Q36 -> -500000000
A37: - | B37: Chế độ KCT (Y tế thôn bản thôn bản nghỉ theo NQ 05/2020/NQ-HĐND) | D37: =SUM(E37:P37) -> 8640000 | O37: =8640000 -> 8640000 | R37: =D37-E37-F37-G37-H37-I37-J37-K37-L37-O37-P37-Q37 -> 0 | T37: 4054954888
A38: - | B38: Sự nghiệp khác (03 xã cũ) | D38: =SUM(E38:P38) -> 102900000 | L38: 102900000 | R38: =D38-E38-F38-G38-H38-I38-J38-K38-L38-O38-P38-Q38 -> 0 | T38: 4530611325
A39: - | B39: Tiếp nhận số đã chi 03 xã cũ | D39: =SUM(E39:Q39) -> 12867064121 | F39: 1242303100 | G39: =505567956+45000000 -> 550567956 | H39: =59196000+48557380 -> 107753380 | J39: 264084237 | K39: 66584450 | L39: 152000000 | O39: =10018952051+21000000+314875584-264084237 -> 10090743398 | P39: 107387600 | Q39: 285640000 | R39: =D39-E39-F39-G39-H39-I39-J39-K39-L39-O39-P39-Q39 -> 0 | T39: =4351497908-70000000 -> 4281497908
A40: 2 | B40: Phòng Văn hoá - Xã hội | C40: =SUM(E40:P40) -> 4963598620 | D40: =D41+D42+D43+D44+D45+D46+D47+D48+D49+D50+D51+D52+D53 -> 5395688620 | E40: =E41+E42+E43+E44+E45+E46+E47+E48+E49+E50+E51+E52+E53 -> 0 | F40: =F41+F42+F43+F44+F45+F46+F47+F48+F49+F50+F51+F52+F53 -> 0 | G40: =G41+G42+G43+G44+G45+G46+G47+G48+G49+G50+G51+G52+G53 -> 0 | H40: =H41+H42+H43+H44+H45+H46+H47+H48+H49+H50+H51+H52+H53 -> 179946620 | I40: =I41+I42+I43+I44+I45+I46+I47+I48+I49+I50+I51+I52+I53 -> 0 | J40: =J41+J42+J43+J44+J45+J46+J47+J48+J49+J50+J51+J52+J53 -> 0 | K40: =K41+K42+K43+K44+K45+K46+K47+K48+K49+K50+K51+K52+K53 -> 0 | ... Q40: =Q41+Q42+Q43+Q44+Q45+Q46+Q47+Q48+Q49+Q50+Q51+Q52+Q53 -> 432090000 | R40: =D40-E40-F40-G40-H40-I40-J40-K40-L40-O40-P40-Q40 -> 0 | T40: =SUM(T37:T39) -> 12867064121
A41: - | B41: KP tiền lương, hoạt động, tiền thưởng | C41: =E41+F41+G41+H41+#REF!+I41+J41+K41+L41+O41+P41 -> #REF! | D41: =O41 -> 945000000 | O41: =737000000+(9*12000000)+100000000 -> 945000000 | R41: =D41-E41-F41-G41-H41-I41-J41-K41-L41-O41-P41-Q41 -> 0 | T41: =T40-D39 -> 0
A42: - | B42: Đảm bảo xã hội | C42: =E42+F42+G42+H42+#REF!+I42+J42+K42+L42+O42+P42 -> #REF! | D42: =P42 -> 2738252000 | P42: =3139400736-P33-P54-600-107387000-80000000 -> 2738252000 | R42: =D42-E42-F42-G42-H42-I42-J42-K42-L42-O42-P42-Q42 -> 0
A43: - | B43: Cộng tác viên dân số, y tế thôn bản | C43: =E43+F43+G43+H43+#REF!+I43+J43+K43+L43+O43+P43 -> #REF! | D43: 140400000 | O43: 140400000 | R43: =D43-E43-F43-G43-H43-I43-J43-K43-L43-O43-P43-Q43 -> 0
A44: - | B44: Kinh phí CT MT vùng ĐB DTTS | D44: =Q44 -> 432090000 | Q44: =259590000+172500000 -> 432090000 | R44: =D44-E44-F44-G44-H44-I44-J44-K44-L44-O44-P44-Q44 -> 0
A45: - | B45: Sửa chữa nhà văn hóa xóm | D45: =L45 -> 150000000 | L45: 150000000 | R45: =D45-E45-F45-G45-H45-I45-J45-K45-L45-O45-P45-Q45 -> 0
A46: - | B46: Công tác thi đua khen thưởng | D46: =O46 -> 300000000 | O46: 300000000 | R46: =D46-E46-F46-G46-H46-I46-J46-K46-L46-O46-P46-Q46 -> 0
A47: - | B47: Sự nghiệp văn hoá thông tin, TDTT | C47: =E47+F47+G47+H47+#REF!+I47+J47+K47+L47+O47+P47 -> #REF! | D47: =H47 -> 150946620 | H47: =258700000-H39 -> 150946620 | R47: =D47-E47-F47-G47-H47-I47-J47-K47-L47-O47-P47-Q47 -> 0
A48: - | B48: Dân tộc, tôn giáo | D48: 10000000 | O48: 10000000 | R48: =D48-E48-F48-G48-H48-I48-J48-K48-L48-O48-P48-Q48 -> 0
B49: Kinh phí thuê, quản lý dịch vụ công nghệ thông tin: Hội nghị truyền hình, TSL ) | D49: =H49 -> 29000000 | H49: 29000000 | R49: =D49-E49-F49-G49-H49-I49-J49-K49-L49-O49-P49-Q49 -> 0
B50: Hoạt động công tác y tế, việc làm, giáo dục | D50: =O50 -> 50000000 | O50: 50000000 | R50: =D50-E50-F50-G50-H50-I50-J50-K50-L50-O50-P50-Q50 -> 0
A51: - | B51: Trung thu | D51: =O51 -> 100000000 | O51: 100000000 | R51: =D51-E51-F51-G51-H51-I51-J51-K51-L51-O51-P51-Q51 -> 0
A52: - | B52: Đại hội thể dục thể thao | D52: =O52 -> 150000000 | O52: 150000000 | R52: =D52-E52-F52-G52-H52-I52-J52-K52-L52-O52-P52-Q52 -> 0
A53: - | B53: Chuyển đổi số, KHCN, CCHC | D53: =O53 -> 200000000 | O53: 200000000 | R53: =D53-E53-F53-G53-H53-I53-J53-K53-L53-O53-P53-Q53 -> 0
A54: 3 | B54: Phòng Kinh tế | C54: =SUM(E54:P54) -> 8492707499 | D54: =SUM(D55:D75) -> 9329707499 | E54: =SUM(E55:E75) -> 2304000000 | F54: =SUM(F55:F75) -> 0 | G54: =SUM(G55:G75) -> 0 | H54: =SUM(H55:H75) -> 0 | I54: =SUM(I55:I75) -> 30000000 | J54: =SUM(J55:J75) -> 110915763 | K54: =SUM(K55:K75) -> 0 | ... Q54: =SUM(Q55:Q75) -> 837000000 | R54: =D54-E54-F54-G54-H54-I54-J54-K54-L54-O54-P54-Q54 -> 0
A55: - | B55: KP tiền lương, hoạt động, tiền thưởng | C55: =E55+F55+G55+H55+#REF!+I55+J55+K55+L55+O55 -> #REF! | D55: =O55 -> 1173544200 | O55: =903544200+120000000+150000000 -> 1173544200 | R55: =D55-E55-F55-G55-H55-I55-J55-K55-L55-O55-P55-Q55 -> 0
A56: - | B56: KP phát triển nông nghiệp | D56: =L56 -> 58750000 | L56: =33750000+25000000 -> 58750000 | R56: =D56-E56-F56-G56-H56-I56-J56-K56-L56-O56-P56-Q56 -> 0
A57: - | B57: KP phòng chống thiên tai | D57: =L57 -> 40000000 | L57: 40000000 | R57: =D57-E57-F57-G57-H57-I57-J57-K57-L57-O57-P57-Q57 -> 0
A58: - | B58: Hoạt động nông thôn mới (trong đõ xóm Bản Đông: 150 triệu) | D58: =L58 -> 206000000 | L58: =296000000-90000000 -> 206000000 | R58: =D58-E58-F58-G58-H58-I58-J58-K58-L58-O58-P58-Q58 -> 0
A59: - | B59: Chi phí tổ thuỷ lợi cơ sở và hoạt động của BCĐ năm 2025 | D59: 46000000 | L59: 46000000 | R59: =D59-E59-F59-G59-H59-I59-J59-K59-L59-O59-P59-Q59 -> 0
A60: - | B60: Hỗ trợ phát triển cây chè | D60: =L60 -> 350000000 | L60: 350000000 | R60: =D60-E60-F60-G60-H60-I60-J60-K60-L60-O60-P60-Q60 -> 0
A61: - | B61: Kinh phí thực hiện công tác quản lý nhà nước bảo vệ môi trường | D61: =L61 -> 100000000 | L61: 100000000 | R61: =D61-E61-F61-G61-H61-I61-J61-K61-L61-O61-P61-Q61 -> 0
A62: - | B62: Nâng cao năng lực cạnh tranh cấp xã, đối thoại doanh nghiệp, thu hút đầu tư…. | D62: =L62 -> 90000000 | L62: 90000000 | R62: =D62-E62-F62-G62-H62-I62-J62-K62-L62-O62-P62-Q62 -> 0
A63: - | B63: Chi lĩnh vực công thương, đăng ký kinh doanh | D63: =L63 -> 68000000 | L63: =48000000+20000000 -> 68000000 | R63: =D63-E63-F63-G63-H63-I63-J63-K63-L63-O63-P63-Q63 -> 0
A64: - | B64: Lĩnh vực tài chính đầu tư | D64: =L64 -> 95000000 | L64: 95000000 | R64: =D64-E64-F64-G64-H64-I64-J64-K64-L64-O64-P64-Q64 -> 0
A65: - | B65: Công tác Kiểm kê đất đai | D65: =J65 -> 50000000 | J65: 50000000 | R65: =D65-E65-F65-G65-H65-I65-J65-K65-L65-O65-P65-Q65 -> 0
A66: - | B66: Thống kê đất đai, lập KH sử dụng đất | D66: =J66 -> 60915763 | J66: =100000000-39084237 -> 60915763 | R66: =D66-E66-F66-G66-H66-I66-J66-K66-L66-O66-P66-Q66 -> 0
A67: - | B67: Công tác giảm nghèo | D67: =P67 -> 65000000 | P67: 65000000 | R67: =D67-E67-F67-G67-H67-I67-J67-K67-L67-O67-P67-Q67 -> 0
A68: - | B68: Đảm bảo xã hội (Tiền điện hộ nghèo, chính sách) | D68: =P68 -> 63497536 | P68: 63497536 | R68: =D68-E68-F68-G68-H68-I68-J68-K68-L68-O68-P68-Q68 -> 0
A69: - | B69: KP Chương trình MTQG giảm nghèo bền vững | D69: =Q69 -> 837000000 | Q69: =1009500000-172500000 -> 837000000 | R69: =D69-E69-F69-G69-H69-I69-J69-K69-L69-O69-P69-Q69 -> 0
A70: - | B70: Chuyển đổi số | D70: =O70 -> 40000000 | O70: 40000000 | R70: =D70-E70-F70-G70-H70-I70-J70-K70-L70-O70-P70-Q70 -> 0
A71: - | B71: Vốn Cứu trợ ban Cứu trợ tỉnh bão YAGI (CT: Xây dựng Tường rào UBND xã Ôn Lương) | D71: =I71 -> 30000000 | I71: 30000000 | R71: =D71-E71-F71-G71-H71-I71-J71-K71-L71-O71-P71-Q71 -> 0
A72: - | B72: Sự nghiệp giáo dục đào tạo chi cho công trình | D72: 2304000000 | E72: 2304000000 | R72: =D72-E72-F72-G72-H72-I72-J72-K72-L72-O72-P72-Q72 -> 0
A73: - | B73: Sự nghiệp giao thông chi tiết theo phụ biểu số … | D73: =L73 -> 1652000000 | L73: =1804000000-152000000 -> 1652000000 | R73: =D73-E73-F73-G73-H73-I73-J73-K73-L73-O73-P73-Q73 -> 0
A74: - | B74: KP hỗ trợ bảo vệ, phát triển đất trồng lúa (Sửa chữa kênh Vai Chậu xã Ôn Lương) | D74: =L74 -> 672000000 | L74: =702000000-30000000 -> 672000000 | R74: =D74-E74-F74-G74-H74-I74-J74-K74-L74-O74-P74-Q74 -> 0
A75: - | B75: Kinh phí Thủy lợi phí (chi tiết theo phụ biểu số ...) | D75: =L75 -> 1328000000 | L75: =824000000-46000000+550000000 -> 1328000000 | R75: =D75-E75-F75-G75-H75-I75-J75-K75-L75-O75-P75-Q75 -> 0
A76: 4 | B76: Trung tâm phục vụ hành chính công | C76: =C77 -> #REF! | D76: =D77+D78+D79 -> 716000000 | E76: =E77+E78+E79 -> 0 | F76: =F77+F78+F79 -> 0 | G76: =G77+G78+G79 -> 0 | H76: =H77+H78+H79 -> 0 | I76: =I77+I78+I79 -> 0 | J76: =J77+J78+J79 -> 0 | K76: =K77+K78+K79 -> 0 | ... O76: =O77+O78+O79 -> 716000000 | R76: =D76-E76-F76-G76-H76-I76-J76-K76-L76-O76-P76-Q76 -> 0
A77: - | B77: KP tiền lương, hoạt động, tiền thưởng | C77: =E77+F77+G77+H77+#REF!+I77+J77+K77+L77+O77 -> #REF! | D77: =536000000+(6*12000000) -> 608000000 | O77: =D77 -> 608000000 | R77: =D77-E77-F77-G77-H77-I77-J77-K77-L77-O77-P77-Q77 -> 0
A78: - | B78: Phụ cấp Cán bộ không chuyên trách | D78: 58000000 | O78: 58000000 | R78: =D78-E78-F78-G78-H78-I78-J78-K78-L78-O78-P78-Q78 -> 0
A79: - | B79: Mua sắm VT VP, chuyên môn | D79: =O79 -> 50000000 | O79: 50000000 | R79: =D79-E79-F79-G79-H79-I79-J79-K79-L79-O79-P79-Q79 -> 0
A80: II | B80: KHỐI ĐẢNG, ĐOÀN THỂ | C80: =C81+C91 -> #REF! | D80: =D81+D91 -> #REF! | E80: =E81+E91 -> 0 | F80: =F81+F91 -> 0 | G80: =G81+G91 -> 0 | H80: =H81+H91 -> 0 | I80: =I81+I91 -> 0 | L80: =L81+L91 -> 0 | M80: =M81+M91 -> 0 | N80: =N81+N91 -> 0 | O80: =O81+O91 -> #REF! | R80: =D80-E80-F80-G80-H80-I80-J80-K80-L80-O80-P80-Q80 -> #REF! | W80: =C80-V80 -> #REF! | AB80: 125831 | AC80: =C80-AB80 -> #REF!
A81: 1 | B81: Văn phòng Đảng uỷ | C81: =O81 -> #REF! | D81: =SUM(D82:D90) -> #REF! | O81: =SUM(O82:O90) -> #REF! | R81: =D81-E81-F81-G81-H81-I81-J81-K81-L81-O81-P81-Q81 -> #REF!
A82: - | B82: KP tiền lương, tiền thưởng, HĐ biên chế | C82: =E82+F82+G82+H82+#REF!+I82+J82+K82+L82+O82 -> #REF! | D82: =O82 -> 2556000000 | O82: =2274000000+(21*12000000)+30000000 -> 2556000000 | R82: =D82-E82-F82-G82-H82-I82-J82-K82-L82-O82-P82-Q82 -> 0
A83: - | B83: Phụ cấp cán bộ không chuyên trách (04 người) | C83: =E83+F83+G83+H83+#REF!+I83+J83+K83+L83+O83 -> #REF! | D83: 111000000 | O83: 111000000 | R83: =D83-E83-F83-G83-H83-I83-J83-K83-L83-O83-P83-Q83 -> 0
A84: - | B84: Phụ cấp + bảo hiểm Bí thư chi bộ | C84: =E84+F84+G84+H84+#REF!+I84+J84+K84+L84+O84 -> #REF! | D84: =O84 -> #REF! | O84: =#REF! -> #REF! | R84: =D84-E84-F84-G84-H84-I84-J84-K84-L84-O84-P84-Q84 -> #REF!
A85: - | B85: Phụ cấp cấp ủy | C85: =E85+F85+G85+H85+#REF!+I85+J85+K85+L85+O85 -> #REF! | D85: =O85 -> #REF! | O85: =#REF! -> #REF! | R85: =D85-E85-F85-G85-H85-I85-J85-K85-L85-O85-P85-Q85 -> #REF!
A86: - | B86: Hoạt động cấp uỷ, công tác sáp nhập | C86: =E86+F86+G86+H86+#REF!+I86+J86+K86+L86+O86 -> #REF! | D86: =O86 -> 300000000 | O86: 300000000 | R86: =D86-E86-F86-G86-H86-I86-J86-K86-L86-O86-P86-Q86 -> 0
A87: - | B87: Kinh phí Đại hội Đảng bộ xã, đại hội chi bộ cơ quan Đảng | C87: =E87+F87+G87+H87+#REF!+I87+J87+K87+L87+O87 -> #REF! | D87: 785000000 | O87: 785000000 | R87: =D87-E87-F87-G87-H87-I87-J87-K87-L87-O87-P87-Q87 -> 0
A88: - | B88: Tiền công, BH hợp đồng theo Nghị định 111 | C88: =E88+F88+G88+H88+#REF!+I88+J88+K88+L88+O88 -> #REF! | D88: =O88 -> 81000000 | O88: 81000000 | R88: =D88-E88-F88-G88-H88-I88-J88-K88-L88-O88-P88-Q88 -> 0
A89: - | B89: Chế độ CB nghỉ chờ đủ tuổi nghỉ hưu | C89: =E89+F89+G89+H89+#REF!+I89+J89+K89+L89+O89 -> #REF! | D89: 77000000 | O89: 77000000 | R89: =D89-E89-F89-G89-H89-I89-J89-K89-L89-O89-P89-Q89 -> 0
A90: - | B90: Hỗ trợ các Ban đảng + UB kiểm tra Đảng (20 triệu/ban) | D90: =O90 -> 40000000 | O90: 40000000 | R90: =D90-E90-F90-G90-H90-I90-J90-K90-L90-O90-P90-Q90 -> 0
A91: 2 | B91: Uỷ ban MTTQ xã | C91: =C92+C93+C94+C97+C100+C111+C112+C113 -> 2304677432 | D91: =SUM(D114:D126) -> #REF! | E91: =SUM(E114:E124) -> 0 | F91: =SUM(F114:F124) -> 0 | G91: =SUM(G114:G124) -> 0 | H91: =SUM(H114:H124) -> 0 | I91: =SUM(I114:I124) -> 0 | J91: =SUM(J114:J124) -> 0 | K91: =SUM(K114:K124) -> 0 | L91: =SUM(L114:L124) -> 0 | ... N91: =SUM(N114:N124) -> 0 | O91: =SUM(O114:O126) -> #REF! | R91: =D91-E91-F91-G91-H91-I91-J91-K91-L91-O91-P91-Q91 -> #REF!
B92: - MTTQ xã | C92: =O92 -> 794726102 | O92: 794726102 | R92: =D92-E92-F92-G92-H92-I92-J92-K92-L92-O92-P92-Q92 -> -794726102
B93: - Đoàn TNCS Hồ Chí Minh xã | C93: =SUM(E93:P93) -> 435071912 | O93: 435071912 | R93: =D93-E93-F93-G93-H93-I93-J93-K93-L93-O93-P93-Q93 -> -435071912
B94: - Hội Liên hiệp PN xã | C94: =SUM(E94:P94) -> 310736214 | O94: 310736214 | R94: =D94-E94-F94-G94-H94-I94-J94-K94-L94-O94-P94-Q94 -> -310736214
C95: =SUM(E95:P95) -> 0 | R95: =D95-E95-F95-G95-H95-I95-J95-K95-L95-O95-P95-Q95 -> 0
C96: =SUM(E96:P96) -> 0 | R96: =D96-E96-F96-G96-H96-I96-J96-K96-L96-O96-P96-Q96 -> 0
B97: - Hội Nông dân xã | C97: =SUM(E97:P97) -> 276380154 | O97: 276380154 | R97: =D97-E97-F97-G97-H97-I97-J97-K97-L97-O97-P97-Q97 -> -276380154
C98: =SUM(E98:P98) -> 0 | R98: =D98-E98-F98-G98-H98-I98-J98-K98-L98-O98-P98-Q98 -> 0
C99: =SUM(E99:P99) -> 0 | R99: =D99-E99-F99-G99-H99-I99-J99-K99-L99-O99-P99-Q99 -> 0
B100: - Hội Cựu chiến binh xã | C100: =SUM(E100:P100) -> 357854650 | O100: 357854650 | R100: =D100-E100-F100-G100-H100-I100-J100-K100-L100-O100-P100-Q100 -> -357854650
C101: =SUM(E101:P101) -> 0 | R101: =D101-E101-F101-G101-H101-I101-J101-K101-L101-O101-P101-Q101 -> 0
C102: =SUM(E102:P102) -> 0 | R102: =D102-E102-F102-G102-H102-I102-J102-K102-L102-O102-P102-Q102 -> 0
...

Sheet Chế độ GV, HS
G2: DỰ TOÁN CÁC CHẾ ĐỘ CHÍNH SÁCH KHỐI GIÁO DỤC NĂM 2025
B3: Đơn vị tính: đồng
A4: STT | B4: Đơn vị | C4: Cộng | D4: Cấp bù học phí theo Nghị định 238/NĐ-CP (80.000đ; 90.000đ) | G4: Hỗ trợ chi phí học tập theo NĐ 238/NĐ-CP | J4: KP giảng dạy học sinh khuyết tật theo NĐ 28/2012 | M4: Kinh phí giáo viên dạy thể dục ngoài trời | N4: Kinh phí giáo viên dạy Tiếng anh | O4: Hỗ trợ ăn trưa theo NĐ 105 | P4: Nghị định 66 | R4: Các chế độ cho giáo viên, học sinh theo NĐ 277/2025 | X4: Các chế độ còn lại | Y4: Ghi chú
D5: Số lượng | E5: Định mức | F5: Thành tiền x 09 tháng | G5: Số lượng | H5: Định mức | I5: Thành tiền x 09 tháng | J5: Số lượng | K5: Định mức | L5: Thành tiền x 09 tháng | P5: Hỗ trợ ăn trưa theo NĐ 66/2025 | Q5: Các chế độ khác theo NĐ 66/2025
A6: A | B6: B | D6: 1 | G6: 2 | P6: 4 | Q6: 5 | R6: 6 | Y6: =Y5-#REF! -> #REF!
C7: =SUM(C8:C14) -> 1174350000
A8: 1 | B8: Trường Mầm non Hợp Thành | C8: =F8+I8+L8 -> 0 | E8: 80000 | F8: =(D8*E8)*9 -> 0 | I8: =(G8*H8)*9 -> 0 | L8: =(J8*K8)*9 -> 0 | X8: =27000000+400000 -> 27400000
A9: 2 | B9: Trường Mầm non Phủ Lý | C9: =F9+I9+L9 -> 214560000 | D9: 160 | E9: 80000 | F9: =(D9*E9)*9 -> 115200000 | G9: 15 | H9: 150000 | I9: =(G9*H9)*9 -> 20250000 | J9: 6 | K9: 1465000 | L9: =(J9*K9)*9 -> 79110000 | X9: =27000000+105000 -> 27105000
A10: 3 | B10: Trường Mầm non Ôn Lương | C10: =F10+I10+L10 -> 0 | E10: 80000 | F10: =(D10*E10)*9 -> 0 | H10: 150000 | I10: =(G10*H10)*9 -> 0 | L10: =(J10*K10)*9 -> 0 | X10: =27000000-262000 -> 26738000
A11: 4 | B11: Trường Tiểu học Hợp Thành | C11: =F11+I11+L11 -> 0 | E11: 80000 | F11: =(D11*E11)*9 -> 0 | H11: 150000 | I11: =(G11*H11)*9 -> 0 | L11: =(J11*K11)*9 -> 0 | X11: =27000000-150000 -> 26850000
A12: 5 | B12: Trường Tiểu học Phủ Lý | C12: =F12+I12+L12 -> 0 | E12: 80000 | F12: =(D12*E12)*9 -> 0 | H12: 150000 | I12: =(G12*H12)*9 -> 0 | L12: =(J12*K12)*9 -> 0 | X12: 27000000
A13: 6 | B13: Trường Tiểu học Ôn Lương | C13: =F13+I13+L13+M13+N13 -> 291720000 | D13: 322 | E13: 80000 | F13: =(D13*E13)*9 -> 231840000 | G13: 11 | H13: 150000 | I13: =(G13*H13)*9 -> 14850000 | L13: =(J13*K13)*9 -> 0 | M13: 17230000 | N13: 27800000 | X13: 27000000
A14: 7 | B14: THCS Hợp Thành | C14: =F14+I14+L14 -> 668070000 | D14: 617 | E14: 90000 | F14: =(D14*E14)*9 -> 499770000 | G14: 28 | H14: 150000 | I14: =(G14*H14)*9 -> 37800000 | J14: 29 | K14: 500000 | L14: =(J14*K14)*9 -> 130500000 | X14: =27000000+150000 -> 27150000

Sheet 38,01 TW
A1: PHÒNG TÀI CHÍNH HCSN | I1: Biểu mẫu số 38.1 NSTW | Q1: Biểu mẫu số 38.1 NSTW
A2: DỰ TOÁN CHI CHƯƠNG TRÌNH MỤC TIÊU QUỐC GIA BỔ SUNG TỪ NGÂN SÁCH TRUNG ƯƠNG CHO NGÂN SÁCH CẤP TỈNH NĂM 2025
A3: (Dùng cho ngân sách các cấp chính quyền địa phương)
A4: (Kèm theo Công văn số /STC-HCSN ngày /6/2025 của Sở Tài chính)
J5: Đơn vị: Triệu đồng | Q5: Đơn vị: Triệu đồng
A6: STT | B6: Tên đơn vị (1) | C6: Tổng số | D6: Trong đó | F6: Chương trình mục tiêu quốc gia xây dựng nông thôn mới
D7: Đầu tư phát triển | E7: Kinh phí sự nghiệp | F7: Tổng số | G7: Đầu tư phát triển | J7: Kinh phí sự nghiệp
G8: Tổng số | H8: Vốn trong nước | I8: Vốn ngoài nước | J8: Tổng số | K8: Vốn trong nước | L8: Vốn ngoài nước
A9: A | B9: B | C9: 1= +3 | D9: 2=5+12 | E9: 3=8+15 | F9: 4=5+8 | G9: 5=6+7 | H9: 6 | I9: 7 | J9: 8=9+10 | K9: 9 | L9: 10
B10: TỔNG SỐ | E10: =E11+E12 -> #REF! | J10: =J11+J12 -> #REF! | K10: =K11+K12 -> #REF! | L10: =L11+L12 -> #REF!
